BEGIN:VCALENDAR
VERSION:2.0
PRODID:-//Faverges-Seythenex - ECPv6.15.18//NONSGML v1.0//EN
CALSCALE:GREGORIAN
METHOD:PUBLISH
X-ORIGINAL-URL:https://www.faverges-seythenex.fr
X-WR-CALDESC:Évènements pour Faverges-Seythenex
REFRESH-INTERVAL;VALUE=DURATION:PT1H
X-Robots-Tag:noindex
X-PUBLISHED-TTL:PT1H
BEGIN:VTIMEZONE
TZID:Europe/Paris
BEGIN:DAYLIGHT
TZOFFSETFROM:+0100
TZOFFSETTO:+0200
TZNAME:CEST
DTSTART:19760328T000000
END:DAYLIGHT
BEGIN:STANDARD
TZOFFSETFROM:+0200
TZOFFSETTO:+0100
TZNAME:CET
DTSTART:19760925T230000
END:STANDARD
BEGIN:DAYLIGHT
TZOFFSETFROM:+0100
TZOFFSETTO:+0200
TZNAME:CEST
DTSTART:19770403T010000
END:DAYLIGHT
BEGIN:STANDARD
TZOFFSETFROM:+0200
TZOFFSETTO:+0100
TZNAME:CET
DTSTART:19770925T010000
END:STANDARD
BEGIN:DAYLIGHT
TZOFFSETFROM:+0100
TZOFFSETTO:+0200
TZNAME:CEST
DTSTART:19780402T010000
END:DAYLIGHT
BEGIN:STANDARD
TZOFFSETFROM:+0200
TZOFFSETTO:+0100
TZNAME:CET
DTSTART:19781001T010000
END:STANDARD
BEGIN:DAYLIGHT
TZOFFSETFROM:+0100
TZOFFSETTO:+0200
TZNAME:CEST
DTSTART:19790401T010000
END:DAYLIGHT
BEGIN:STANDARD
TZOFFSETFROM:+0200
TZOFFSETTO:+0100
TZNAME:CET
DTSTART:19790930T010000
END:STANDARD
BEGIN:DAYLIGHT
TZOFFSETFROM:+0100
TZOFFSETTO:+0200
TZNAME:CEST
DTSTART:19800406T010000
END:DAYLIGHT
BEGIN:STANDARD
TZOFFSETFROM:+0200
TZOFFSETTO:+0100
TZNAME:CET
DTSTART:19800928T010000
END:STANDARD
BEGIN:DAYLIGHT
TZOFFSETFROM:+0100
TZOFFSETTO:+0200
TZNAME:CEST
DTSTART:19810329T010000
END:DAYLIGHT
BEGIN:STANDARD
TZOFFSETFROM:+0200
TZOFFSETTO:+0100
TZNAME:CET
DTSTART:19810927T010000
END:STANDARD
BEGIN:DAYLIGHT
TZOFFSETFROM:+0100
TZOFFSETTO:+0200
TZNAME:CEST
DTSTART:19820328T010000
END:DAYLIGHT
BEGIN:STANDARD
TZOFFSETFROM:+0200
TZOFFSETTO:+0100
TZNAME:CET
DTSTART:19820926T010000
END:STANDARD
BEGIN:DAYLIGHT
TZOFFSETFROM:+0100
TZOFFSETTO:+0200
TZNAME:CEST
DTSTART:19830327T010000
END:DAYLIGHT
BEGIN:STANDARD
TZOFFSETFROM:+0200
TZOFFSETTO:+0100
TZNAME:CET
DTSTART:19830925T010000
END:STANDARD
BEGIN:DAYLIGHT
TZOFFSETFROM:+0100
TZOFFSETTO:+0200
TZNAME:CEST
DTSTART:19840325T010000
END:DAYLIGHT
BEGIN:STANDARD
TZOFFSETFROM:+0200
TZOFFSETTO:+0100
TZNAME:CET
DTSTART:19840930T010000
END:STANDARD
BEGIN:DAYLIGHT
TZOFFSETFROM:+0100
TZOFFSETTO:+0200
TZNAME:CEST
DTSTART:19850331T010000
END:DAYLIGHT
BEGIN:STANDARD
TZOFFSETFROM:+0200
TZOFFSETTO:+0100
TZNAME:CET
DTSTART:19850929T010000
END:STANDARD
BEGIN:DAYLIGHT
TZOFFSETFROM:+0100
TZOFFSETTO:+0200
TZNAME:CEST
DTSTART:19860330T010000
END:DAYLIGHT
BEGIN:STANDARD
TZOFFSETFROM:+0200
TZOFFSETTO:+0100
TZNAME:CET
DTSTART:19860928T010000
END:STANDARD
BEGIN:DAYLIGHT
TZOFFSETFROM:+0100
TZOFFSETTO:+0200
TZNAME:CEST
DTSTART:19870329T010000
END:DAYLIGHT
BEGIN:STANDARD
TZOFFSETFROM:+0200
TZOFFSETTO:+0100
TZNAME:CET
DTSTART:19870927T010000
END:STANDARD
BEGIN:DAYLIGHT
TZOFFSETFROM:+0100
TZOFFSETTO:+0200
TZNAME:CEST
DTSTART:19880327T010000
END:DAYLIGHT
BEGIN:STANDARD
TZOFFSETFROM:+0200
TZOFFSETTO:+0100
TZNAME:CET
DTSTART:19880925T010000
END:STANDARD
BEGIN:DAYLIGHT
TZOFFSETFROM:+0100
TZOFFSETTO:+0200
TZNAME:CEST
DTSTART:19890326T010000
END:DAYLIGHT
BEGIN:STANDARD
TZOFFSETFROM:+0200
TZOFFSETTO:+0100
TZNAME:CET
DTSTART:19890924T010000
END:STANDARD
BEGIN:DAYLIGHT
TZOFFSETFROM:+0100
TZOFFSETTO:+0200
TZNAME:CEST
DTSTART:19900325T010000
END:DAYLIGHT
BEGIN:STANDARD
TZOFFSETFROM:+0200
TZOFFSETTO:+0100
TZNAME:CET
DTSTART:19900930T010000
END:STANDARD
BEGIN:DAYLIGHT
TZOFFSETFROM:+0100
TZOFFSETTO:+0200
TZNAME:CEST
DTSTART:19910331T010000
END:DAYLIGHT
BEGIN:STANDARD
TZOFFSETFROM:+0200
TZOFFSETTO:+0100
TZNAME:CET
DTSTART:19910929T010000
END:STANDARD
BEGIN:DAYLIGHT
TZOFFSETFROM:+0100
TZOFFSETTO:+0200
TZNAME:CEST
DTSTART:19920329T010000
END:DAYLIGHT
BEGIN:STANDARD
TZOFFSETFROM:+0200
TZOFFSETTO:+0100
TZNAME:CET
DTSTART:19920927T010000
END:STANDARD
BEGIN:DAYLIGHT
TZOFFSETFROM:+0100
TZOFFSETTO:+0200
TZNAME:CEST
DTSTART:19930328T010000
END:DAYLIGHT
BEGIN:STANDARD
TZOFFSETFROM:+0200
TZOFFSETTO:+0100
TZNAME:CET
DTSTART:19930926T010000
END:STANDARD
BEGIN:DAYLIGHT
TZOFFSETFROM:+0100
TZOFFSETTO:+0200
TZNAME:CEST
DTSTART:19940327T010000
END:DAYLIGHT
BEGIN:STANDARD
TZOFFSETFROM:+0200
TZOFFSETTO:+0100
TZNAME:CET
DTSTART:19940925T010000
END:STANDARD
BEGIN:DAYLIGHT
TZOFFSETFROM:+0100
TZOFFSETTO:+0200
TZNAME:CEST
DTSTART:19950326T010000
END:DAYLIGHT
BEGIN:STANDARD
TZOFFSETFROM:+0200
TZOFFSETTO:+0100
TZNAME:CET
DTSTART:19950924T010000
END:STANDARD
BEGIN:DAYLIGHT
TZOFFSETFROM:+0100
TZOFFSETTO:+0200
TZNAME:CEST
DTSTART:19960331T010000
END:DAYLIGHT
BEGIN:STANDARD
TZOFFSETFROM:+0200
TZOFFSETTO:+0100
TZNAME:CET
DTSTART:19961027T010000
END:STANDARD
BEGIN:DAYLIGHT
TZOFFSETFROM:+0100
TZOFFSETTO:+0200
TZNAME:CEST
DTSTART:19970330T010000
END:DAYLIGHT
BEGIN:STANDARD
TZOFFSETFROM:+0200
TZOFFSETTO:+0100
TZNAME:CET
DTSTART:19971026T010000
END:STANDARD
BEGIN:DAYLIGHT
TZOFFSETFROM:+0100
TZOFFSETTO:+0200
TZNAME:CEST
DTSTART:19980329T010000
END:DAYLIGHT
BEGIN:STANDARD
TZOFFSETFROM:+0200
TZOFFSETTO:+0100
TZNAME:CET
DTSTART:19981025T010000
END:STANDARD
BEGIN:DAYLIGHT
TZOFFSETFROM:+0100
TZOFFSETTO:+0200
TZNAME:CEST
DTSTART:19990328T010000
END:DAYLIGHT
BEGIN:STANDARD
TZOFFSETFROM:+0200
TZOFFSETTO:+0100
TZNAME:CET
DTSTART:19991031T010000
END:STANDARD
BEGIN:DAYLIGHT
TZOFFSETFROM:+0100
TZOFFSETTO:+0200
TZNAME:CEST
DTSTART:20000326T010000
END:DAYLIGHT
BEGIN:STANDARD
TZOFFSETFROM:+0200
TZOFFSETTO:+0100
TZNAME:CET
DTSTART:20001029T010000
END:STANDARD
BEGIN:DAYLIGHT
TZOFFSETFROM:+0100
TZOFFSETTO:+0200
TZNAME:CEST
DTSTART:20010325T010000
END:DAYLIGHT
BEGIN:STANDARD
TZOFFSETFROM:+0200
TZOFFSETTO:+0100
TZNAME:CET
DTSTART:20011028T010000
END:STANDARD
BEGIN:DAYLIGHT
TZOFFSETFROM:+0100
TZOFFSETTO:+0200
TZNAME:CEST
DTSTART:20020331T010000
END:DAYLIGHT
BEGIN:STANDARD
TZOFFSETFROM:+0200
TZOFFSETTO:+0100
TZNAME:CET
DTSTART:20021027T010000
END:STANDARD
BEGIN:DAYLIGHT
TZOFFSETFROM:+0100
TZOFFSETTO:+0200
TZNAME:CEST
DTSTART:20030330T010000
END:DAYLIGHT
BEGIN:STANDARD
TZOFFSETFROM:+0200
TZOFFSETTO:+0100
TZNAME:CET
DTSTART:20031026T010000
END:STANDARD
BEGIN:DAYLIGHT
TZOFFSETFROM:+0100
TZOFFSETTO:+0200
TZNAME:CEST
DTSTART:20040328T010000
END:DAYLIGHT
BEGIN:STANDARD
TZOFFSETFROM:+0200
TZOFFSETTO:+0100
TZNAME:CET
DTSTART:20041031T010000
END:STANDARD
BEGIN:DAYLIGHT
TZOFFSETFROM:+0100
TZOFFSETTO:+0200
TZNAME:CEST
DTSTART:20050327T010000
END:DAYLIGHT
BEGIN:STANDARD
TZOFFSETFROM:+0200
TZOFFSETTO:+0100
TZNAME:CET
DTSTART:20051030T010000
END:STANDARD
BEGIN:DAYLIGHT
TZOFFSETFROM:+0100
TZOFFSETTO:+0200
TZNAME:CEST
DTSTART:20060326T010000
END:DAYLIGHT
BEGIN:STANDARD
TZOFFSETFROM:+0200
TZOFFSETTO:+0100
TZNAME:CET
DTSTART:20061029T010000
END:STANDARD
BEGIN:DAYLIGHT
TZOFFSETFROM:+0100
TZOFFSETTO:+0200
TZNAME:CEST
DTSTART:20070325T010000
END:DAYLIGHT
BEGIN:STANDARD
TZOFFSETFROM:+0200
TZOFFSETTO:+0100
TZNAME:CET
DTSTART:20071028T010000
END:STANDARD
BEGIN:DAYLIGHT
TZOFFSETFROM:+0100
TZOFFSETTO:+0200
TZNAME:CEST
DTSTART:20080330T010000
END:DAYLIGHT
BEGIN:STANDARD
TZOFFSETFROM:+0200
TZOFFSETTO:+0100
TZNAME:CET
DTSTART:20081026T010000
END:STANDARD
BEGIN:DAYLIGHT
TZOFFSETFROM:+0100
TZOFFSETTO:+0200
TZNAME:CEST
DTSTART:20090329T010000
END:DAYLIGHT
BEGIN:STANDARD
TZOFFSETFROM:+0200
TZOFFSETTO:+0100
TZNAME:CET
DTSTART:20091025T010000
END:STANDARD
BEGIN:DAYLIGHT
TZOFFSETFROM:+0100
TZOFFSETTO:+0200
TZNAME:CEST
DTSTART:20100328T010000
END:DAYLIGHT
BEGIN:STANDARD
TZOFFSETFROM:+0200
TZOFFSETTO:+0100
TZNAME:CET
DTSTART:20101031T010000
END:STANDARD
BEGIN:DAYLIGHT
TZOFFSETFROM:+0100
TZOFFSETTO:+0200
TZNAME:CEST
DTSTART:20110327T010000
END:DAYLIGHT
BEGIN:STANDARD
TZOFFSETFROM:+0200
TZOFFSETTO:+0100
TZNAME:CET
DTSTART:20111030T010000
END:STANDARD
BEGIN:DAYLIGHT
TZOFFSETFROM:+0100
TZOFFSETTO:+0200
TZNAME:CEST
DTSTART:20120325T010000
END:DAYLIGHT
BEGIN:STANDARD
TZOFFSETFROM:+0200
TZOFFSETTO:+0100
TZNAME:CET
DTSTART:20121028T010000
END:STANDARD
BEGIN:DAYLIGHT
TZOFFSETFROM:+0100
TZOFFSETTO:+0200
TZNAME:CEST
DTSTART:20130331T010000
END:DAYLIGHT
BEGIN:STANDARD
TZOFFSETFROM:+0200
TZOFFSETTO:+0100
TZNAME:CET
DTSTART:20131027T010000
END:STANDARD
BEGIN:DAYLIGHT
TZOFFSETFROM:+0100
TZOFFSETTO:+0200
TZNAME:CEST
DTSTART:20140330T010000
END:DAYLIGHT
BEGIN:STANDARD
TZOFFSETFROM:+0200
TZOFFSETTO:+0100
TZNAME:CET
DTSTART:20141026T010000
END:STANDARD
BEGIN:DAYLIGHT
TZOFFSETFROM:+0100
TZOFFSETTO:+0200
TZNAME:CEST
DTSTART:20150329T010000
END:DAYLIGHT
BEGIN:STANDARD
TZOFFSETFROM:+0200
TZOFFSETTO:+0100
TZNAME:CET
DTSTART:20151025T010000
END:STANDARD
BEGIN:DAYLIGHT
TZOFFSETFROM:+0100
TZOFFSETTO:+0200
TZNAME:CEST
DTSTART:20160327T010000
END:DAYLIGHT
BEGIN:STANDARD
TZOFFSETFROM:+0200
TZOFFSETTO:+0100
TZNAME:CET
DTSTART:20161030T010000
END:STANDARD
BEGIN:DAYLIGHT
TZOFFSETFROM:+0100
TZOFFSETTO:+0200
TZNAME:CEST
DTSTART:20170326T010000
END:DAYLIGHT
BEGIN:STANDARD
TZOFFSETFROM:+0200
TZOFFSETTO:+0100
TZNAME:CET
DTSTART:20171029T010000
END:STANDARD
BEGIN:DAYLIGHT
TZOFFSETFROM:+0100
TZOFFSETTO:+0200
TZNAME:CEST
DTSTART:20180325T010000
END:DAYLIGHT
BEGIN:STANDARD
TZOFFSETFROM:+0200
TZOFFSETTO:+0100
TZNAME:CET
DTSTART:20181028T010000
END:STANDARD
BEGIN:DAYLIGHT
TZOFFSETFROM:+0100
TZOFFSETTO:+0200
TZNAME:CEST
DTSTART:20190331T010000
END:DAYLIGHT
BEGIN:STANDARD
TZOFFSETFROM:+0200
TZOFFSETTO:+0100
TZNAME:CET
DTSTART:20191027T010000
END:STANDARD
BEGIN:DAYLIGHT
TZOFFSETFROM:+0100
TZOFFSETTO:+0200
TZNAME:CEST
DTSTART:20200329T010000
END:DAYLIGHT
BEGIN:STANDARD
TZOFFSETFROM:+0200
TZOFFSETTO:+0100
TZNAME:CET
DTSTART:20201025T010000
END:STANDARD
BEGIN:DAYLIGHT
TZOFFSETFROM:+0100
TZOFFSETTO:+0200
TZNAME:CEST
DTSTART:20210328T010000
END:DAYLIGHT
BEGIN:STANDARD
TZOFFSETFROM:+0200
TZOFFSETTO:+0100
TZNAME:CET
DTSTART:20211031T010000
END:STANDARD
BEGIN:DAYLIGHT
TZOFFSETFROM:+0100
TZOFFSETTO:+0200
TZNAME:CEST
DTSTART:20220327T010000
END:DAYLIGHT
BEGIN:STANDARD
TZOFFSETFROM:+0200
TZOFFSETTO:+0100
TZNAME:CET
DTSTART:20221030T010000
END:STANDARD
BEGIN:DAYLIGHT
TZOFFSETFROM:+0100
TZOFFSETTO:+0200
TZNAME:CEST
DTSTART:20230326T010000
END:DAYLIGHT
BEGIN:STANDARD
TZOFFSETFROM:+0200
TZOFFSETTO:+0100
TZNAME:CET
DTSTART:20231029T010000
END:STANDARD
BEGIN:DAYLIGHT
TZOFFSETFROM:+0100
TZOFFSETTO:+0200
TZNAME:CEST
DTSTART:20240331T010000
END:DAYLIGHT
BEGIN:STANDARD
TZOFFSETFROM:+0200
TZOFFSETTO:+0100
TZNAME:CET
DTSTART:20241027T010000
END:STANDARD
BEGIN:DAYLIGHT
TZOFFSETFROM:+0100
TZOFFSETTO:+0200
TZNAME:CEST
DTSTART:20250330T010000
END:DAYLIGHT
BEGIN:STANDARD
TZOFFSETFROM:+0200
TZOFFSETTO:+0100
TZNAME:CET
DTSTART:20251026T010000
END:STANDARD
BEGIN:DAYLIGHT
TZOFFSETFROM:+0100
TZOFFSETTO:+0200
TZNAME:CEST
DTSTART:20260329T010000
END:DAYLIGHT
BEGIN:STANDARD
TZOFFSETFROM:+0200
TZOFFSETTO:+0100
TZNAME:CET
DTSTART:20261025T010000
END:STANDARD
END:VTIMEZONE
BEGIN:VEVENT
DTSTART;TZID=Europe/Paris:20260420T150145
DTEND;TZID=Europe/Paris:20250726T210000
DTSTAMP:20260420T150145
CREATED:20250722T063912Z
LAST-MODIFIED:20250722T064122Z
UID:35314-0-1753563600@www.faverges-seythenex.fr
SUMMARY:Concert "CompiGroup'"
DESCRIPTION:
URL:https://www.faverges-seythenex.fr/event/concert-compigroup/
LOCATION:Val de Tamié\, 255 route des Noyers - Les Combes\, Faverges-Seythenex\, 74210\, France
CATEGORIES:Musique
ATTACH;FMTTYPE=image/jpeg:https://www.faverges-seythenex.fr/wp-content/uploads/2025/07/Unknown-1.jpeg
END:VEVENT
BEGIN:VEVENT
DTSTART;TZID=Europe/Paris:20180905T203000
DTEND;TZID=Europe/Paris:20180905T223000
DTSTAMP:20260420T150145
CREATED:20180831T140722Z
LAST-MODIFIED:20180831T140722Z
UID:7774-1536179400-1536186600@www.faverges-seythenex.fr
SUMMARY:Cinéma : "Une famille italienne"
DESCRIPTION:Comédie de G. Mussino avec S. Accorsi\, C. Crescentini… \nUne famille italienne se réunit sur une petite île pour célébrer les 50 ans de mariage de leurs aînés\, Pietro et Alba. Lorsqu’un orage inattendu les surprend\, tous les membres de la famille sont contraints de cohabiter pendant deux jours et deux nuits. Cette cohabitation forcée ravive bientôt les disputes oubliées et les vieux conflits\, transformant l’île en véritable labyrinthe des passions.
URL:https://www.faverges-seythenex.fr/event/cinema-une-famille-italienne/
END:VEVENT
BEGIN:VEVENT
DTSTART;TZID=Europe/Paris:20180908T090000
DTEND;TZID=Europe/Paris:20180908T170000
DTSTAMP:20260420T150145
CREATED:20180831T141648Z
LAST-MODIFIED:20180906T140049Z
UID:7777-1536397200-1536426000@www.faverges-seythenex.fr
SUMMARY:Forum des associations
DESCRIPTION:Retrouvez les associations de Faverges-Seythenex à la salle polyvalente pour faire le plein d’informations. Seront présentes :\n– Les Z’Eclatés\n– Kendo Faverges\n– Rugby Club\n– Comité de jumelage\n– Groupe Nature\n– Faverges Basket\n– Club des Cœurs Joyeux\n– Gym Loisirs\n– Histoire et Patrimoine des Pays du Bout du Lac\n– Ecole de musique\n– Cyclos de Faverges\n– Judo Club\n– Shotokan Karate\n– Lez’Arts du Bout du Lac\n– Jeunes Sapeurs-Pompiers\n– Accro2Gym\n– Badminton Club\n– La Soierie\n– Rando Soierie\n– Pays de Faverges Environnement\n– AMAP\n– Espérance Favergienne\n– Club Aquatique International de Doussard\n– Twirling Bâton\n– Mouv’ Fit et Folie\n– Aid’ Santé\n– Numérica Photos Club\n– Demi-Pointes\n– Ta Cheng Chuan\n– Tennis Club\n– Association Solidarité avec les Travailleurs Immigrés\n– Club Alpin Français\n– Rando Faverges\n– Gym’Rythm\n– Atelier artistique du Pays de Faverges. \nBuvette assurée par Mairie qui rit\nRepas préparé par Les Z’éclatés : macédoine\, poulet basquaise et cœur de blé\, pain et fromage\, tarte aux fruits. \nEntrée gratuite. \n  \n 
URL:https://www.faverges-seythenex.fr/event/forum-des-associations-2/
LOCATION:Salle polyvalente
ATTACH;FMTTYPE=image/png:https://www.faverges-seythenex.fr/wp-content/uploads/2018/08/forum.png
END:VEVENT
BEGIN:VEVENT
DTSTART;TZID=Europe/Paris:20180910T100000
DTEND;TZID=Europe/Paris:20180910T150000
DTSTAMP:20260420T150145
CREATED:20180831T082310Z
LAST-MODIFIED:20180831T082420Z
UID:7747-1536573600-1536591600@www.faverges-seythenex.fr
SUMMARY:Braderie de la solidarité
DESCRIPTION:du Secours Populaire Français :\nLivres\, bric à brac\, vêtements…\n\n\nLundi 10 septembre de 10h à 15h au sous-sol de La Soierie.
URL:https://www.faverges-seythenex.fr/event/braderie-de-la-solidarite-du-secours-populaire-francais/
ATTACH;FMTTYPE=image/jpeg:https://www.faverges-seythenex.fr/wp-content/uploads/2018/06/31934902_2106224206275854_7285218356058128384_o.jpg
END:VEVENT
BEGIN:VEVENT
DTSTART;VALUE=DATE:20180911
DTEND;VALUE=DATE:20180930
DTSTAMP:20260420T150145
CREATED:20180831T142335Z
LAST-MODIFIED:20180904T145402Z
UID:7781-1536624000-1538265599@www.faverges-seythenex.fr
SUMMARY:Exposition de peinture
DESCRIPTION:de Jean-Paul Boymond\, peintre amateur favergien. \nVernissage le mardi 11 septembre à 17h30 à la médiathèque. \nEntrée libre
URL:https://www.faverges-seythenex.fr/event/exposition-de-peinture-2/
LOCATION:Médiathèque de Faverges\, Rue Tissot-Dupont\, FAVERGES\, 74210
ATTACH;FMTTYPE=image/jpeg:https://www.faverges-seythenex.fr/wp-content/uploads/2018/08/boymondWEB.jpg
END:VEVENT
BEGIN:VEVENT
DTSTART;TZID=Europe/Paris:20180912T170000
DTEND;TZID=Europe/Paris:20180912T190000
DTSTAMP:20260420T150145
CREATED:20180831T143206Z
LAST-MODIFIED:20180831T143206Z
UID:7788-1536771600-1536778800@www.faverges-seythenex.fr
SUMMARY:Cinéma "Le France"
DESCRIPTION:Documentaire de S. Santini raconté par A. Dussolier \nAujourd’hui\, sur le lac d’Annecy\, la silhouette du France a disparu mais son histoire continue\, intacte\, mystérieuse aussi. Le dernier vapeur du lac a sombré dans la nuit du 12 au 13 mars 1971 sans témoin ni raison apparente. Il repose aujourd’hui par 42 mètres de fond. Le France est à lui seul un livre d’histoire. À chaque page\, le parfum d’une époque\, les stigmates et les larmes des deux guerres\, l’essor du tourisme\, les années 1930\, les folies des années 1960.
URL:https://www.faverges-seythenex.fr/event/cinema-le-france/
END:VEVENT
BEGIN:VEVENT
DTSTART;TZID=Europe/Paris:20180912T203000
DTEND;TZID=Europe/Paris:20180912T223000
DTSTAMP:20260420T150145
CREATED:20180831T143551Z
LAST-MODIFIED:20180831T143551Z
UID:7791-1536784200-1536791400@www.faverges-seythenex.fr
SUMMARY:Cinéma : "Woman at war"
DESCRIPTION:Comédie de B. Erlingsson Avec H. Geirhardsdottir\, J. Sigur›arson… \nHalla\, la cinquantaine\, déclare la guerre à l’industrie locale de l’aluminium\, qui défigure son pays. Elle prend tous les risques pour protéger les Hautes Terres d’Islande… Mais la situation pourrait changer avec l’arrivée inattendue d’une petite orpheline dans sa vie…
URL:https://www.faverges-seythenex.fr/event/cinema-woman-at-war/
END:VEVENT
BEGIN:VEVENT
DTSTART;VALUE=DATE:20180915
DTEND;VALUE=DATE:20180917
DTSTAMP:20260420T150145
CREATED:20180831T151156Z
LAST-MODIFIED:20180913T121009Z
UID:7794-1536969600-1537142399@www.faverges-seythenex.fr
SUMMARY:Fête du patrimoine
DESCRIPTION:Profitez de la 35ème édition des Journées du patrimoine pour découvrir les trésors du Pays de Faverges\, avec les Amis de Viuz-Faverges.\nAU PROGRAMME : \nFAVERGES-SEYTHENEX \n\nMusée archéologique de Viuz-Faverges\nGuides à disposition dans chaque salle pour répondre à vos questions. Deux expositions temporaires : «Antiquités du Moyen-Orient\, de l’âge du Bronze à Byzance»\, «Les grandes dates du Pays de Faverges de 1318 à nos jours».\nOuvert de 14h à 18h30\, samedi 15 et dimanche 16. Visite libre avec remise d’un livret.\n\n\nÉglise Saint-Jean-Baptiste de Viuz\nMonument historique\, choeur roman du XIIème siècle\, stalle et fonds baptismaux baroques\, crypte archéologique avec vestiges d’un bâtiment romain et d’églises des VI\, VIII et Xème siècles. Visites guidées toutes les heures à partir de 14h (dernier départ à 18h)\, samedi 15 et dimanche 16.\n\n\nChâteau – Donjon des seigneurs de Faverges\nComprendre l’architecture\, l’histoire des propriétaires et la formation de la vallée par le biais d’une lecture de paysage… Exposition temporaire : «Une dynastie européenne millénaire\, la maison royale de Savoie»\, 44 portraits des souverains qui ont fait l’histoire de Savoie».\nVisite commentée et / ou libre du hourd samedi 15 de 10h à 16h (dernière montée à 15h40) et dimanche 16 de 14h à 18h.\nFaverges au fil de l’eau \nAccompagnés de nos guides du patrimoine Savoie Mont-Blanc\, le circuit permet de comprendre le rôle de l’eau dans le développement de la ville. Les aspects historiques et géologiques seront abordés. Visite guidée dimanche 16 à 10h. Rendez-vous devant l’Office de Tourisme place Piquand.\nChapelle des Combes \nVisite guidée de la chapelle des Combes de 10h à 16h.\nÉglise Saint-Sigismond de Seythenex et clocher\nVisites guidées de 14h à 17h.\nL‘église Saint-Sigismond de Seythenex ouvre ses portes et ses secrets. Au-delà de son magnifique retable\, c’est l’histoire intime du village qui est révélée dans cette visite guidée par deux bénévoles. Dans les entrailles du clocher\, vous pourrez découvrir l’ancienne église du village\, jusqu’à sa reconstruction en 1851\, après de longues tergiversations.\n\n\nVERTHIER \nL’Amicale des hameaux de Verthier – Sollier – La Reisse organise le samedi 15 septembre avec les Guides du Patrimoine Savoie Mont-Blanc et les Amis de Viuz-Faverges une journée visite et d’animations autour du four : \n\nToute la journée : Vente de pains et tartes cuits au four ; assiette de fromage du terroir\, bugnes maison et buvette.\nVente de brioches réalisées par Jade Genin championne du monde catégorie brioche des jeunes de moins de 25 ans et médaillée d’argent au concours national des meilleurs jeunes boulangers de France.\n10h30 : Lecture au fil de l’eau par l’auteure Isabelle Millet-Ursin le long de l’Eau Morte du vieux pont à Sollier. Rendez-vous devant le pont.\n14h30 : Visite «Verthier au fil de l’histoire» commentée par un guide du patrimoine Savoie Mont-Blanc.\nLe lieu a inspiré les peintres Prosper Dunant et Firmin Salabert. Le circuit vous permet de remonter au temps où le vieux pont (XIIIème siècle). Rendez-vous devant le pont.\nÀ partir de 16h sur le pont de Verthier : Danses et chants folkloriques savoyards par le groupe «Lou Gapians du Pratz.»\n\nToutes les visites sont gratuites. Pas de réservation préalable. Renseignements : 04 50 32 45 99 / musee.archeoloviuz@free.fr \n 
URL:https://www.faverges-seythenex.fr/event/fete-du-patrimoine-2/
ATTACH;FMTTYPE=image/jpeg:https://www.faverges-seythenex.fr/wp-content/uploads/2018/08/patrimoine-2018.jpg
END:VEVENT
BEGIN:VEVENT
DTSTART;TZID=Europe/Paris:20180916T110000
DTEND;TZID=Europe/Paris:20180916T180000
DTSTAMP:20260420T150145
CREATED:20180907T141558Z
LAST-MODIFIED:20180907T141558Z
UID:7840-1537095600-1537120800@www.faverges-seythenex.fr
SUMMARY:72ème congrès des sapeurs-pompiers de la Haute-Savoie
DESCRIPTION:11h cérémonie\, parc Simon Berger.\n11h30 défilé motorisé\, rue de la République.\nDe 14h à 18h démonstrations et animations diverses (mur escalade\, don du sang\, stands de vente\, parcours enfants…).\nRestauration et buvette sur place.\n\n 
URL:https://www.faverges-seythenex.fr/event/72eme-congres-des-sapeurs-pompiers-de-la-haute-savoie/
LOCATION:Salle polyvalente
ATTACH;FMTTYPE=image/jpeg:https://www.faverges-seythenex.fr/wp-content/uploads/2018/09/2018-Affiche-congrès-GP.jpg
END:VEVENT
BEGIN:VEVENT
DTSTART;TZID=Europe/Paris:20180918T203000
DTEND;TZID=Europe/Paris:20180918T220000
DTSTAMP:20260420T150145
CREATED:20180831T085105Z
LAST-MODIFIED:20180831T085253Z
UID:7718-1537302600-1537308000@www.faverges-seythenex.fr
SUMMARY:Cinéma : "Neuilly sa mère\, sa mère !"
DESCRIPTION:Un film de Gabriel Julien Lafferrière \nAvec Samy Seghir\, Sophia Aram\, Jérémy Denisty\, Valérie Lemercier\, Denis Podalydès\, … \nGenre: Comédie \nDurée: 1h42′ \nEn 2008\, Sami Benboudaoud découvrait l’enfer de Neuilly-sur-Seine !\nDix ans plus tard\, alors que tout va pour le mieux pour Sami qui termine brillamment ses études de sciences politiques\, plus rien ne va pour son cousin Charles de Chazelle. Depuis la défaite de son idole Sarkozy aux présidentielles\, il a sombré dans une profonde dépression quand sa famille perd toute sa fortune et doit quitter Neuilly. Rejetés de tous\, les Chazelle trouvent refuge chez Sami\, cité Picasso\, à Nanterre !\nDès lors\, pour Sami et les habitants de sa cité\, la vie ne sera plus jamais un long fleuve tranquille. \n Voir la bande annonce
URL:https://www.faverges-seythenex.fr/event/cinema-neuilly-sa-mere-sa-mere/
LOCATION:Foyer rural de Seythenex\, 2055 route des Grottes\, Seythenex\, 74210\, France
CATEGORIES:Cinéma
ATTACH;FMTTYPE=image/jpeg:https://www.faverges-seythenex.fr/wp-content/uploads/2018/08/Neuilly-1.jpg
END:VEVENT
BEGIN:VEVENT
DTSTART;TZID=Europe/Paris:20180919T203000
DTEND;TZID=Europe/Paris:20180919T230000
DTSTAMP:20260420T150145
CREATED:20180907T143649Z
LAST-MODIFIED:20180907T143649Z
UID:7848-1537389000-1537398000@www.faverges-seythenex.fr
SUMMARY:Cinéma : "Blackkklansman"
DESCRIPTION:Au début des années 70\, au plus fort de la lutte pour les droits civiques\, plusieurs émeutes raciales éclatent dans les grandes villes des États-Unis. Il devient le premier officier \nNoir américain du Colorado Springs Police Department\, mais son arrivée est accueillie avec scepticisme\, par les agents les moins gradés du commissariat. Stallworth va tenter de faire bouger les lignes et\, peut-être\, de laisser une trace dans l’histoire. Il se fixe alors une mission : infiltrer le Ku Klux Klan pour en dénoncer les exactions. \nComédie de Spike Lee avec J. D. Washington\, A. Driver\, T. Grace
URL:https://www.faverges-seythenex.fr/event/cinema-blackkklansman/
ATTACH;FMTTYPE=image/jpeg:https://www.faverges-seythenex.fr/wp-content/uploads/2018/09/e41ddc0408fef7f1926eeba56200c5f3db095d7c.jpg
END:VEVENT
BEGIN:VEVENT
DTSTART;TZID=Europe/Paris:20180922T100000
DTEND;TZID=Europe/Paris:20180922T120000
DTSTAMP:20260420T150145
CREATED:20180907T143859Z
LAST-MODIFIED:20180907T144816Z
UID:7852-1537610400-1537617600@www.faverges-seythenex.fr
SUMMARY:Conférence « Mes premiers pas en permaculture »
DESCRIPTION:avec Laurent Thierry\, créateur du Potager des Castors à Doussard\, membre du mouvement des Colibris. \nEchange de graines avec la grainothèque. \nSamedi 22 septembre à 10h à la médiathèque.  \nEntrée libre. Pot offert !
URL:https://www.faverges-seythenex.fr/event/conference-mes-premiers-pas-en-permaculture/
ATTACH;FMTTYPE=image/jpeg:https://www.faverges-seythenex.fr/wp-content/uploads/2018/09/conférencePermacultureweb.jpg
END:VEVENT
BEGIN:VEVENT
DTSTART;TZID=Europe/Paris:20180922T203000
DTEND;TZID=Europe/Paris:20180922T220000
DTSTAMP:20260420T150145
CREATED:20180813T145632Z
LAST-MODIFIED:20180813T145910Z
UID:7692-1537648200-1537653600@www.faverges-seythenex.fr
SUMMARY:Concert "Les têtes de Linettes"
DESCRIPTION:Chanson française poétique et décalée \nLes Têtes de Linettes\, un concert-spectacle surprenant et détonnant entre folie douce et émotions. Le pétillant\, la générosité et l’humour de Julie\, Lia et Fanette offrent un spectacle haut en couleurs !\nDes compositions originales qui voyagent d’un style à l’autre\, entre chanson française\, swing\, reggae\, gospel\, bossa\, musique du monde. Trois voix enrichies d’un habillage instrumental original\, piano\, clarinette\, trombone\, guitare\, multiples percussions et autres instruments insolites.\nDes jeux de décors\, de costumes et de lumières\, le tout mis en scène avec fraîcheur et subtilité.\nLa complicité de ces trois auteurs compositeurs et interprètes donne vie à un concert-spectacle à voir et à revoir. Entrez dans un monde poétique et décalé. \nEmbarquez sur “la planète Linettes” ! \nTarif : 10 €\nTarif réduit (moins de 25 ans\, chômeurs\, étudiants\, groupe de plus de 10 personnes) : 8 €. \nSpectacle organisé par la ville de Faverges-Seythenex \n  \n  \n 
URL:https://www.faverges-seythenex.fr/event/concert-les-tetes-de-linettes/
LOCATION:Foyer municipal – La Soierie\, 141 route d'Albertville\, Faverges-Seythenex\, 74210\, France
ATTACH;FMTTYPE=image/jpeg:https://www.faverges-seythenex.fr/wp-content/uploads/2018/08/tetes-linettes.jpg
END:VEVENT
BEGIN:VEVENT
DTSTART;TZID=Europe/Paris:20180923T080000
DTEND;TZID=Europe/Paris:20180923T170000
DTSTAMP:20260420T150145
CREATED:20180907T145822Z
LAST-MODIFIED:20180907T145822Z
UID:7867-1537689600-1537722000@www.faverges-seythenex.fr
SUMMARY:Vide-greniers du Sou des écoles
DESCRIPTION:Organisé par le Sou des écoles de Faverges. \nLes bulletins d’inscription sont disponibles sur la page Facebook du Sou des écoles. \nPetite restauration sur place.
URL:https://www.faverges-seythenex.fr/event/vide-greniers-du-sou-des-ecoles/
LOCATION:Place Joseph Serand
ATTACH;FMTTYPE=image/jpeg:https://www.faverges-seythenex.fr/wp-content/uploads/2018/09/affiche-vide-grenier.jpg
END:VEVENT
BEGIN:VEVENT
DTSTART;TZID=Europe/Paris:20180926T203000
DTEND;TZID=Europe/Paris:20180926T230000
DTSTAMP:20260420T150145
CREATED:20180907T145036Z
LAST-MODIFIED:20180907T145036Z
UID:7860-1537993800-1538002800@www.faverges-seythenex.fr
SUMMARY:Cinéma "Guy"
DESCRIPTION:Comédie de A. Lutz avec A. Lutz\, T. Dingler\, P. Arbillot \nGauthier\, un jeune journaliste\, apprend par sa mère qu’il serait le fils illégitime de Guy Jamet\, un artiste de variété française ayant eu son heure de gloire entre les années 60 et 90. Celui-ci est justement en train de sortir un album de reprises et de faire une tournée. Gauthier décide de le suivre\, caméra au poing\, pour en faire un portrait documentaire.
URL:https://www.faverges-seythenex.fr/event/cinema-guy/
ATTACH;FMTTYPE=image/jpeg:https://www.faverges-seythenex.fr/wp-content/uploads/2018/09/4-Guy.jpg
END:VEVENT
BEGIN:VEVENT
DTSTART;VALUE=DATE:20180929
DTEND;VALUE=DATE:20181001
DTSTAMP:20260420T150145
CREATED:20180907T150632Z
LAST-MODIFIED:20180907T150632Z
UID:7880-1538179200-1538351999@www.faverges-seythenex.fr
SUMMARY:Expo d'automne
DESCRIPTION:L’automne sous toutes ses formes ! \nQue ce soit les champignons\, les fleurs\, les plantes\, les baies ou même les traces d’animaux ; \nvenez partager l’expérience du Groupe Nature de Faverges sur le sujet.
URL:https://www.faverges-seythenex.fr/event/expo-dautomne-2/
LOCATION:Salle polyvalente
ATTACH;FMTTYPE=image/jpeg:https://www.faverges-seythenex.fr/wp-content/uploads/2018/09/mushrooms-548360_1280.jpg
END:VEVENT
BEGIN:VEVENT
DTSTART;TZID=Europe/Paris:20180929T203000
DTEND;TZID=Europe/Paris:20180929T223000
DTSTAMP:20260420T150145
CREATED:20180907T151144Z
LAST-MODIFIED:20180907T151144Z
UID:7884-1538253000-1538260200@www.faverges-seythenex.fr
SUMMARY:Musique "Soleo"
DESCRIPTION:Ouverture de saison à La Soierie \nOn se réveille et on s’éveille ! Plongés dans le monde du travail\, trois individus cherchent à concilier rêve et réalité\, à changer le regard qu’ils portent sur la vie\, jusqu’à transcender les contraintes du quotidien. Ils s’activent\, se recontrent\, se percutent et confrontent leurs univers en musique. Percussions corporelles\, vibraphone\, voix\, claviers et guitares au service du délire\, de la poésie\, de l’humour et de l’amour. C’est créatif\, moderne et hautement divertissant. \nTarif : 8 €.
URL:https://www.faverges-seythenex.fr/event/musique-soleo/
ATTACH;FMTTYPE=image/jpeg:https://www.faverges-seythenex.fr/wp-content/uploads/2018/09/soleo1.jpg
END:VEVENT
END:VCALENDAR