BEGIN:VCALENDAR
VERSION:2.0
PRODID:-//Faverges-Seythenex - ECPv6.15.18//NONSGML v1.0//EN
CALSCALE:GREGORIAN
METHOD:PUBLISH
X-ORIGINAL-URL:https://www.faverges-seythenex.fr
X-WR-CALDESC:Évènements pour Faverges-Seythenex
REFRESH-INTERVAL;VALUE=DURATION:PT1H
X-Robots-Tag:noindex
X-PUBLISHED-TTL:PT1H
BEGIN:VTIMEZONE
TZID:Europe/Paris
BEGIN:DAYLIGHT
TZOFFSETFROM:+0100
TZOFFSETTO:+0200
TZNAME:CEST
DTSTART:19760328T000000
END:DAYLIGHT
BEGIN:STANDARD
TZOFFSETFROM:+0200
TZOFFSETTO:+0100
TZNAME:CET
DTSTART:19760925T230000
END:STANDARD
BEGIN:DAYLIGHT
TZOFFSETFROM:+0100
TZOFFSETTO:+0200
TZNAME:CEST
DTSTART:19770403T010000
END:DAYLIGHT
BEGIN:STANDARD
TZOFFSETFROM:+0200
TZOFFSETTO:+0100
TZNAME:CET
DTSTART:19770925T010000
END:STANDARD
BEGIN:DAYLIGHT
TZOFFSETFROM:+0100
TZOFFSETTO:+0200
TZNAME:CEST
DTSTART:19780402T010000
END:DAYLIGHT
BEGIN:STANDARD
TZOFFSETFROM:+0200
TZOFFSETTO:+0100
TZNAME:CET
DTSTART:19781001T010000
END:STANDARD
BEGIN:DAYLIGHT
TZOFFSETFROM:+0100
TZOFFSETTO:+0200
TZNAME:CEST
DTSTART:19790401T010000
END:DAYLIGHT
BEGIN:STANDARD
TZOFFSETFROM:+0200
TZOFFSETTO:+0100
TZNAME:CET
DTSTART:19790930T010000
END:STANDARD
BEGIN:DAYLIGHT
TZOFFSETFROM:+0100
TZOFFSETTO:+0200
TZNAME:CEST
DTSTART:19800406T010000
END:DAYLIGHT
BEGIN:STANDARD
TZOFFSETFROM:+0200
TZOFFSETTO:+0100
TZNAME:CET
DTSTART:19800928T010000
END:STANDARD
BEGIN:DAYLIGHT
TZOFFSETFROM:+0100
TZOFFSETTO:+0200
TZNAME:CEST
DTSTART:19810329T010000
END:DAYLIGHT
BEGIN:STANDARD
TZOFFSETFROM:+0200
TZOFFSETTO:+0100
TZNAME:CET
DTSTART:19810927T010000
END:STANDARD
BEGIN:DAYLIGHT
TZOFFSETFROM:+0100
TZOFFSETTO:+0200
TZNAME:CEST
DTSTART:19820328T010000
END:DAYLIGHT
BEGIN:STANDARD
TZOFFSETFROM:+0200
TZOFFSETTO:+0100
TZNAME:CET
DTSTART:19820926T010000
END:STANDARD
BEGIN:DAYLIGHT
TZOFFSETFROM:+0100
TZOFFSETTO:+0200
TZNAME:CEST
DTSTART:19830327T010000
END:DAYLIGHT
BEGIN:STANDARD
TZOFFSETFROM:+0200
TZOFFSETTO:+0100
TZNAME:CET
DTSTART:19830925T010000
END:STANDARD
BEGIN:DAYLIGHT
TZOFFSETFROM:+0100
TZOFFSETTO:+0200
TZNAME:CEST
DTSTART:19840325T010000
END:DAYLIGHT
BEGIN:STANDARD
TZOFFSETFROM:+0200
TZOFFSETTO:+0100
TZNAME:CET
DTSTART:19840930T010000
END:STANDARD
BEGIN:DAYLIGHT
TZOFFSETFROM:+0100
TZOFFSETTO:+0200
TZNAME:CEST
DTSTART:19850331T010000
END:DAYLIGHT
BEGIN:STANDARD
TZOFFSETFROM:+0200
TZOFFSETTO:+0100
TZNAME:CET
DTSTART:19850929T010000
END:STANDARD
BEGIN:DAYLIGHT
TZOFFSETFROM:+0100
TZOFFSETTO:+0200
TZNAME:CEST
DTSTART:19860330T010000
END:DAYLIGHT
BEGIN:STANDARD
TZOFFSETFROM:+0200
TZOFFSETTO:+0100
TZNAME:CET
DTSTART:19860928T010000
END:STANDARD
BEGIN:DAYLIGHT
TZOFFSETFROM:+0100
TZOFFSETTO:+0200
TZNAME:CEST
DTSTART:19870329T010000
END:DAYLIGHT
BEGIN:STANDARD
TZOFFSETFROM:+0200
TZOFFSETTO:+0100
TZNAME:CET
DTSTART:19870927T010000
END:STANDARD
BEGIN:DAYLIGHT
TZOFFSETFROM:+0100
TZOFFSETTO:+0200
TZNAME:CEST
DTSTART:19880327T010000
END:DAYLIGHT
BEGIN:STANDARD
TZOFFSETFROM:+0200
TZOFFSETTO:+0100
TZNAME:CET
DTSTART:19880925T010000
END:STANDARD
BEGIN:DAYLIGHT
TZOFFSETFROM:+0100
TZOFFSETTO:+0200
TZNAME:CEST
DTSTART:19890326T010000
END:DAYLIGHT
BEGIN:STANDARD
TZOFFSETFROM:+0200
TZOFFSETTO:+0100
TZNAME:CET
DTSTART:19890924T010000
END:STANDARD
BEGIN:DAYLIGHT
TZOFFSETFROM:+0100
TZOFFSETTO:+0200
TZNAME:CEST
DTSTART:19900325T010000
END:DAYLIGHT
BEGIN:STANDARD
TZOFFSETFROM:+0200
TZOFFSETTO:+0100
TZNAME:CET
DTSTART:19900930T010000
END:STANDARD
BEGIN:DAYLIGHT
TZOFFSETFROM:+0100
TZOFFSETTO:+0200
TZNAME:CEST
DTSTART:19910331T010000
END:DAYLIGHT
BEGIN:STANDARD
TZOFFSETFROM:+0200
TZOFFSETTO:+0100
TZNAME:CET
DTSTART:19910929T010000
END:STANDARD
BEGIN:DAYLIGHT
TZOFFSETFROM:+0100
TZOFFSETTO:+0200
TZNAME:CEST
DTSTART:19920329T010000
END:DAYLIGHT
BEGIN:STANDARD
TZOFFSETFROM:+0200
TZOFFSETTO:+0100
TZNAME:CET
DTSTART:19920927T010000
END:STANDARD
BEGIN:DAYLIGHT
TZOFFSETFROM:+0100
TZOFFSETTO:+0200
TZNAME:CEST
DTSTART:19930328T010000
END:DAYLIGHT
BEGIN:STANDARD
TZOFFSETFROM:+0200
TZOFFSETTO:+0100
TZNAME:CET
DTSTART:19930926T010000
END:STANDARD
BEGIN:DAYLIGHT
TZOFFSETFROM:+0100
TZOFFSETTO:+0200
TZNAME:CEST
DTSTART:19940327T010000
END:DAYLIGHT
BEGIN:STANDARD
TZOFFSETFROM:+0200
TZOFFSETTO:+0100
TZNAME:CET
DTSTART:19940925T010000
END:STANDARD
BEGIN:DAYLIGHT
TZOFFSETFROM:+0100
TZOFFSETTO:+0200
TZNAME:CEST
DTSTART:19950326T010000
END:DAYLIGHT
BEGIN:STANDARD
TZOFFSETFROM:+0200
TZOFFSETTO:+0100
TZNAME:CET
DTSTART:19950924T010000
END:STANDARD
BEGIN:DAYLIGHT
TZOFFSETFROM:+0100
TZOFFSETTO:+0200
TZNAME:CEST
DTSTART:19960331T010000
END:DAYLIGHT
BEGIN:STANDARD
TZOFFSETFROM:+0200
TZOFFSETTO:+0100
TZNAME:CET
DTSTART:19961027T010000
END:STANDARD
BEGIN:DAYLIGHT
TZOFFSETFROM:+0100
TZOFFSETTO:+0200
TZNAME:CEST
DTSTART:19970330T010000
END:DAYLIGHT
BEGIN:STANDARD
TZOFFSETFROM:+0200
TZOFFSETTO:+0100
TZNAME:CET
DTSTART:19971026T010000
END:STANDARD
BEGIN:DAYLIGHT
TZOFFSETFROM:+0100
TZOFFSETTO:+0200
TZNAME:CEST
DTSTART:19980329T010000
END:DAYLIGHT
BEGIN:STANDARD
TZOFFSETFROM:+0200
TZOFFSETTO:+0100
TZNAME:CET
DTSTART:19981025T010000
END:STANDARD
BEGIN:DAYLIGHT
TZOFFSETFROM:+0100
TZOFFSETTO:+0200
TZNAME:CEST
DTSTART:19990328T010000
END:DAYLIGHT
BEGIN:STANDARD
TZOFFSETFROM:+0200
TZOFFSETTO:+0100
TZNAME:CET
DTSTART:19991031T010000
END:STANDARD
BEGIN:DAYLIGHT
TZOFFSETFROM:+0100
TZOFFSETTO:+0200
TZNAME:CEST
DTSTART:20000326T010000
END:DAYLIGHT
BEGIN:STANDARD
TZOFFSETFROM:+0200
TZOFFSETTO:+0100
TZNAME:CET
DTSTART:20001029T010000
END:STANDARD
BEGIN:DAYLIGHT
TZOFFSETFROM:+0100
TZOFFSETTO:+0200
TZNAME:CEST
DTSTART:20010325T010000
END:DAYLIGHT
BEGIN:STANDARD
TZOFFSETFROM:+0200
TZOFFSETTO:+0100
TZNAME:CET
DTSTART:20011028T010000
END:STANDARD
BEGIN:DAYLIGHT
TZOFFSETFROM:+0100
TZOFFSETTO:+0200
TZNAME:CEST
DTSTART:20020331T010000
END:DAYLIGHT
BEGIN:STANDARD
TZOFFSETFROM:+0200
TZOFFSETTO:+0100
TZNAME:CET
DTSTART:20021027T010000
END:STANDARD
BEGIN:DAYLIGHT
TZOFFSETFROM:+0100
TZOFFSETTO:+0200
TZNAME:CEST
DTSTART:20030330T010000
END:DAYLIGHT
BEGIN:STANDARD
TZOFFSETFROM:+0200
TZOFFSETTO:+0100
TZNAME:CET
DTSTART:20031026T010000
END:STANDARD
BEGIN:DAYLIGHT
TZOFFSETFROM:+0100
TZOFFSETTO:+0200
TZNAME:CEST
DTSTART:20040328T010000
END:DAYLIGHT
BEGIN:STANDARD
TZOFFSETFROM:+0200
TZOFFSETTO:+0100
TZNAME:CET
DTSTART:20041031T010000
END:STANDARD
BEGIN:DAYLIGHT
TZOFFSETFROM:+0100
TZOFFSETTO:+0200
TZNAME:CEST
DTSTART:20050327T010000
END:DAYLIGHT
BEGIN:STANDARD
TZOFFSETFROM:+0200
TZOFFSETTO:+0100
TZNAME:CET
DTSTART:20051030T010000
END:STANDARD
BEGIN:DAYLIGHT
TZOFFSETFROM:+0100
TZOFFSETTO:+0200
TZNAME:CEST
DTSTART:20060326T010000
END:DAYLIGHT
BEGIN:STANDARD
TZOFFSETFROM:+0200
TZOFFSETTO:+0100
TZNAME:CET
DTSTART:20061029T010000
END:STANDARD
BEGIN:DAYLIGHT
TZOFFSETFROM:+0100
TZOFFSETTO:+0200
TZNAME:CEST
DTSTART:20070325T010000
END:DAYLIGHT
BEGIN:STANDARD
TZOFFSETFROM:+0200
TZOFFSETTO:+0100
TZNAME:CET
DTSTART:20071028T010000
END:STANDARD
BEGIN:DAYLIGHT
TZOFFSETFROM:+0100
TZOFFSETTO:+0200
TZNAME:CEST
DTSTART:20080330T010000
END:DAYLIGHT
BEGIN:STANDARD
TZOFFSETFROM:+0200
TZOFFSETTO:+0100
TZNAME:CET
DTSTART:20081026T010000
END:STANDARD
BEGIN:DAYLIGHT
TZOFFSETFROM:+0100
TZOFFSETTO:+0200
TZNAME:CEST
DTSTART:20090329T010000
END:DAYLIGHT
BEGIN:STANDARD
TZOFFSETFROM:+0200
TZOFFSETTO:+0100
TZNAME:CET
DTSTART:20091025T010000
END:STANDARD
BEGIN:DAYLIGHT
TZOFFSETFROM:+0100
TZOFFSETTO:+0200
TZNAME:CEST
DTSTART:20100328T010000
END:DAYLIGHT
BEGIN:STANDARD
TZOFFSETFROM:+0200
TZOFFSETTO:+0100
TZNAME:CET
DTSTART:20101031T010000
END:STANDARD
BEGIN:DAYLIGHT
TZOFFSETFROM:+0100
TZOFFSETTO:+0200
TZNAME:CEST
DTSTART:20110327T010000
END:DAYLIGHT
BEGIN:STANDARD
TZOFFSETFROM:+0200
TZOFFSETTO:+0100
TZNAME:CET
DTSTART:20111030T010000
END:STANDARD
BEGIN:DAYLIGHT
TZOFFSETFROM:+0100
TZOFFSETTO:+0200
TZNAME:CEST
DTSTART:20120325T010000
END:DAYLIGHT
BEGIN:STANDARD
TZOFFSETFROM:+0200
TZOFFSETTO:+0100
TZNAME:CET
DTSTART:20121028T010000
END:STANDARD
BEGIN:DAYLIGHT
TZOFFSETFROM:+0100
TZOFFSETTO:+0200
TZNAME:CEST
DTSTART:20130331T010000
END:DAYLIGHT
BEGIN:STANDARD
TZOFFSETFROM:+0200
TZOFFSETTO:+0100
TZNAME:CET
DTSTART:20131027T010000
END:STANDARD
BEGIN:DAYLIGHT
TZOFFSETFROM:+0100
TZOFFSETTO:+0200
TZNAME:CEST
DTSTART:20140330T010000
END:DAYLIGHT
BEGIN:STANDARD
TZOFFSETFROM:+0200
TZOFFSETTO:+0100
TZNAME:CET
DTSTART:20141026T010000
END:STANDARD
BEGIN:DAYLIGHT
TZOFFSETFROM:+0100
TZOFFSETTO:+0200
TZNAME:CEST
DTSTART:20150329T010000
END:DAYLIGHT
BEGIN:STANDARD
TZOFFSETFROM:+0200
TZOFFSETTO:+0100
TZNAME:CET
DTSTART:20151025T010000
END:STANDARD
BEGIN:DAYLIGHT
TZOFFSETFROM:+0100
TZOFFSETTO:+0200
TZNAME:CEST
DTSTART:20160327T010000
END:DAYLIGHT
BEGIN:STANDARD
TZOFFSETFROM:+0200
TZOFFSETTO:+0100
TZNAME:CET
DTSTART:20161030T010000
END:STANDARD
BEGIN:DAYLIGHT
TZOFFSETFROM:+0100
TZOFFSETTO:+0200
TZNAME:CEST
DTSTART:20170326T010000
END:DAYLIGHT
BEGIN:STANDARD
TZOFFSETFROM:+0200
TZOFFSETTO:+0100
TZNAME:CET
DTSTART:20171029T010000
END:STANDARD
BEGIN:DAYLIGHT
TZOFFSETFROM:+0100
TZOFFSETTO:+0200
TZNAME:CEST
DTSTART:20180325T010000
END:DAYLIGHT
BEGIN:STANDARD
TZOFFSETFROM:+0200
TZOFFSETTO:+0100
TZNAME:CET
DTSTART:20181028T010000
END:STANDARD
BEGIN:DAYLIGHT
TZOFFSETFROM:+0100
TZOFFSETTO:+0200
TZNAME:CEST
DTSTART:20190331T010000
END:DAYLIGHT
BEGIN:STANDARD
TZOFFSETFROM:+0200
TZOFFSETTO:+0100
TZNAME:CET
DTSTART:20191027T010000
END:STANDARD
BEGIN:DAYLIGHT
TZOFFSETFROM:+0100
TZOFFSETTO:+0200
TZNAME:CEST
DTSTART:20200329T010000
END:DAYLIGHT
BEGIN:STANDARD
TZOFFSETFROM:+0200
TZOFFSETTO:+0100
TZNAME:CET
DTSTART:20201025T010000
END:STANDARD
BEGIN:DAYLIGHT
TZOFFSETFROM:+0100
TZOFFSETTO:+0200
TZNAME:CEST
DTSTART:20210328T010000
END:DAYLIGHT
BEGIN:STANDARD
TZOFFSETFROM:+0200
TZOFFSETTO:+0100
TZNAME:CET
DTSTART:20211031T010000
END:STANDARD
BEGIN:DAYLIGHT
TZOFFSETFROM:+0100
TZOFFSETTO:+0200
TZNAME:CEST
DTSTART:20220327T010000
END:DAYLIGHT
BEGIN:STANDARD
TZOFFSETFROM:+0200
TZOFFSETTO:+0100
TZNAME:CET
DTSTART:20221030T010000
END:STANDARD
BEGIN:DAYLIGHT
TZOFFSETFROM:+0100
TZOFFSETTO:+0200
TZNAME:CEST
DTSTART:20230326T010000
END:DAYLIGHT
BEGIN:STANDARD
TZOFFSETFROM:+0200
TZOFFSETTO:+0100
TZNAME:CET
DTSTART:20231029T010000
END:STANDARD
BEGIN:DAYLIGHT
TZOFFSETFROM:+0100
TZOFFSETTO:+0200
TZNAME:CEST
DTSTART:20240331T010000
END:DAYLIGHT
BEGIN:STANDARD
TZOFFSETFROM:+0200
TZOFFSETTO:+0100
TZNAME:CET
DTSTART:20241027T010000
END:STANDARD
BEGIN:DAYLIGHT
TZOFFSETFROM:+0100
TZOFFSETTO:+0200
TZNAME:CEST
DTSTART:20250330T010000
END:DAYLIGHT
BEGIN:STANDARD
TZOFFSETFROM:+0200
TZOFFSETTO:+0100
TZNAME:CET
DTSTART:20251026T010000
END:STANDARD
BEGIN:DAYLIGHT
TZOFFSETFROM:+0100
TZOFFSETTO:+0200
TZNAME:CEST
DTSTART:20260329T010000
END:DAYLIGHT
BEGIN:STANDARD
TZOFFSETFROM:+0200
TZOFFSETTO:+0100
TZNAME:CET
DTSTART:20261025T010000
END:STANDARD
END:VTIMEZONE
BEGIN:VEVENT
DTSTART;TZID=Europe/Paris:20260420T183612
DTEND;TZID=Europe/Paris:20250726T210000
DTSTAMP:20260420T183612
CREATED:20250722T063912Z
LAST-MODIFIED:20250722T064122Z
UID:35314-0-1753563600@www.faverges-seythenex.fr
SUMMARY:Concert "CompiGroup'"
DESCRIPTION:
URL:https://www.faverges-seythenex.fr/event/concert-compigroup/
LOCATION:Val de Tamié\, 255 route des Noyers - Les Combes\, Faverges-Seythenex\, 74210\, France
CATEGORIES:Musique
ATTACH;FMTTYPE=image/jpeg:https://www.faverges-seythenex.fr/wp-content/uploads/2025/07/Unknown-1.jpeg
END:VEVENT
BEGIN:VEVENT
DTSTART;TZID=Europe/Paris:20180702T080000
DTEND;TZID=Europe/Paris:20180707T170000
DTSTAMP:20260420T183612
CREATED:20180629T100221Z
LAST-MODIFIED:20180629T113846Z
UID:7058-1530518400-1530982800@www.faverges-seythenex.fr
SUMMARY:Festival des Sources sonores
DESCRIPTION:Festival de musique organisé par l’harmonie école de musique de Faverges-Seythenex sur les communes des Sources du lac d’Annecy.\n• L’école dans tous ses états ! Lundi 2 juillet à partir de 18h à la plage de Doussard.  \n• Sieste musicale nocturne Mardi 3 juillet de 21h à 21h30à la ferme de Gy (Giez).  \n• Voix de la rue ! Jeudi 5 juillet à partir de 19h rue Carnot\, Faverges-Seythenex.  \n• Les Chrétiens des Alpes déchaînent l’harmonie Samedi 7 juillet à partir de 18h30 à La Sambuy.  \nGratuit
URL:https://www.faverges-seythenex.fr/event/festival-des-sources-sonores/
END:VEVENT
BEGIN:VEVENT
DTSTART;TZID=Europe/Paris:20180704T203000
DTEND;TZID=Europe/Paris:20180704T223000
DTSTAMP:20260420T183612
CREATED:20180629T094645Z
LAST-MODIFIED:20180629T094651Z
UID:7053-1530736200-1530743400@www.faverges-seythenex.fr
SUMMARY:Cinéma "Demi-soeurs"
DESCRIPTION:Comédie de S. Azzeddine et F-R. Jeanne avec S. Ouazani\, A. David\, C. Gabris  \nLauren\, ravissante it-girl de 29 ans\, tente de percer dans le milieu de la mode en écumant les soirées parisiennes. Olivia\, 28 ans et un rien psychorigide\, a deux obsessions : sauver la confiserie de ses parents\, et se trouver le mari idéal. A 26 ans\, Salma\, jeune professeur d’histoire fougueuse\, vit encore chez sa mère en banlieue. Leurs routes n’ont aucune raison de se croiser…  \nTarifs : 5 € plein tarif\, 4 € adhérents\, -18 ans et chômeurs 
URL:https://www.faverges-seythenex.fr/event/cinema-demi-soeurs/
END:VEVENT
BEGIN:VEVENT
DTSTART;TZID=Europe/Paris:20180705T100000
DTEND;TZID=Europe/Paris:20180708T190000
DTSTAMP:20260420T183612
CREATED:20180629T114719Z
LAST-MODIFIED:20180629T114801Z
UID:7065-1530784800-1531076400@www.faverges-seythenex.fr
SUMMARY:Expo peinture
DESCRIPTION:La photographie\, le noir et blanc\, les films de Chaplin… son métier d’infirmière et la nudité vécue au quotidien nourrissent la peinture de Marie-Jo Coutin.  \nÀ découvrir à l’agence BENJEE – 55 rue de la République à Faverges-Seythenex. 
URL:https://www.faverges-seythenex.fr/event/expo-peinture-2/
END:VEVENT
BEGIN:VEVENT
DTSTART;TZID=Europe/Paris:20180706T180000
DTEND;TZID=Europe/Paris:20180706T230000
DTSTAMP:20260420T183612
CREATED:20180430T185043Z
LAST-MODIFIED:20180611T083606Z
UID:6187-1530900000-1530918000@www.faverges-seythenex.fr
SUMMARY:Festival C’en scène - Les Fatals Picards
DESCRIPTION:Pour sa dixième édition\, le festival « C’en scène » est de retour dans le parc Berger\, le vendredi 6 juillet à partir de 18h.\nNombreuses animations et spectacles proposés pour les enfants. \nProgrammation musicale :\n\nInserts Coins\nThe Cranky’s\nLes Fatals Picards\n\nLes Fatals Picards\, c’est le groupe de rock le plus déjanté après Queen et Led Zeppelin ! En concert un peu partout en France et rarement aux Etats-Unis\, Les Fatals Picards\, groupe français fondé en 1998\, mêlent l’humour et l’engagement à travers divers genres musicaux\, allant de la chanson française au punk\, en passant par le reggae. \nGratuit. C’en scène est organisé par le CE Stäubli et la ville de Faverges-Seythenex.\nBuvette et petite restauration. Repli à la salle polyvalente en cas d’intempéries.
URL:https://www.faverges-seythenex.fr/event/festival-cen-scene-les-fatals-picards/
LOCATION:Parc Simon Berger
END:VEVENT
BEGIN:VEVENT
DTSTART;VALUE=DATE:20180708
DTEND;VALUE=DATE:20180709
DTSTAMP:20260420T183612
CREATED:20180629T120300Z
LAST-MODIFIED:20180629T123516Z
UID:7070-1531008000-1531094399@www.faverges-seythenex.fr
SUMMARY:Vide-greniers Accro2gym 
DESCRIPTION:2ème édition du vide-greniers de l’association Accro2gym sur le parking de la salle omnisports. \nInscription au 06 18 54 46. \nEn savoir plus ici : \nVide-Grenier (2ème édition)
URL:https://www.faverges-seythenex.fr/event/vide-greniers-accro2gym-2/
LOCATION:Parking de la salle omnisports
END:VEVENT
BEGIN:VEVENT
DTSTART;TZID=Europe/Paris:20180709T080000
DTEND;TZID=Europe/Paris:20180709T170000
DTSTAMP:20260420T183612
CREATED:20180709T132808Z
LAST-MODIFIED:20190708T121707Z
UID:7215-1531123200-1531155600@www.faverges-seythenex.fr
SUMMARY:Jeudi de l’été – 23 août
DESCRIPTION:Petits bals devant l’Office de tourisme\, proposés par la ville de Faverges-Seythenex les jeudis de juillet et d’août.\nJeudi 23 août : bal musette à partir de 18h sur la piste de danse de la place Piquand.
URL:https://www.faverges-seythenex.fr/event/jeudi-de-lete-23-aout/
END:VEVENT
BEGIN:VEVENT
DTSTART;TZID=Europe/Paris:20180710T150000
DTEND;TZID=Europe/Paris:20180728T180000
DTSTAMP:20260420T183612
CREATED:20180629T124422Z
LAST-MODIFIED:20180629T124422Z
UID:7084-1531234800-1532800800@www.faverges-seythenex.fr
SUMMARY:Expo photos
DESCRIPTION:Le Pays de Faverges\, avant et maintenant\, par Numerica Photos Club.
URL:https://www.faverges-seythenex.fr/event/expo-photos/
END:VEVENT
BEGIN:VEVENT
DTSTART;TZID=Europe/Paris:20180710T203000
DTEND;TZID=Europe/Paris:20180710T230000
DTSTAMP:20260420T183612
CREATED:20180629T122420Z
LAST-MODIFIED:20180629T122805Z
UID:7075-1531254600-1531263600@www.faverges-seythenex.fr
SUMMARY:Cinéma "La fête des mères"
DESCRIPTION:Comédie M-C. Mention-Schaar avec A. Fleurot\, C. Courau…  \nElles sont Présidente de la République\, nounou\, boulangère\, comédienne\, prof\, fleuriste\, journaliste\, sans emploi\, pédiatre. Elles sont possessives\, bienveillantes\, maladroites\, absentes\, omniprésentes\, débordées\, culpabilisantes\, indulgentes\, aimantes\, fragiles\, en pleine possession de leurs moyens ou perdant la tête. Bien vivantes ou déjà un souvenir…  \nTarifs : 5 € plein tarif\, 4 € adhérents\, -18 ans et chômeurs 
URL:https://www.faverges-seythenex.fr/event/cinema-la-fete-des-meres/
LOCATION:Foyer rural de Seythenex\, 2055 route des Grottes\, Seythenex\, 74210\, France
END:VEVENT
BEGIN:VEVENT
DTSTART;TZID=Europe/Paris:20180711T203000
DTEND;TZID=Europe/Paris:20180711T230000
DTSTAMP:20260420T183612
CREATED:20180629T125134Z
LAST-MODIFIED:20180629T125134Z
UID:7092-1531341000-1531350000@www.faverges-seythenex.fr
SUMMARY:Cinéma « Abel et la comtesse »
DESCRIPTION:Comédie d’I. Doval avec C. De Turckheim\, A. El Kacem\, M. Chatelier  \nÀ la mort du Comte\, la Comtesse de Montarbie d’Haust doit transmettre le titre de noblesse et le domaine à un homme de la famille\, comme le veut la tradition aristocratique. Elle ne peut cependant se résoudre à transmettre le domaine à Gonzague\, un neveu arrogant et cupide\, plutôt qu’à sa fille. Quand Abdel\, un jeune de cité débrouillard et astucieux\, trouve refuge dans leur château\, sa rencontre avec la Comtesse va faire des étincelles ! Issus de deux mondes que tout oppose\, ils pourraient bien s’aider mutuellement…  \nTarifs : 5 € plein tarif\, 4 € adhérents\, -18 ans et chômeurs 
URL:https://www.faverges-seythenex.fr/event/cinema-abel-et-la-comtesse/
END:VEVENT
BEGIN:VEVENT
DTSTART;TZID=Europe/Paris:20180712T180000
DTEND;TZID=Europe/Paris:20180712T200000
DTSTAMP:20260420T183612
CREATED:20180629T123452Z
LAST-MODIFIED:20180629T123452Z
UID:7079-1531418400-1531425600@www.faverges-seythenex.fr
SUMMARY:Jeudi de l'été - 12 juillet
DESCRIPTION:Petits bals devant l’Office de tourisme\, proposés par la ville de Faverges-Seythenex les jeudis de juillet et d’août.
URL:https://www.faverges-seythenex.fr/event/jeudi-de-lete-12-juillet/
LOCATION:Place Piquand
END:VEVENT
BEGIN:VEVENT
DTSTART;TZID=Europe/Paris:20180713T210000
DTEND;TZID=Europe/Paris:20180713T235900
DTSTAMP:20260420T183612
CREATED:20180430T185336Z
LAST-MODIFIED:20180711T090818Z
UID:6191-1531515600-1531526340@www.faverges-seythenex.fr
SUMMARY:La nuit du feu
DESCRIPTION:Vendredi 13 juillet\, veille de fête nationale\, la ville de Faverges-Seythenex organise sa traditionnelle «Nuit du feu» :\n21h – distribution des lampions dans le parc Berger (rendez-vous devant la scène installée dans le parc Berger pour la distribution gratuite !)\,\n21h30 – début du bal au parc Simon Berger\,\n22h – départ du défilé conduit par l’Harmonie municipale depuis la place Serand et jusqu’aux Prés d’Enfer\,\n22h30 – feux d’artifice aux Prés d’Enfer\,\n23h – bal au parc Berger. \nGratuit. En cas d’intempéries\, le bal se déroule à la salle polyvalente.\nBuvette et petite restauration assurées par le RC Faverges et Foot Sud 74 au parc Berger. \n\n 
URL:https://www.faverges-seythenex.fr/event/la-nuit-du-feu/
LOCATION:Parc Simon Berger
ATTACH;FMTTYPE=image/jpeg:https://www.faverges-seythenex.fr/wp-content/uploads/2018/04/allumons-le-feu.jpg
END:VEVENT
BEGIN:VEVENT
DTSTART;TZID=Europe/Paris:20180719T180000
DTEND;TZID=Europe/Paris:20180719T200000
DTSTAMP:20260420T183612
CREATED:20180629T130026Z
LAST-MODIFIED:20180629T130026Z
UID:7095-1532023200-1532030400@www.faverges-seythenex.fr
SUMMARY:Jeudi de l’été – 19 juillet
DESCRIPTION:Petits bals devant l’Office de tourisme\, proposés par la ville de Faverges-Seythenex les jeudis de juillet et d’août.
URL:https://www.faverges-seythenex.fr/event/jeudi-de-lete-19-juillet/
LOCATION:Place Piquand
END:VEVENT
BEGIN:VEVENT
DTSTART;TZID=Europe/Paris:20180724T203000
DTEND;TZID=Europe/Paris:20180724T223000
DTSTAMP:20260420T183612
CREATED:20180629T131125Z
LAST-MODIFIED:20180629T131921Z
UID:7098-1532464200-1532471400@www.faverges-seythenex.fr
SUMMARY:Cinéma "Ocean's 8"
DESCRIPTION:Comédie de G. Ross avec S. Bullock\, C. Blanchett\, A. Hathaway…  \nCinq ans\, huit mois\, 12 jours… et le compteur tourne toujours ! C’est le temps qu’il aura fallu à Debbie Ocean pour échafauder le plus gros braquage de sa vie. Elle sait désormais ce qu’il lui faut : recruter une équipe de choc. À commencer par son «associée» Lou Miller. Ensemble\, elles engagent une petite bande d’expertes : Amita\, la bijoutière\, Constance\, l’arnaqueuse\, Tammy\, la receleuse\, Nine Ball\, la hackeuse et Rose\, la styliste de mode. Le butin convoité est une rivière de diamants d’une valeur de 150 millions de dollars.  \nTarifs : 5 € plein tarif\, 4 € adhérents\, -18 ans et chômeurs 
URL:https://www.faverges-seythenex.fr/event/cinema-oceans-8/
LOCATION:Foyer rural de Seythenex\, 2055 route des Grottes\, Seythenex\, 74210\, France
END:VEVENT
BEGIN:VEVENT
DTSTART;TZID=Europe/Paris:20180726T180000
DTEND;TZID=Europe/Paris:20180726T193000
DTSTAMP:20260420T183612
CREATED:20180430T185920Z
LAST-MODIFIED:20180726T122505Z
UID:6199-1532628000-1532633400@www.faverges-seythenex.fr
SUMMARY:La Kinkerne en concert au centre-ville de Faverges
DESCRIPTION:Musiques de Savoie\, de Suisse\, du Piémont : La Kinkerne a choisi son répertoire dans la musique traditionnelle alpine. La plus grande partie de son répertoire vient de Savoie : mélodies anciennes\, chants en patois savoyard\, recréés sur des instruments à sonorité authentique que reconnaîtraient nos aïeux. \nChristian Abriel\, chant\, flageolets\, violon\, percussions alpine\,\nReynald Breithaupt\, violon\nJean-Marc Jacquier\, chant\, accordéon. \nConcert offert par la ville de Faverges-Seythenex. \nAttention ! Le concert est déplacé devant l’Office de tourisme à Faverges\, place Piquand\, suite à l’incendie qui a touché le centre-ville de Faverges et limité l’accès montée et descente de la route de Tamié. \n 
URL:https://www.faverges-seythenex.fr/event/la-kinkerne-concert-aupres-de-la-cabane/
LOCATION:Place Piquand
END:VEVENT
BEGIN:VEVENT
DTSTART;TZID=Europe/Paris:20180727T203000
DTEND;TZID=Europe/Paris:20180727T223000
DTSTAMP:20260420T183612
CREATED:20180629T132901Z
LAST-MODIFIED:20180726T122439Z
UID:7104-1532723400-1532730600@www.faverges-seythenex.fr
SUMMARY:Rêve d’une nuit vénitienne - Festival Musique et Nature en Bauges
DESCRIPTION:Leonardo García Alarcón\, orgue\, clavecin et direction – Mariana Flores\, soprano – Cappella Mediterranea \nwww.musiqueetnature.fr \n  \nAttention ! Le concert est déplacé à l’église de Viuz à Faverges\, suite à l’incendie qui a touché le centre-ville et limité l’accès montée et descente de la route de Tamié.
URL:https://www.faverges-seythenex.fr/event/reve-dune-nuit-venitienne-festival-musique-et-nature-en-bauges/
LOCATION:Eglise de Viuz\, 955 route de Viuz\, Faverges\, 74210\, France
ATTACH;FMTTYPE=image/jpeg:https://www.faverges-seythenex.fr/wp-content/uploads/2018/06/leonardo-garcia-alarcon-mai-2017-jean-baptiste-millot.-_0jb9274-760x462.jpg
END:VEVENT
BEGIN:VEVENT
DTSTART;TZID=Europe/Paris:20180728T193000
DTEND;TZID=Europe/Paris:20180728T230000
DTSTAMP:20260420T183612
CREATED:20180430T185642Z
LAST-MODIFIED:20180728T122405Z
UID:6195-1532806200-1532818800@www.faverges-seythenex.fr
SUMMARY:Savoie tout feu tout flamme
DESCRIPTION:Venez à la rencontre des traditions savoyardes avec le groupe «La Pastourelle du Val d’Arly» qui vous fera découvrir les costumes\, musiques et danses du terroir. Après le spectacle\, quelques airs de folk bien connus de tous les amateurs vous inviteront joyeusement à rejoindre la piste de danse. \nPour mieux profiter de ce moment estival\, une petite restauration vous accueillera sur place à partir de 19h30. \nFoyer rural de Seythenex (chef-lieu)\nBuvette et petite restauration avec les Z’éclatés.\nManifestation offerte par la ville de Faverges-Seythenex.
URL:https://www.faverges-seythenex.fr/event/savoie-tout-feu-tout-flamme-2/
LOCATION:Foyer rural de Seythenex\, 2055 route des Grottes\, Seythenex\, 74210\, France
END:VEVENT
END:VCALENDAR