BEGIN:VCALENDAR
VERSION:2.0
PRODID:-//Faverges-Seythenex - ECPv6.15.18//NONSGML v1.0//EN
CALSCALE:GREGORIAN
METHOD:PUBLISH
X-WR-CALNAME:Faverges-Seythenex
X-ORIGINAL-URL:https://www.faverges-seythenex.fr
X-WR-CALDESC:Évènements pour Faverges-Seythenex
REFRESH-INTERVAL;VALUE=DURATION:PT1H
X-Robots-Tag:noindex
X-PUBLISHED-TTL:PT1H
BEGIN:VTIMEZONE
TZID:Europe/Paris
BEGIN:DAYLIGHT
TZOFFSETFROM:+0100
TZOFFSETTO:+0200
TZNAME:CEST
DTSTART:19760328T000000
END:DAYLIGHT
BEGIN:STANDARD
TZOFFSETFROM:+0200
TZOFFSETTO:+0100
TZNAME:CET
DTSTART:19760925T230000
END:STANDARD
BEGIN:DAYLIGHT
TZOFFSETFROM:+0100
TZOFFSETTO:+0200
TZNAME:CEST
DTSTART:19770403T010000
END:DAYLIGHT
BEGIN:STANDARD
TZOFFSETFROM:+0200
TZOFFSETTO:+0100
TZNAME:CET
DTSTART:19770925T010000
END:STANDARD
BEGIN:DAYLIGHT
TZOFFSETFROM:+0100
TZOFFSETTO:+0200
TZNAME:CEST
DTSTART:19780402T010000
END:DAYLIGHT
BEGIN:STANDARD
TZOFFSETFROM:+0200
TZOFFSETTO:+0100
TZNAME:CET
DTSTART:19781001T010000
END:STANDARD
BEGIN:DAYLIGHT
TZOFFSETFROM:+0100
TZOFFSETTO:+0200
TZNAME:CEST
DTSTART:19790401T010000
END:DAYLIGHT
BEGIN:STANDARD
TZOFFSETFROM:+0200
TZOFFSETTO:+0100
TZNAME:CET
DTSTART:19790930T010000
END:STANDARD
BEGIN:DAYLIGHT
TZOFFSETFROM:+0100
TZOFFSETTO:+0200
TZNAME:CEST
DTSTART:19800406T010000
END:DAYLIGHT
BEGIN:STANDARD
TZOFFSETFROM:+0200
TZOFFSETTO:+0100
TZNAME:CET
DTSTART:19800928T010000
END:STANDARD
BEGIN:DAYLIGHT
TZOFFSETFROM:+0100
TZOFFSETTO:+0200
TZNAME:CEST
DTSTART:19810329T010000
END:DAYLIGHT
BEGIN:STANDARD
TZOFFSETFROM:+0200
TZOFFSETTO:+0100
TZNAME:CET
DTSTART:19810927T010000
END:STANDARD
BEGIN:DAYLIGHT
TZOFFSETFROM:+0100
TZOFFSETTO:+0200
TZNAME:CEST
DTSTART:19820328T010000
END:DAYLIGHT
BEGIN:STANDARD
TZOFFSETFROM:+0200
TZOFFSETTO:+0100
TZNAME:CET
DTSTART:19820926T010000
END:STANDARD
BEGIN:DAYLIGHT
TZOFFSETFROM:+0100
TZOFFSETTO:+0200
TZNAME:CEST
DTSTART:19830327T010000
END:DAYLIGHT
BEGIN:STANDARD
TZOFFSETFROM:+0200
TZOFFSETTO:+0100
TZNAME:CET
DTSTART:19830925T010000
END:STANDARD
BEGIN:DAYLIGHT
TZOFFSETFROM:+0100
TZOFFSETTO:+0200
TZNAME:CEST
DTSTART:19840325T010000
END:DAYLIGHT
BEGIN:STANDARD
TZOFFSETFROM:+0200
TZOFFSETTO:+0100
TZNAME:CET
DTSTART:19840930T010000
END:STANDARD
BEGIN:DAYLIGHT
TZOFFSETFROM:+0100
TZOFFSETTO:+0200
TZNAME:CEST
DTSTART:19850331T010000
END:DAYLIGHT
BEGIN:STANDARD
TZOFFSETFROM:+0200
TZOFFSETTO:+0100
TZNAME:CET
DTSTART:19850929T010000
END:STANDARD
BEGIN:DAYLIGHT
TZOFFSETFROM:+0100
TZOFFSETTO:+0200
TZNAME:CEST
DTSTART:19860330T010000
END:DAYLIGHT
BEGIN:STANDARD
TZOFFSETFROM:+0200
TZOFFSETTO:+0100
TZNAME:CET
DTSTART:19860928T010000
END:STANDARD
BEGIN:DAYLIGHT
TZOFFSETFROM:+0100
TZOFFSETTO:+0200
TZNAME:CEST
DTSTART:19870329T010000
END:DAYLIGHT
BEGIN:STANDARD
TZOFFSETFROM:+0200
TZOFFSETTO:+0100
TZNAME:CET
DTSTART:19870927T010000
END:STANDARD
BEGIN:DAYLIGHT
TZOFFSETFROM:+0100
TZOFFSETTO:+0200
TZNAME:CEST
DTSTART:19880327T010000
END:DAYLIGHT
BEGIN:STANDARD
TZOFFSETFROM:+0200
TZOFFSETTO:+0100
TZNAME:CET
DTSTART:19880925T010000
END:STANDARD
BEGIN:DAYLIGHT
TZOFFSETFROM:+0100
TZOFFSETTO:+0200
TZNAME:CEST
DTSTART:19890326T010000
END:DAYLIGHT
BEGIN:STANDARD
TZOFFSETFROM:+0200
TZOFFSETTO:+0100
TZNAME:CET
DTSTART:19890924T010000
END:STANDARD
BEGIN:DAYLIGHT
TZOFFSETFROM:+0100
TZOFFSETTO:+0200
TZNAME:CEST
DTSTART:19900325T010000
END:DAYLIGHT
BEGIN:STANDARD
TZOFFSETFROM:+0200
TZOFFSETTO:+0100
TZNAME:CET
DTSTART:19900930T010000
END:STANDARD
BEGIN:DAYLIGHT
TZOFFSETFROM:+0100
TZOFFSETTO:+0200
TZNAME:CEST
DTSTART:19910331T010000
END:DAYLIGHT
BEGIN:STANDARD
TZOFFSETFROM:+0200
TZOFFSETTO:+0100
TZNAME:CET
DTSTART:19910929T010000
END:STANDARD
BEGIN:DAYLIGHT
TZOFFSETFROM:+0100
TZOFFSETTO:+0200
TZNAME:CEST
DTSTART:19920329T010000
END:DAYLIGHT
BEGIN:STANDARD
TZOFFSETFROM:+0200
TZOFFSETTO:+0100
TZNAME:CET
DTSTART:19920927T010000
END:STANDARD
BEGIN:DAYLIGHT
TZOFFSETFROM:+0100
TZOFFSETTO:+0200
TZNAME:CEST
DTSTART:19930328T010000
END:DAYLIGHT
BEGIN:STANDARD
TZOFFSETFROM:+0200
TZOFFSETTO:+0100
TZNAME:CET
DTSTART:19930926T010000
END:STANDARD
BEGIN:DAYLIGHT
TZOFFSETFROM:+0100
TZOFFSETTO:+0200
TZNAME:CEST
DTSTART:19940327T010000
END:DAYLIGHT
BEGIN:STANDARD
TZOFFSETFROM:+0200
TZOFFSETTO:+0100
TZNAME:CET
DTSTART:19940925T010000
END:STANDARD
BEGIN:DAYLIGHT
TZOFFSETFROM:+0100
TZOFFSETTO:+0200
TZNAME:CEST
DTSTART:19950326T010000
END:DAYLIGHT
BEGIN:STANDARD
TZOFFSETFROM:+0200
TZOFFSETTO:+0100
TZNAME:CET
DTSTART:19950924T010000
END:STANDARD
BEGIN:DAYLIGHT
TZOFFSETFROM:+0100
TZOFFSETTO:+0200
TZNAME:CEST
DTSTART:19960331T010000
END:DAYLIGHT
BEGIN:STANDARD
TZOFFSETFROM:+0200
TZOFFSETTO:+0100
TZNAME:CET
DTSTART:19961027T010000
END:STANDARD
BEGIN:DAYLIGHT
TZOFFSETFROM:+0100
TZOFFSETTO:+0200
TZNAME:CEST
DTSTART:19970330T010000
END:DAYLIGHT
BEGIN:STANDARD
TZOFFSETFROM:+0200
TZOFFSETTO:+0100
TZNAME:CET
DTSTART:19971026T010000
END:STANDARD
BEGIN:DAYLIGHT
TZOFFSETFROM:+0100
TZOFFSETTO:+0200
TZNAME:CEST
DTSTART:19980329T010000
END:DAYLIGHT
BEGIN:STANDARD
TZOFFSETFROM:+0200
TZOFFSETTO:+0100
TZNAME:CET
DTSTART:19981025T010000
END:STANDARD
BEGIN:DAYLIGHT
TZOFFSETFROM:+0100
TZOFFSETTO:+0200
TZNAME:CEST
DTSTART:19990328T010000
END:DAYLIGHT
BEGIN:STANDARD
TZOFFSETFROM:+0200
TZOFFSETTO:+0100
TZNAME:CET
DTSTART:19991031T010000
END:STANDARD
BEGIN:DAYLIGHT
TZOFFSETFROM:+0100
TZOFFSETTO:+0200
TZNAME:CEST
DTSTART:20000326T010000
END:DAYLIGHT
BEGIN:STANDARD
TZOFFSETFROM:+0200
TZOFFSETTO:+0100
TZNAME:CET
DTSTART:20001029T010000
END:STANDARD
BEGIN:DAYLIGHT
TZOFFSETFROM:+0100
TZOFFSETTO:+0200
TZNAME:CEST
DTSTART:20010325T010000
END:DAYLIGHT
BEGIN:STANDARD
TZOFFSETFROM:+0200
TZOFFSETTO:+0100
TZNAME:CET
DTSTART:20011028T010000
END:STANDARD
BEGIN:DAYLIGHT
TZOFFSETFROM:+0100
TZOFFSETTO:+0200
TZNAME:CEST
DTSTART:20020331T010000
END:DAYLIGHT
BEGIN:STANDARD
TZOFFSETFROM:+0200
TZOFFSETTO:+0100
TZNAME:CET
DTSTART:20021027T010000
END:STANDARD
BEGIN:DAYLIGHT
TZOFFSETFROM:+0100
TZOFFSETTO:+0200
TZNAME:CEST
DTSTART:20030330T010000
END:DAYLIGHT
BEGIN:STANDARD
TZOFFSETFROM:+0200
TZOFFSETTO:+0100
TZNAME:CET
DTSTART:20031026T010000
END:STANDARD
BEGIN:DAYLIGHT
TZOFFSETFROM:+0100
TZOFFSETTO:+0200
TZNAME:CEST
DTSTART:20040328T010000
END:DAYLIGHT
BEGIN:STANDARD
TZOFFSETFROM:+0200
TZOFFSETTO:+0100
TZNAME:CET
DTSTART:20041031T010000
END:STANDARD
BEGIN:DAYLIGHT
TZOFFSETFROM:+0100
TZOFFSETTO:+0200
TZNAME:CEST
DTSTART:20050327T010000
END:DAYLIGHT
BEGIN:STANDARD
TZOFFSETFROM:+0200
TZOFFSETTO:+0100
TZNAME:CET
DTSTART:20051030T010000
END:STANDARD
BEGIN:DAYLIGHT
TZOFFSETFROM:+0100
TZOFFSETTO:+0200
TZNAME:CEST
DTSTART:20060326T010000
END:DAYLIGHT
BEGIN:STANDARD
TZOFFSETFROM:+0200
TZOFFSETTO:+0100
TZNAME:CET
DTSTART:20061029T010000
END:STANDARD
BEGIN:DAYLIGHT
TZOFFSETFROM:+0100
TZOFFSETTO:+0200
TZNAME:CEST
DTSTART:20070325T010000
END:DAYLIGHT
BEGIN:STANDARD
TZOFFSETFROM:+0200
TZOFFSETTO:+0100
TZNAME:CET
DTSTART:20071028T010000
END:STANDARD
BEGIN:DAYLIGHT
TZOFFSETFROM:+0100
TZOFFSETTO:+0200
TZNAME:CEST
DTSTART:20080330T010000
END:DAYLIGHT
BEGIN:STANDARD
TZOFFSETFROM:+0200
TZOFFSETTO:+0100
TZNAME:CET
DTSTART:20081026T010000
END:STANDARD
BEGIN:DAYLIGHT
TZOFFSETFROM:+0100
TZOFFSETTO:+0200
TZNAME:CEST
DTSTART:20090329T010000
END:DAYLIGHT
BEGIN:STANDARD
TZOFFSETFROM:+0200
TZOFFSETTO:+0100
TZNAME:CET
DTSTART:20091025T010000
END:STANDARD
BEGIN:DAYLIGHT
TZOFFSETFROM:+0100
TZOFFSETTO:+0200
TZNAME:CEST
DTSTART:20100328T010000
END:DAYLIGHT
BEGIN:STANDARD
TZOFFSETFROM:+0200
TZOFFSETTO:+0100
TZNAME:CET
DTSTART:20101031T010000
END:STANDARD
BEGIN:DAYLIGHT
TZOFFSETFROM:+0100
TZOFFSETTO:+0200
TZNAME:CEST
DTSTART:20110327T010000
END:DAYLIGHT
BEGIN:STANDARD
TZOFFSETFROM:+0200
TZOFFSETTO:+0100
TZNAME:CET
DTSTART:20111030T010000
END:STANDARD
BEGIN:DAYLIGHT
TZOFFSETFROM:+0100
TZOFFSETTO:+0200
TZNAME:CEST
DTSTART:20120325T010000
END:DAYLIGHT
BEGIN:STANDARD
TZOFFSETFROM:+0200
TZOFFSETTO:+0100
TZNAME:CET
DTSTART:20121028T010000
END:STANDARD
BEGIN:DAYLIGHT
TZOFFSETFROM:+0100
TZOFFSETTO:+0200
TZNAME:CEST
DTSTART:20130331T010000
END:DAYLIGHT
BEGIN:STANDARD
TZOFFSETFROM:+0200
TZOFFSETTO:+0100
TZNAME:CET
DTSTART:20131027T010000
END:STANDARD
BEGIN:DAYLIGHT
TZOFFSETFROM:+0100
TZOFFSETTO:+0200
TZNAME:CEST
DTSTART:20140330T010000
END:DAYLIGHT
BEGIN:STANDARD
TZOFFSETFROM:+0200
TZOFFSETTO:+0100
TZNAME:CET
DTSTART:20141026T010000
END:STANDARD
BEGIN:DAYLIGHT
TZOFFSETFROM:+0100
TZOFFSETTO:+0200
TZNAME:CEST
DTSTART:20150329T010000
END:DAYLIGHT
BEGIN:STANDARD
TZOFFSETFROM:+0200
TZOFFSETTO:+0100
TZNAME:CET
DTSTART:20151025T010000
END:STANDARD
BEGIN:DAYLIGHT
TZOFFSETFROM:+0100
TZOFFSETTO:+0200
TZNAME:CEST
DTSTART:20160327T010000
END:DAYLIGHT
BEGIN:STANDARD
TZOFFSETFROM:+0200
TZOFFSETTO:+0100
TZNAME:CET
DTSTART:20161030T010000
END:STANDARD
BEGIN:DAYLIGHT
TZOFFSETFROM:+0100
TZOFFSETTO:+0200
TZNAME:CEST
DTSTART:20170326T010000
END:DAYLIGHT
BEGIN:STANDARD
TZOFFSETFROM:+0200
TZOFFSETTO:+0100
TZNAME:CET
DTSTART:20171029T010000
END:STANDARD
BEGIN:DAYLIGHT
TZOFFSETFROM:+0100
TZOFFSETTO:+0200
TZNAME:CEST
DTSTART:20180325T010000
END:DAYLIGHT
BEGIN:STANDARD
TZOFFSETFROM:+0200
TZOFFSETTO:+0100
TZNAME:CET
DTSTART:20181028T010000
END:STANDARD
BEGIN:DAYLIGHT
TZOFFSETFROM:+0100
TZOFFSETTO:+0200
TZNAME:CEST
DTSTART:20190331T010000
END:DAYLIGHT
BEGIN:STANDARD
TZOFFSETFROM:+0200
TZOFFSETTO:+0100
TZNAME:CET
DTSTART:20191027T010000
END:STANDARD
BEGIN:DAYLIGHT
TZOFFSETFROM:+0100
TZOFFSETTO:+0200
TZNAME:CEST
DTSTART:20200329T010000
END:DAYLIGHT
BEGIN:STANDARD
TZOFFSETFROM:+0200
TZOFFSETTO:+0100
TZNAME:CET
DTSTART:20201025T010000
END:STANDARD
BEGIN:DAYLIGHT
TZOFFSETFROM:+0100
TZOFFSETTO:+0200
TZNAME:CEST
DTSTART:20210328T010000
END:DAYLIGHT
BEGIN:STANDARD
TZOFFSETFROM:+0200
TZOFFSETTO:+0100
TZNAME:CET
DTSTART:20211031T010000
END:STANDARD
BEGIN:DAYLIGHT
TZOFFSETFROM:+0100
TZOFFSETTO:+0200
TZNAME:CEST
DTSTART:20220327T010000
END:DAYLIGHT
BEGIN:STANDARD
TZOFFSETFROM:+0200
TZOFFSETTO:+0100
TZNAME:CET
DTSTART:20221030T010000
END:STANDARD
BEGIN:DAYLIGHT
TZOFFSETFROM:+0100
TZOFFSETTO:+0200
TZNAME:CEST
DTSTART:20230326T010000
END:DAYLIGHT
BEGIN:STANDARD
TZOFFSETFROM:+0200
TZOFFSETTO:+0100
TZNAME:CET
DTSTART:20231029T010000
END:STANDARD
BEGIN:DAYLIGHT
TZOFFSETFROM:+0100
TZOFFSETTO:+0200
TZNAME:CEST
DTSTART:20240331T010000
END:DAYLIGHT
BEGIN:STANDARD
TZOFFSETFROM:+0200
TZOFFSETTO:+0100
TZNAME:CET
DTSTART:20241027T010000
END:STANDARD
BEGIN:DAYLIGHT
TZOFFSETFROM:+0100
TZOFFSETTO:+0200
TZNAME:CEST
DTSTART:20250330T010000
END:DAYLIGHT
BEGIN:STANDARD
TZOFFSETFROM:+0200
TZOFFSETTO:+0100
TZNAME:CET
DTSTART:20251026T010000
END:STANDARD
BEGIN:DAYLIGHT
TZOFFSETFROM:+0100
TZOFFSETTO:+0200
TZNAME:CEST
DTSTART:20260329T010000
END:DAYLIGHT
BEGIN:STANDARD
TZOFFSETFROM:+0200
TZOFFSETTO:+0100
TZNAME:CET
DTSTART:20261025T010000
END:STANDARD
END:VTIMEZONE
BEGIN:VEVENT
DTSTART;TZID=Europe/Paris:20260423T135829
DTEND;TZID=Europe/Paris:20250726T210000
DTSTAMP:20260423T135829
CREATED:20250722T063912Z
LAST-MODIFIED:20250722T064122Z
UID:35314-0-1753563600@www.faverges-seythenex.fr
SUMMARY:Concert "CompiGroup'"
DESCRIPTION:
URL:https://www.faverges-seythenex.fr/event/concert-compigroup/
LOCATION:Val de Tamié\, 255 route des Noyers - Les Combes\, Faverges-Seythenex\, 74210\, France
CATEGORIES:Musique
ATTACH;FMTTYPE=image/jpeg:https://www.faverges-seythenex.fr/wp-content/uploads/2025/07/Unknown-1.jpeg
END:VEVENT
BEGIN:VEVENT
DTSTART;VALUE=DATE:20170628
DTEND;VALUE=DATE:20170718
DTSTAMP:20260423T135829
CREATED:20170602T143914Z
LAST-MODIFIED:20170602T143914Z
UID:3260-1498608000-1500335999@www.faverges-seythenex.fr
SUMMARY:Tournoi Open de tennis
DESCRIPTION:Plus d’infos sur : www.tcfaverges.com
URL:https://www.faverges-seythenex.fr/event/tournoi-open-de-tennis/
LOCATION:Tennis-Club de Faverges\, route d'Albertville\, Faverges-Seythenex\, 74210
END:VEVENT
BEGIN:VEVENT
DTSTART;TZID=Europe/Paris:20170701T080000
DTEND;TZID=Europe/Paris:20170702T170000
DTSTAMP:20260423T135829
CREATED:20161107T094522Z
LAST-MODIFIED:20170627T131559Z
UID:1104-1498896000-1499014800@www.faverges-seythenex.fr
SUMMARY:Trail Faverges-Icebreaker
DESCRIPTION:
URL:https://www.faverges-seythenex.fr/event/trail-faverges-icebreaker/
ATTACH;FMTTYPE=image/jpeg:https://www.faverges-seythenex.fr/wp-content/uploads/2016/10/sambuy-vue-sur-lac.jpg
END:VEVENT
BEGIN:VEVENT
DTSTART;TZID=Europe/Paris:20170701T203000
DTEND;TZID=Europe/Paris:20170701T230000
DTSTAMP:20260423T135829
CREATED:20161107T094456Z
LAST-MODIFIED:20170701T074538Z
UID:1102-1498941000-1498950000@www.faverges-seythenex.fr
SUMMARY:Gala de Twirling Bâton
DESCRIPTION:
URL:https://www.faverges-seythenex.fr/event/gala-de-twirling-baton/
LOCATION:Salle omnisports\, 895 route d'Albertville\, Faverges-Seythenex\, 74210\, France
END:VEVENT
BEGIN:VEVENT
DTSTART;TZID=Europe/Paris:20170703T180000
DTEND;TZID=Europe/Paris:20170703T210000
DTSTAMP:20260423T135829
CREATED:20170630T081137Z
LAST-MODIFIED:20170703T131939Z
UID:3645-1499104800-1499115600@www.faverges-seythenex.fr
SUMMARY:Festival Sources sonores : Masterclass Noémie Lamour
DESCRIPTION:Pour une raison indépendante de notre volonté\, la masterclass est annulée ce soir à la médiathèque.\nElle sera reportée prochainement. \nLe concert est maintenu demain à Viuz.
URL:https://www.faverges-seythenex.fr/event/festival-des-sources-sonores-masterclass-noemie-lamour/
LOCATION:Médiathèque de Faverges\, Rue Tissot-Dupont\, FAVERGES\, 74210
END:VEVENT
BEGIN:VEVENT
DTSTART;TZID=Europe/Paris:20170704T193000
DTEND;TZID=Europe/Paris:20170704T220000
DTSTAMP:20260423T135829
CREATED:20170630T120627Z
LAST-MODIFIED:20170630T122800Z
UID:3662-1499196600-1499205600@www.faverges-seythenex.fr
SUMMARY:Festival Sources sonores : concert masterclass et Noémie Lamour
DESCRIPTION:Restitution de la masterclass suivie d’un concert de Noémie Lamour. \nLieu : Carré gallo-romain devant l’église de Viuz. \nGratuit. \n 
URL:https://www.faverges-seythenex.fr/event/festival-des-sources-sonores-concert-masterclass-et-noemie-lamour/
END:VEVENT
BEGIN:VEVENT
DTSTART;TZID=Europe/Paris:20170704T203000
DTEND;TZID=Europe/Paris:20170704T223000
DTSTAMP:20260423T135829
CREATED:20170630T140317Z
LAST-MODIFIED:20170701T115419Z
UID:3680-1499200200-1499207400@www.faverges-seythenex.fr
SUMMARY:Cinéma "Django"
DESCRIPTION:De Etienne Comar \nAvec Reda Kateb\, Cécile de France\, Beata Palya \nEn 1943 pendant l’occupation allemande\, le tsigane Django Reinhardt\, véritable “guitare héros”\, est au sommet de son art. Chaque soir il fait vibrer le tout Paris aux Folies Bergères avec sa musique swing alors qu’en Europe\, ses frères sont pourchassés et massacrés. Lorsque la propagande allemande veut l’envoyer à Berlin pour une série de concerts\, il sent le danger et décide de s’évader en Suisse aidé par une de ses admiratrices\, Louise de Klerk. Pour passer\, il se rend à Thonon-les-Bains\, sur les bords du lac Léman\, avec sa femme enceinte\, Naguine et sa mère Negros. Mais l’évasion est plus compliquée que prévue\, Django et ses proches se retrouvent plongés dans la guerre. Pendant cette période dramatique\, il n’en demeure pas moins un musicien exceptionnel qui résiste avec sa musique\, son humour\, et qui cherche à approcher la perfection musicale…
URL:https://www.faverges-seythenex.fr/event/cinema-django-2/
END:VEVENT
BEGIN:VEVENT
DTSTART;TZID=Europe/Paris:20170704T203000
DTEND;TZID=Europe/Paris:20170704T223000
DTSTAMP:20260423T135829
CREATED:20170908T084054Z
LAST-MODIFIED:20170908T084054Z
UID:3366-1499200200-1499207400@www.faverges-seythenex.fr
SUMMARY:Cinéma : "Django"
DESCRIPTION:Un film de Etienne Comar \nAvec Reda Kateb\, Cécile de France\, Beata Palya… \nGenre: Biopic \nDurée: 1h55′ \nEn 1943 pendant l’occupation allemande\, le tsigane Django Reinhardt\, véritable “guitare héros”\, est au sommet de son art. Chaque soir il fait vibrer le tout Paris aux Folies Bergères avec sa musique swing alors qu’en Europe\, ses frères sont pourchassés et massacrés. Lorsque la propagande allemande veut l’envoyer à Berlin pour une série de concerts\, il sent le danger et décide de s’évader en Suisse aidé par une de ses admiratrices\, Louise de Klerk. Pour passer\, il se rend à Thonon-les-Bains\, sur les bords du lac Léman\, avec sa femme enceinte\, Naguine et sa mère Negros. Mais l’évasion est plus compliquée que prévue\, Django et ses proches se retrouvent plongés dans la guerre. Pendant cette période dramatique\, il n’en demeure pas moins un musicien exceptionnel qui résiste avec sa musique\, son humour\, et qui cherche à approcher la perfection musicale… \n Voir la bande annonce \n 
URL:https://www.faverges-seythenex.fr/event/cinema-django-3/
LOCATION:Foyer rural de Seythenex\, 2055 route des Grottes\, Seythenex\, 74210\, France
CATEGORIES:Cinéma
END:VEVENT
BEGIN:VEVENT
DTSTART;TZID=Europe/Paris:20170705T180000
DTEND;TZID=Europe/Paris:20170705T220000
DTSTAMP:20260423T135829
CREATED:20170630T122638Z
LAST-MODIFIED:20170630T122638Z
UID:3664-1499277600-1499292000@www.faverges-seythenex.fr
SUMMARY:Festival Sources sonores : "L'école de musique dans tous ses états"
DESCRIPTION:Trois scènes au château de Faverges
URL:https://www.faverges-seythenex.fr/event/festival-sources-sonores-lecole-de-musique-dans-tous-ses-etats/
END:VEVENT
BEGIN:VEVENT
DTSTART;TZID=Europe/Paris:20170705T203000
DTEND;TZID=Europe/Paris:20170705T223000
DTSTAMP:20260423T135829
CREATED:20170630T140919Z
LAST-MODIFIED:20170701T115542Z
UID:3683-1499286600-1499293800@www.faverges-seythenex.fr
SUMMARY:Cinéma : "Le chanteur de Gaza"
DESCRIPTION:De Hany Abu-Assad \nAvec Tawfeek Barhom\, Kais Attalah\, Hiba Attalah \nUn jeune Palestinien prend son destin en main pour réaliser son plus grand rêve : chanter.
URL:https://www.faverges-seythenex.fr/event/cinema-le-chanteur-de-gaza/
END:VEVENT
BEGIN:VEVENT
DTSTART;TZID=Europe/Paris:20170706T180000
DTEND;TZID=Europe/Paris:20170706T203000
DTSTAMP:20260423T135829
CREATED:20170627T153025Z
LAST-MODIFIED:20170627T153025Z
UID:3590-1499364000-1499373000@www.faverges-seythenex.fr
SUMMARY:Jeudi de l'été - Les bons voisins
DESCRIPTION:Les bons voisins – jeudi 6 juillet\nPetit bal trad québéquois et voyage dans le temps : apprentissage des danses folk avec « Les bons voisins »\, deux artistes invités du « Festival des sources sonores ». Manu et Guillaume vous emmèneront au cœur du Québec ! \nGratuit.
URL:https://www.faverges-seythenex.fr/event/jeudi-de-lete-les-bons-voisins/
LOCATION:Place Piquand
END:VEVENT
BEGIN:VEVENT
DTSTART;TZID=Europe/Paris:20170706T193000
DTEND;TZID=Europe/Paris:20170706T210000
DTSTAMP:20260423T135829
CREATED:20170630T135411Z
LAST-MODIFIED:20170703T070212Z
UID:3674-1499369400-1499374800@www.faverges-seythenex.fr
SUMMARY:Festival des Sources sonores : apéritif-concert de Larsën
DESCRIPTION:19h30 au bar des deux Savoie rue Carnot à Faverges.
URL:https://www.faverges-seythenex.fr/event/festival-sources-sonores-aperitif-concert-de-larsen/
END:VEVENT
BEGIN:VEVENT
DTSTART;TZID=Europe/Paris:20170708T140000
DTEND;TZID=Europe/Paris:20170708T160000
DTSTAMP:20260423T135829
CREATED:20170630T144750Z
LAST-MODIFIED:20170703T065935Z
UID:3695-1499522400-1499529600@www.faverges-seythenex.fr
SUMMARY:Inauguration du Festival des cabanes
DESCRIPTION:De 14h à 17h30 à la plage de Doussard.
URL:https://www.faverges-seythenex.fr/event/inauguration-du-festival-des-cabanes/
LOCATION:Plage de Doussard\, Doussard\, 74210
END:VEVENT
BEGIN:VEVENT
DTSTART;TZID=Europe/Paris:20170708T190000
DTEND;TZID=Europe/Paris:20170708T220000
DTSTAMP:20260423T135829
CREATED:20170630T135949Z
LAST-MODIFIED:20170701T075225Z
UID:3677-1499540400-1499551200@www.faverges-seythenex.fr
SUMMARY:Festival Sources sonores : Concert à La Sambuy
DESCRIPTION:Spectacle Trad’n Brass mêlant le trad québecois\, la musique celtique et la musique pop’n rock.
URL:https://www.faverges-seythenex.fr/event/concert-a-la-sambuy/
END:VEVENT
BEGIN:VEVENT
DTSTART;TZID=Europe/Paris:20170712T203000
DTEND;TZID=Europe/Paris:20170712T220000
DTSTAMP:20260423T135829
CREATED:20170701T101959Z
LAST-MODIFIED:20170707T080208Z
UID:3701-1499891400-1499896800@www.faverges-seythenex.fr
SUMMARY:Cinéma "Marie Francine"
DESCRIPTION:De Valérie Lemercier \nAvec Valérie Lemercier\, Patrick Timsit\, Hélène Vincent \nTrop vieille pour son mari\, de trop dans son boulot\, Marie-Francine doit retourner vivre chez ses parents… … à 50 ans ! Infantilisée par eux\, c’est pourtant dans la petite boutique de cigarettes électroniques qu’ils vont lui faire tenir\, qu’elle va enfin rencontrer Miguel. Miguel\, sans oser le lui avouer\, est exactement dans la même situation qu’elle. Comment vont faire ces deux-là pour abriter leur nouvel amour sans maison\, là est la question…
URL:https://www.faverges-seythenex.fr/event/cinema-marie-francine/
END:VEVENT
BEGIN:VEVENT
DTSTART;TZID=Europe/Paris:20170713T210000
DTEND;TZID=Europe/Paris:20170713T233000
DTSTAMP:20260423T135829
CREATED:20170627T152657Z
LAST-MODIFIED:20170629T153233Z
UID:3588-1499979600-1499988600@www.faverges-seythenex.fr
SUMMARY:Nuit du feu
DESCRIPTION:Jeudi 13 juillet\, veille de fête nationale\, la ville de Faverges-Seythenex organise sa traditionnelle « Nuit du feu » : défilé aux lampions\, feux d’artifice et bal gratuits\, aux Prés d’Enfer et dans le parc Berger.\n21h     – distribution des lampions dans le parc Berger\,\n21h30 – début du bal animé par The Creatles au parc Berger\,\n22h     – départ du défilé conduit par l’Harmonie municipale\,\n22h30 – feux d’artifice aux Prés d’Enfer\,\n23h     – bal au parc Berger avec The Creatles et un DJ. \nBuvette et petite restauration au parc Berger\, avec le RC Faverges.
URL:https://www.faverges-seythenex.fr/event/nuit-du-feu/
LOCATION:Parc Simon Berger
ATTACH;FMTTYPE=image/jpeg:https://www.faverges-seythenex.fr/wp-content/uploads/2017/06/Feux-dartifice.jpg
END:VEVENT
BEGIN:VEVENT
DTSTART;VALUE=DATE:20170718
DTEND;VALUE=DATE:20170813
DTSTAMP:20260423T135829
CREATED:20170701T120017Z
LAST-MODIFIED:20170719T071141Z
UID:3707-1500336000-1502582399@www.faverges-seythenex.fr
SUMMARY:Exposition photos : Le Tibet Vu par vue...
DESCRIPTION:Photographe\, voyageur\, coloriste de formation\, Gilles Christ nous convie à une découverte insolite du Tibet et des couleurs magnifiques de ses habitants et de ses bâtiments.\nDu 18 juillet au 12 août à la médiathèque. Entrée libre.\nVernissage le 18 juillet à 18h.
URL:https://www.faverges-seythenex.fr/event/exposition-photos-le-tibet-vue-par-vue/
END:VEVENT
BEGIN:VEVENT
DTSTART;TZID=Europe/Paris:20170718T150000
DTEND;TZID=Europe/Paris:20170718T170000
DTSTAMP:20260423T135829
CREATED:20170630T142254Z
LAST-MODIFIED:20170707T135215Z
UID:3686-1500390000-1500397200@www.faverges-seythenex.fr
SUMMARY:Festival des cabanes : "Histoires en cabane" (n°6) au pied du golf de Giez
DESCRIPTION:Les bibliothécaires s’installent : \n– mardi 18 juillet de 15h à 17h dans la cabane (n°6) au pied du golf de Giez \n– mardi 22 août de 15h à 17h dans la cabane (n°9) Les Prières \nDes histoires pour rire\, frissonner\, s’émerveiller… Des histoires à écouter.\nA partir de 2 ans – Gratuit.
URL:https://www.faverges-seythenex.fr/event/festival-des-cabanes-histoires-en-cabane/
END:VEVENT
BEGIN:VEVENT
DTSTART;TZID=Europe/Paris:20170720T180000
DTEND;TZID=Europe/Paris:20170720T203000
DTSTAMP:20260423T135829
CREATED:20170627T153201Z
LAST-MODIFIED:20170627T153201Z
UID:3593-1500573600-1500582600@www.faverges-seythenex.fr
SUMMARY:Jeudi de l'été - concert de Fayard
DESCRIPTION:S’il n’est plus nécessaire de présenter Fayard aux Favergiens\, ce sera sans doute une découverte pour les visiteurs de l’été\, en venant à la rencontre d’un groupe à l’identité artistique clairement posée. Leurs influences vont de Gainsbourg à Cabrel\, des Beatles aux Beach boys et leur musique reste très personnelle\, hors d’une classification. Le credo de leurs compositions est avant tout le texte et les émotions et les colères s’y traduisent en mots travaillés\, flirtant avec les sentiments\, les combats environnementaux et l’ironie face à la bêtise.\nwww.fayard-chansons.com \nGratuit. \n 
URL:https://www.faverges-seythenex.fr/event/jeudi-de-lete-concert-de-fayard/
LOCATION:Place Piquand
END:VEVENT
BEGIN:VEVENT
DTSTART;TZID=Europe/Paris:20170722T203000
DTEND;TZID=Europe/Paris:20170722T223000
DTSTAMP:20260423T135829
CREATED:20170410T095715Z
LAST-MODIFIED:20170721T145758Z
UID:2802-1500755400-1500762600@www.faverges-seythenex.fr
SUMMARY:Concert "Musique et nature en Bauges" à Seythenex
DESCRIPTION:Damien GUILLON (contre-ténor)\, ensemble “LE BANQUET CELESTE” \nProgramme : Antonio VIVALDI : Stabat Mater et Nisi Dominus\nTarif : 26 € (13 € pour les moins de 25 ans\, gratuit pour les moins de 12 ans). \nLes “Stabat Mater” et “Nisi Dominus” sont les deux motets pour voix d’Alto les plus fameux d’Antonio Vivaldi. Le “Stabat Mater” occupe une place à part dans l’œuvre du compositeur vénitien\, grâce à son unité expressive unique. Le “Nisi Dominus” est d’une écriture virtuose\, avec des changements d’affects omniprésents et une expression générale quasi théâtrale. \nContre-ténor parmi les plus recherchés de sa génération\, Damien Guillon atteint dans ces pièces l’équilibre rare entre virtuosité et musicalité.
URL:https://www.faverges-seythenex.fr/event/musique-et-nature-en-bauges-a-seythenex/
LOCATION:Eglise de Seythenex
END:VEVENT
BEGIN:VEVENT
DTSTART;VALUE=DATE:20170723
DTEND;VALUE=DATE:20170724
DTSTAMP:20260423T135829
CREATED:20170701T125050Z
LAST-MODIFIED:20170707T130309Z
UID:3710-1500768000-1500854399@www.faverges-seythenex.fr
SUMMARY:Découverte de la spéléologie
DESCRIPTION:Proposée par les spéléologues d’Albertville \nà La Sambuy
URL:https://www.faverges-seythenex.fr/event/decouverte-de-la-speleologie/
LOCATION:La Sambuy\, Faverges-Seythenex\, 74210
END:VEVENT
END:VCALENDAR