BEGIN:VCALENDAR
VERSION:2.0
PRODID:-//Faverges-Seythenex - ECPv6.15.18//NONSGML v1.0//EN
CALSCALE:GREGORIAN
METHOD:PUBLISH
X-ORIGINAL-URL:https://www.faverges-seythenex.fr
X-WR-CALDESC:Évènements pour Faverges-Seythenex
REFRESH-INTERVAL;VALUE=DURATION:PT1H
X-Robots-Tag:noindex
X-PUBLISHED-TTL:PT1H
BEGIN:VTIMEZONE
TZID:Europe/Paris
BEGIN:DAYLIGHT
TZOFFSETFROM:+0100
TZOFFSETTO:+0200
TZNAME:CEST
DTSTART:19760328T000000
END:DAYLIGHT
BEGIN:STANDARD
TZOFFSETFROM:+0200
TZOFFSETTO:+0100
TZNAME:CET
DTSTART:19760925T230000
END:STANDARD
BEGIN:DAYLIGHT
TZOFFSETFROM:+0100
TZOFFSETTO:+0200
TZNAME:CEST
DTSTART:19770403T010000
END:DAYLIGHT
BEGIN:STANDARD
TZOFFSETFROM:+0200
TZOFFSETTO:+0100
TZNAME:CET
DTSTART:19770925T010000
END:STANDARD
BEGIN:DAYLIGHT
TZOFFSETFROM:+0100
TZOFFSETTO:+0200
TZNAME:CEST
DTSTART:19780402T010000
END:DAYLIGHT
BEGIN:STANDARD
TZOFFSETFROM:+0200
TZOFFSETTO:+0100
TZNAME:CET
DTSTART:19781001T010000
END:STANDARD
BEGIN:DAYLIGHT
TZOFFSETFROM:+0100
TZOFFSETTO:+0200
TZNAME:CEST
DTSTART:19790401T010000
END:DAYLIGHT
BEGIN:STANDARD
TZOFFSETFROM:+0200
TZOFFSETTO:+0100
TZNAME:CET
DTSTART:19790930T010000
END:STANDARD
BEGIN:DAYLIGHT
TZOFFSETFROM:+0100
TZOFFSETTO:+0200
TZNAME:CEST
DTSTART:19800406T010000
END:DAYLIGHT
BEGIN:STANDARD
TZOFFSETFROM:+0200
TZOFFSETTO:+0100
TZNAME:CET
DTSTART:19800928T010000
END:STANDARD
BEGIN:DAYLIGHT
TZOFFSETFROM:+0100
TZOFFSETTO:+0200
TZNAME:CEST
DTSTART:19810329T010000
END:DAYLIGHT
BEGIN:STANDARD
TZOFFSETFROM:+0200
TZOFFSETTO:+0100
TZNAME:CET
DTSTART:19810927T010000
END:STANDARD
BEGIN:DAYLIGHT
TZOFFSETFROM:+0100
TZOFFSETTO:+0200
TZNAME:CEST
DTSTART:19820328T010000
END:DAYLIGHT
BEGIN:STANDARD
TZOFFSETFROM:+0200
TZOFFSETTO:+0100
TZNAME:CET
DTSTART:19820926T010000
END:STANDARD
BEGIN:DAYLIGHT
TZOFFSETFROM:+0100
TZOFFSETTO:+0200
TZNAME:CEST
DTSTART:19830327T010000
END:DAYLIGHT
BEGIN:STANDARD
TZOFFSETFROM:+0200
TZOFFSETTO:+0100
TZNAME:CET
DTSTART:19830925T010000
END:STANDARD
BEGIN:DAYLIGHT
TZOFFSETFROM:+0100
TZOFFSETTO:+0200
TZNAME:CEST
DTSTART:19840325T010000
END:DAYLIGHT
BEGIN:STANDARD
TZOFFSETFROM:+0200
TZOFFSETTO:+0100
TZNAME:CET
DTSTART:19840930T010000
END:STANDARD
BEGIN:DAYLIGHT
TZOFFSETFROM:+0100
TZOFFSETTO:+0200
TZNAME:CEST
DTSTART:19850331T010000
END:DAYLIGHT
BEGIN:STANDARD
TZOFFSETFROM:+0200
TZOFFSETTO:+0100
TZNAME:CET
DTSTART:19850929T010000
END:STANDARD
BEGIN:DAYLIGHT
TZOFFSETFROM:+0100
TZOFFSETTO:+0200
TZNAME:CEST
DTSTART:19860330T010000
END:DAYLIGHT
BEGIN:STANDARD
TZOFFSETFROM:+0200
TZOFFSETTO:+0100
TZNAME:CET
DTSTART:19860928T010000
END:STANDARD
BEGIN:DAYLIGHT
TZOFFSETFROM:+0100
TZOFFSETTO:+0200
TZNAME:CEST
DTSTART:19870329T010000
END:DAYLIGHT
BEGIN:STANDARD
TZOFFSETFROM:+0200
TZOFFSETTO:+0100
TZNAME:CET
DTSTART:19870927T010000
END:STANDARD
BEGIN:DAYLIGHT
TZOFFSETFROM:+0100
TZOFFSETTO:+0200
TZNAME:CEST
DTSTART:19880327T010000
END:DAYLIGHT
BEGIN:STANDARD
TZOFFSETFROM:+0200
TZOFFSETTO:+0100
TZNAME:CET
DTSTART:19880925T010000
END:STANDARD
BEGIN:DAYLIGHT
TZOFFSETFROM:+0100
TZOFFSETTO:+0200
TZNAME:CEST
DTSTART:19890326T010000
END:DAYLIGHT
BEGIN:STANDARD
TZOFFSETFROM:+0200
TZOFFSETTO:+0100
TZNAME:CET
DTSTART:19890924T010000
END:STANDARD
BEGIN:DAYLIGHT
TZOFFSETFROM:+0100
TZOFFSETTO:+0200
TZNAME:CEST
DTSTART:19900325T010000
END:DAYLIGHT
BEGIN:STANDARD
TZOFFSETFROM:+0200
TZOFFSETTO:+0100
TZNAME:CET
DTSTART:19900930T010000
END:STANDARD
BEGIN:DAYLIGHT
TZOFFSETFROM:+0100
TZOFFSETTO:+0200
TZNAME:CEST
DTSTART:19910331T010000
END:DAYLIGHT
BEGIN:STANDARD
TZOFFSETFROM:+0200
TZOFFSETTO:+0100
TZNAME:CET
DTSTART:19910929T010000
END:STANDARD
BEGIN:DAYLIGHT
TZOFFSETFROM:+0100
TZOFFSETTO:+0200
TZNAME:CEST
DTSTART:19920329T010000
END:DAYLIGHT
BEGIN:STANDARD
TZOFFSETFROM:+0200
TZOFFSETTO:+0100
TZNAME:CET
DTSTART:19920927T010000
END:STANDARD
BEGIN:DAYLIGHT
TZOFFSETFROM:+0100
TZOFFSETTO:+0200
TZNAME:CEST
DTSTART:19930328T010000
END:DAYLIGHT
BEGIN:STANDARD
TZOFFSETFROM:+0200
TZOFFSETTO:+0100
TZNAME:CET
DTSTART:19930926T010000
END:STANDARD
BEGIN:DAYLIGHT
TZOFFSETFROM:+0100
TZOFFSETTO:+0200
TZNAME:CEST
DTSTART:19940327T010000
END:DAYLIGHT
BEGIN:STANDARD
TZOFFSETFROM:+0200
TZOFFSETTO:+0100
TZNAME:CET
DTSTART:19940925T010000
END:STANDARD
BEGIN:DAYLIGHT
TZOFFSETFROM:+0100
TZOFFSETTO:+0200
TZNAME:CEST
DTSTART:19950326T010000
END:DAYLIGHT
BEGIN:STANDARD
TZOFFSETFROM:+0200
TZOFFSETTO:+0100
TZNAME:CET
DTSTART:19950924T010000
END:STANDARD
BEGIN:DAYLIGHT
TZOFFSETFROM:+0100
TZOFFSETTO:+0200
TZNAME:CEST
DTSTART:19960331T010000
END:DAYLIGHT
BEGIN:STANDARD
TZOFFSETFROM:+0200
TZOFFSETTO:+0100
TZNAME:CET
DTSTART:19961027T010000
END:STANDARD
BEGIN:DAYLIGHT
TZOFFSETFROM:+0100
TZOFFSETTO:+0200
TZNAME:CEST
DTSTART:19970330T010000
END:DAYLIGHT
BEGIN:STANDARD
TZOFFSETFROM:+0200
TZOFFSETTO:+0100
TZNAME:CET
DTSTART:19971026T010000
END:STANDARD
BEGIN:DAYLIGHT
TZOFFSETFROM:+0100
TZOFFSETTO:+0200
TZNAME:CEST
DTSTART:19980329T010000
END:DAYLIGHT
BEGIN:STANDARD
TZOFFSETFROM:+0200
TZOFFSETTO:+0100
TZNAME:CET
DTSTART:19981025T010000
END:STANDARD
BEGIN:DAYLIGHT
TZOFFSETFROM:+0100
TZOFFSETTO:+0200
TZNAME:CEST
DTSTART:19990328T010000
END:DAYLIGHT
BEGIN:STANDARD
TZOFFSETFROM:+0200
TZOFFSETTO:+0100
TZNAME:CET
DTSTART:19991031T010000
END:STANDARD
BEGIN:DAYLIGHT
TZOFFSETFROM:+0100
TZOFFSETTO:+0200
TZNAME:CEST
DTSTART:20000326T010000
END:DAYLIGHT
BEGIN:STANDARD
TZOFFSETFROM:+0200
TZOFFSETTO:+0100
TZNAME:CET
DTSTART:20001029T010000
END:STANDARD
BEGIN:DAYLIGHT
TZOFFSETFROM:+0100
TZOFFSETTO:+0200
TZNAME:CEST
DTSTART:20010325T010000
END:DAYLIGHT
BEGIN:STANDARD
TZOFFSETFROM:+0200
TZOFFSETTO:+0100
TZNAME:CET
DTSTART:20011028T010000
END:STANDARD
BEGIN:DAYLIGHT
TZOFFSETFROM:+0100
TZOFFSETTO:+0200
TZNAME:CEST
DTSTART:20020331T010000
END:DAYLIGHT
BEGIN:STANDARD
TZOFFSETFROM:+0200
TZOFFSETTO:+0100
TZNAME:CET
DTSTART:20021027T010000
END:STANDARD
BEGIN:DAYLIGHT
TZOFFSETFROM:+0100
TZOFFSETTO:+0200
TZNAME:CEST
DTSTART:20030330T010000
END:DAYLIGHT
BEGIN:STANDARD
TZOFFSETFROM:+0200
TZOFFSETTO:+0100
TZNAME:CET
DTSTART:20031026T010000
END:STANDARD
BEGIN:DAYLIGHT
TZOFFSETFROM:+0100
TZOFFSETTO:+0200
TZNAME:CEST
DTSTART:20040328T010000
END:DAYLIGHT
BEGIN:STANDARD
TZOFFSETFROM:+0200
TZOFFSETTO:+0100
TZNAME:CET
DTSTART:20041031T010000
END:STANDARD
BEGIN:DAYLIGHT
TZOFFSETFROM:+0100
TZOFFSETTO:+0200
TZNAME:CEST
DTSTART:20050327T010000
END:DAYLIGHT
BEGIN:STANDARD
TZOFFSETFROM:+0200
TZOFFSETTO:+0100
TZNAME:CET
DTSTART:20051030T010000
END:STANDARD
BEGIN:DAYLIGHT
TZOFFSETFROM:+0100
TZOFFSETTO:+0200
TZNAME:CEST
DTSTART:20060326T010000
END:DAYLIGHT
BEGIN:STANDARD
TZOFFSETFROM:+0200
TZOFFSETTO:+0100
TZNAME:CET
DTSTART:20061029T010000
END:STANDARD
BEGIN:DAYLIGHT
TZOFFSETFROM:+0100
TZOFFSETTO:+0200
TZNAME:CEST
DTSTART:20070325T010000
END:DAYLIGHT
BEGIN:STANDARD
TZOFFSETFROM:+0200
TZOFFSETTO:+0100
TZNAME:CET
DTSTART:20071028T010000
END:STANDARD
BEGIN:DAYLIGHT
TZOFFSETFROM:+0100
TZOFFSETTO:+0200
TZNAME:CEST
DTSTART:20080330T010000
END:DAYLIGHT
BEGIN:STANDARD
TZOFFSETFROM:+0200
TZOFFSETTO:+0100
TZNAME:CET
DTSTART:20081026T010000
END:STANDARD
BEGIN:DAYLIGHT
TZOFFSETFROM:+0100
TZOFFSETTO:+0200
TZNAME:CEST
DTSTART:20090329T010000
END:DAYLIGHT
BEGIN:STANDARD
TZOFFSETFROM:+0200
TZOFFSETTO:+0100
TZNAME:CET
DTSTART:20091025T010000
END:STANDARD
BEGIN:DAYLIGHT
TZOFFSETFROM:+0100
TZOFFSETTO:+0200
TZNAME:CEST
DTSTART:20100328T010000
END:DAYLIGHT
BEGIN:STANDARD
TZOFFSETFROM:+0200
TZOFFSETTO:+0100
TZNAME:CET
DTSTART:20101031T010000
END:STANDARD
BEGIN:DAYLIGHT
TZOFFSETFROM:+0100
TZOFFSETTO:+0200
TZNAME:CEST
DTSTART:20110327T010000
END:DAYLIGHT
BEGIN:STANDARD
TZOFFSETFROM:+0200
TZOFFSETTO:+0100
TZNAME:CET
DTSTART:20111030T010000
END:STANDARD
BEGIN:DAYLIGHT
TZOFFSETFROM:+0100
TZOFFSETTO:+0200
TZNAME:CEST
DTSTART:20120325T010000
END:DAYLIGHT
BEGIN:STANDARD
TZOFFSETFROM:+0200
TZOFFSETTO:+0100
TZNAME:CET
DTSTART:20121028T010000
END:STANDARD
BEGIN:DAYLIGHT
TZOFFSETFROM:+0100
TZOFFSETTO:+0200
TZNAME:CEST
DTSTART:20130331T010000
END:DAYLIGHT
BEGIN:STANDARD
TZOFFSETFROM:+0200
TZOFFSETTO:+0100
TZNAME:CET
DTSTART:20131027T010000
END:STANDARD
BEGIN:DAYLIGHT
TZOFFSETFROM:+0100
TZOFFSETTO:+0200
TZNAME:CEST
DTSTART:20140330T010000
END:DAYLIGHT
BEGIN:STANDARD
TZOFFSETFROM:+0200
TZOFFSETTO:+0100
TZNAME:CET
DTSTART:20141026T010000
END:STANDARD
BEGIN:DAYLIGHT
TZOFFSETFROM:+0100
TZOFFSETTO:+0200
TZNAME:CEST
DTSTART:20150329T010000
END:DAYLIGHT
BEGIN:STANDARD
TZOFFSETFROM:+0200
TZOFFSETTO:+0100
TZNAME:CET
DTSTART:20151025T010000
END:STANDARD
BEGIN:DAYLIGHT
TZOFFSETFROM:+0100
TZOFFSETTO:+0200
TZNAME:CEST
DTSTART:20160327T010000
END:DAYLIGHT
BEGIN:STANDARD
TZOFFSETFROM:+0200
TZOFFSETTO:+0100
TZNAME:CET
DTSTART:20161030T010000
END:STANDARD
BEGIN:DAYLIGHT
TZOFFSETFROM:+0100
TZOFFSETTO:+0200
TZNAME:CEST
DTSTART:20170326T010000
END:DAYLIGHT
BEGIN:STANDARD
TZOFFSETFROM:+0200
TZOFFSETTO:+0100
TZNAME:CET
DTSTART:20171029T010000
END:STANDARD
BEGIN:DAYLIGHT
TZOFFSETFROM:+0100
TZOFFSETTO:+0200
TZNAME:CEST
DTSTART:20180325T010000
END:DAYLIGHT
BEGIN:STANDARD
TZOFFSETFROM:+0200
TZOFFSETTO:+0100
TZNAME:CET
DTSTART:20181028T010000
END:STANDARD
BEGIN:DAYLIGHT
TZOFFSETFROM:+0100
TZOFFSETTO:+0200
TZNAME:CEST
DTSTART:20190331T010000
END:DAYLIGHT
BEGIN:STANDARD
TZOFFSETFROM:+0200
TZOFFSETTO:+0100
TZNAME:CET
DTSTART:20191027T010000
END:STANDARD
BEGIN:DAYLIGHT
TZOFFSETFROM:+0100
TZOFFSETTO:+0200
TZNAME:CEST
DTSTART:20200329T010000
END:DAYLIGHT
BEGIN:STANDARD
TZOFFSETFROM:+0200
TZOFFSETTO:+0100
TZNAME:CET
DTSTART:20201025T010000
END:STANDARD
BEGIN:DAYLIGHT
TZOFFSETFROM:+0100
TZOFFSETTO:+0200
TZNAME:CEST
DTSTART:20210328T010000
END:DAYLIGHT
BEGIN:STANDARD
TZOFFSETFROM:+0200
TZOFFSETTO:+0100
TZNAME:CET
DTSTART:20211031T010000
END:STANDARD
BEGIN:DAYLIGHT
TZOFFSETFROM:+0100
TZOFFSETTO:+0200
TZNAME:CEST
DTSTART:20220327T010000
END:DAYLIGHT
BEGIN:STANDARD
TZOFFSETFROM:+0200
TZOFFSETTO:+0100
TZNAME:CET
DTSTART:20221030T010000
END:STANDARD
BEGIN:DAYLIGHT
TZOFFSETFROM:+0100
TZOFFSETTO:+0200
TZNAME:CEST
DTSTART:20230326T010000
END:DAYLIGHT
BEGIN:STANDARD
TZOFFSETFROM:+0200
TZOFFSETTO:+0100
TZNAME:CET
DTSTART:20231029T010000
END:STANDARD
BEGIN:DAYLIGHT
TZOFFSETFROM:+0100
TZOFFSETTO:+0200
TZNAME:CEST
DTSTART:20240331T010000
END:DAYLIGHT
BEGIN:STANDARD
TZOFFSETFROM:+0200
TZOFFSETTO:+0100
TZNAME:CET
DTSTART:20241027T010000
END:STANDARD
BEGIN:DAYLIGHT
TZOFFSETFROM:+0100
TZOFFSETTO:+0200
TZNAME:CEST
DTSTART:20250330T010000
END:DAYLIGHT
BEGIN:STANDARD
TZOFFSETFROM:+0200
TZOFFSETTO:+0100
TZNAME:CET
DTSTART:20251026T010000
END:STANDARD
BEGIN:DAYLIGHT
TZOFFSETFROM:+0100
TZOFFSETTO:+0200
TZNAME:CEST
DTSTART:20260329T010000
END:DAYLIGHT
BEGIN:STANDARD
TZOFFSETFROM:+0200
TZOFFSETTO:+0100
TZNAME:CET
DTSTART:20261025T010000
END:STANDARD
END:VTIMEZONE
BEGIN:VEVENT
DTSTART;TZID=Europe/Paris:20260423T172047
DTEND;TZID=Europe/Paris:20250726T210000
DTSTAMP:20260423T172047
CREATED:20250722T063912Z
LAST-MODIFIED:20250722T064122Z
UID:35314-0-1753563600@www.faverges-seythenex.fr
SUMMARY:Concert "CompiGroup'"
DESCRIPTION:
URL:https://www.faverges-seythenex.fr/event/concert-compigroup/
LOCATION:Val de Tamié\, 255 route des Noyers - Les Combes\, Faverges-Seythenex\, 74210\, France
CATEGORIES:Musique
ATTACH;FMTTYPE=image/jpeg:https://www.faverges-seythenex.fr/wp-content/uploads/2025/07/Unknown-1.jpeg
END:VEVENT
BEGIN:VEVENT
DTSTART;TZID=Europe/Paris:20170503T203000
DTEND;TZID=Europe/Paris:20170503T223000
DTSTAMP:20260423T172047
CREATED:20170425T081109Z
LAST-MODIFIED:20170425T081109Z
UID:2985-1493843400-1493850600@www.faverges-seythenex.fr
SUMMARY:Cinéma "Et les mistrals gagnants"
DESCRIPTION:
URL:https://www.faverges-seythenex.fr/event/cinema-et-les-mistrals-gagnants/
END:VEVENT
BEGIN:VEVENT
DTSTART;TZID=Europe/Paris:20170506T103000
DTEND;TZID=Europe/Paris:20170506T110000
DTSTAMP:20260423T172047
CREATED:20170425T080709Z
LAST-MODIFIED:20170425T080736Z
UID:2978-1494066600-1494068400@www.faverges-seythenex.fr
SUMMARY:Samedi qui conte
DESCRIPTION:Thème «Les histoires de la lampes magique». Présenté par les bibliothécaires. A partir de 2 ans. Entrée libre.
URL:https://www.faverges-seythenex.fr/event/samedi-qui-conte/
LOCATION:Médiathèque de Faverges\, Rue Tissot-Dupont\, FAVERGES\, 74210
END:VEVENT
BEGIN:VEVENT
DTSTART;TZID=Europe/Paris:20170508T110000
DTEND;TZID=Europe/Paris:20170508T170000
DTSTAMP:20260423T172047
CREATED:20170419T093241Z
LAST-MODIFIED:20170419T093301Z
UID:2915-1494241200-1494262800@www.faverges-seythenex.fr
SUMMARY:Commémoration 8 mai 1945
DESCRIPTION:La cérémonie de commémoration du 72e anniversaire de l’Armistice de 1945 se déroulera le 8 mai 2017 : \n\nà Faverges\, rassemblement à 11h place Serand\,\nà Seythenex\, rassemblement à 16h devant le monument aux Morts.
URL:https://www.faverges-seythenex.fr/event/commemoration-8-mai-1945/
END:VEVENT
BEGIN:VEVENT
DTSTART;TZID=Europe/Paris:20170510T203000
DTEND;TZID=Europe/Paris:20170510T223000
DTSTAMP:20260423T172047
CREATED:20170425T081144Z
LAST-MODIFIED:20170425T081144Z
UID:2987-1494448200-1494455400@www.faverges-seythenex.fr
SUMMARY:Cinéma "Les figures de l'ombre"
DESCRIPTION:
URL:https://www.faverges-seythenex.fr/event/cinema-les-figures-de-lombre/
END:VEVENT
BEGIN:VEVENT
DTSTART;TZID=Europe/Paris:20170512T193000
DTEND;TZID=Europe/Paris:20170512T200000
DTSTAMP:20260423T172047
CREATED:20170425T080826Z
LAST-MODIFIED:20170425T080834Z
UID:2980-1494617400-1494619200@www.faverges-seythenex.fr
SUMMARY:Conférence «Les plantes sauvages de chez nous..."
DESCRIPTION:L’association «La vie aux combes» propose «Les plantes sauvages de chez nous\, découvertes de recettes de cuisine\, de phytothérapie et de cosmétique» une conférence de Sabrina Millot de «La valse des aromes».\nEntrée 3 euros\, gratuit pour les enfants.
URL:https://www.faverges-seythenex.fr/event/conference-les-plantes-sauvages-de-chez-nous/
END:VEVENT
BEGIN:VEVENT
DTSTART;VALUE=DATE:20170513
DTEND;VALUE=DATE:20170514
DTSTAMP:20260423T172047
CREATED:20161107T094203Z
LAST-MODIFIED:20161107T094203Z
UID:1091-1494633600-1494719999@www.faverges-seythenex.fr
SUMMARY:Tournoi jeunes de rugby
DESCRIPTION:
URL:https://www.faverges-seythenex.fr/event/tournoi-jeunes-de-rugby/
END:VEVENT
BEGIN:VEVENT
DTSTART;VALUE=DATE:20170513
DTEND;VALUE=DATE:20170514
DTSTAMP:20260423T172047
CREATED:20161107T094232Z
LAST-MODIFIED:20161107T094232Z
UID:1094-1494633600-1494719999@www.faverges-seythenex.fr
SUMMARY:Tournoi interne Jeunes de badminton
DESCRIPTION:
URL:https://www.faverges-seythenex.fr/event/tournoi-interne-jeunes-de-badminton/
LOCATION:Salle omnisports\, 895 route d'Albertville\, Faverges-Seythenex\, 74210\, France
END:VEVENT
BEGIN:VEVENT
DTSTART;TZID=Europe/Paris:20170513T090000
DTEND;TZID=Europe/Paris:20170513T180000
DTSTAMP:20260423T172047
CREATED:20170405T092627Z
LAST-MODIFIED:20170425T080111Z
UID:2699-1494666000-1494698400@www.faverges-seythenex.fr
SUMMARY:Le Parc aux artistes
DESCRIPTION:Samedi 13 mai\, toute la journée\, des artistes s’exposent dans le parc Berger. Peinture\, aquarelle\, photo… vous aurez l’occasion de découvrir les talents des nombreux artistes de notre territoire.\nCette journée est proposée par le Lycée La Fontaine\, représenté par les classes de Bac pro vente\, avec l’appui de la Municipalité de Faverges-Seythenex. \nL’accès au Parc des artistes est libre\, de 9h à 18h (repli à la salle polyvalente en cas de mauvais temps).\nBuvette et petite restauration proposées sur place. \nInfo\, inscription : 06 71 40 24 29 / email : s.cattaneo-godard@orange.fr
URL:https://www.faverges-seythenex.fr/event/le-parc-aux-artistes/
LOCATION:Salle polyvalente
END:VEVENT
BEGIN:VEVENT
DTSTART;TZID=Europe/Paris:20170513T150000
DTEND;TZID=Europe/Paris:20170513T180000
DTSTAMP:20260423T172047
CREATED:20170425T075809Z
LAST-MODIFIED:20170425T075809Z
UID:2966-1494687600-1494698400@www.faverges-seythenex.fr
SUMMARY:Troc' Plantes
DESCRIPTION:7ème édition de Troc’ Plantes\nVenez échanger vos plants\, graines\, boutures\, conseils et astuces… (ou venez les mains vides !).\nOuvert à tous et gratuit.
URL:https://www.faverges-seythenex.fr/event/troc-plantes/
END:VEVENT
BEGIN:VEVENT
DTSTART;TZID=Europe/Paris:20170513T203000
DTEND;TZID=Europe/Paris:20170513T223000
DTSTAMP:20260423T172047
CREATED:20170425T075510Z
LAST-MODIFIED:20170425T080307Z
UID:2964-1494707400-1494714600@www.faverges-seythenex.fr
SUMMARY:Théâtre "6 filles couleur rose"
DESCRIPTION:Millésime 89 invite la troupe doussardienne «Les Raymondes». \nSix demoiselles d’honneur se réfugient dans l’ancienne chambre de jeune fille de la mariée et fuient la noce qui se déroule «hors-scène».  Insolentes et caustiques\, drôles et touchantes\, les répliques et règlements de compte fusent et se répondent dans cette comédie dynamique\, cruelle et sentimentale.\nTout public.\nTarifs : 9 euros – 7 euros (adhérents Millésime 89\, La Mar(t)mite\, La Soierie\, FNCTA et moins de 18 ans).
URL:https://www.faverges-seythenex.fr/event/theatre-6-filles-couleur-rose/
END:VEVENT
BEGIN:VEVENT
DTSTART;TZID=Europe/Paris:20170515T100000
DTEND;TZID=Europe/Paris:20170515T150000
DTSTAMP:20260423T172047
CREATED:20170425T082859Z
LAST-MODIFIED:20170425T083629Z
UID:2998-1494842400-1494860400@www.faverges-seythenex.fr
SUMMARY:Braderie de la solidarité
DESCRIPTION:Au sous-sol de La Soierie
URL:https://www.faverges-seythenex.fr/event/braderie-de-la-solidarite-4/
END:VEVENT
BEGIN:VEVENT
DTSTART;TZID=Europe/Paris:20170515T100000
DTEND;TZID=Europe/Paris:20170515T170000
DTSTAMP:20260423T172047
CREATED:20170425T080604Z
LAST-MODIFIED:20170425T081632Z
UID:2974-1494842400-1494867600@www.faverges-seythenex.fr
SUMMARY:Le festival des cabanes 2017 : expo maquettes
DESCRIPTION:Premier jour de présentation des  45 maquettes de cabanes\, conçues par des étudiants en architecture et des architectes dans le cadre de la seconde édition du festival. Ces maquettes seront exposées au Fort de Tamié\, du 15 mai au 30 septembre (pendant les heures d’ouverture du fort).\nEntrée gratuite.\nFort de Tamié
URL:https://www.faverges-seythenex.fr/event/le-festival-des-cabanes-2017-expo-maquettes/
LOCATION:Fort de Tamié
END:VEVENT
BEGIN:VEVENT
DTSTART;TZID=Europe/Paris:20170516T150000
DTEND;TZID=Europe/Paris:20170603T160000
DTSTAMP:20260423T172047
CREATED:20170425T075917Z
LAST-MODIFIED:20170505T125407Z
UID:2970-1494946800-1496505600@www.faverges-seythenex.fr
SUMMARY:Expo peinture Gérardo Melendez
DESCRIPTION:Gérardo Melendez est un artiste plasticien pluridisciplinaire Uginois. Il réalise un travail inspiré des mondes fantastiques où la femme – incarnée par des créatures évoquant des déesses\, des sorcières\, des fées ou des diablesses\, toutes allégories de la nuit\, du feu\, de la grotte ou de l’eau – règne en harmonie.\nSon mode de création : l’acrylique sur papier et sur bois et apport d’éléments végétaux et divers.\nEntréee libre et gratuite.
URL:https://www.faverges-seythenex.fr/event/expo-peinture/
LOCATION:Médiathèque de Faverges\, Rue Tissot-Dupont\, FAVERGES\, 74210
END:VEVENT
BEGIN:VEVENT
DTSTART;TZID=Europe/Paris:20170516T203000
DTEND;TZID=Europe/Paris:20170516T223000
DTSTAMP:20260423T172047
CREATED:20170425T081358Z
LAST-MODIFIED:20170425T081358Z
UID:2995-1494966600-1494973800@www.faverges-seythenex.fr
SUMMARY:Cinéma "Sage femme"
DESCRIPTION:
URL:https://www.faverges-seythenex.fr/event/cinema-sage-femme/
LOCATION:Foyer rural de Seythenex\, 2055 route des Grottes\, Seythenex\, 74210\, France
END:VEVENT
BEGIN:VEVENT
DTSTART;TZID=Europe/Paris:20170517T203000
DTEND;TZID=Europe/Paris:20170517T223000
DTSTAMP:20260423T172047
CREATED:20170425T081222Z
LAST-MODIFIED:20170425T081222Z
UID:2989-1495053000-1495060200@www.faverges-seythenex.fr
SUMMARY:Cinéma "De l'autre côté de l'espoir"
DESCRIPTION:
URL:https://www.faverges-seythenex.fr/event/cinema-de-lautre-cote-de-lespoir/
END:VEVENT
BEGIN:VEVENT
DTSTART;TZID=Europe/Paris:20170521T070000
DTEND;TZID=Europe/Paris:20170521T180000
DTSTAMP:20260423T172047
CREATED:20170419T092100Z
LAST-MODIFIED:20170510T125524Z
UID:2910-1495350000-1495389600@www.faverges-seythenex.fr
SUMMARY:Vide-greniers
DESCRIPTION:Accro2Gym organise son premier vide-greniers le dimanche 21 mai 2017. \nL’accès est gratuit\, et sur place\, vous pourrez trouver une buvette avec restauration\, vente de bonbons\, gâteaux\, pêche aux canards\, etc. au profit de l’association. \nVous pouvez vous inscrire en tant qu’exposant en téléchargeant le bulletin d’inscription sur Accro2gym.fr \nTarif pour les exposants : 8 € les 2\,5 m linéaires\, + 8 € si emplacement voiture. \nRepli possible à l’intérieur de la salle polyvalente en cas de pluie. \nRenseignements :\n– Kathy : 06 18 54 46 36\,\n– Gaëlle: 06 13 38 58 01. \n 
URL:https://www.faverges-seythenex.fr/event/vide-greniers/
LOCATION:Place Joseph Serand
END:VEVENT
BEGIN:VEVENT
DTSTART;TZID=Europe/Paris:20170521T100000
DTEND;TZID=Europe/Paris:20170521T170000
DTSTAMP:20260423T172047
CREATED:20170515T132637Z
LAST-MODIFIED:20170515T133101Z
UID:3110-1495360800-1495386000@www.faverges-seythenex.fr
SUMMARY:Kermesse
DESCRIPTION:Kermesse de l’ACCMF\, association cultuelle et culturelle des musulmans de Faverges\, animations pour les enfants\, vente de couscous et de pâtisseries orientales.\nEntrée gratuite.
URL:https://www.faverges-seythenex.fr/event/kermesse/
LOCATION:Salle omnisports\, 895 route d'Albertville\, Faverges-Seythenex\, 74210\, France
END:VEVENT
BEGIN:VEVENT
DTSTART;TZID=Europe/Paris:20170524T203000
DTEND;TZID=Europe/Paris:20170524T223000
DTSTAMP:20260423T172047
CREATED:20170425T081256Z
LAST-MODIFIED:20170519T122707Z
UID:2991-1495657800-1495665000@www.faverges-seythenex.fr
SUMMARY:Cinéma "Un profil pour deux"
DESCRIPTION:De Stéphane Robelin \nAvec Pierre Richard\, Yaniss Lespert\, Fanny Valette \nPierre\, veuf et retraité\, ne sort plus de chez lui depuis deux ans. Il découvre les joies d’internet grâce à Alex\, un jeune homme embauché par sa fille pour lui enseigner les rudiments de l’informatique. Sur un site de rencontre\, une ravissante jeune femme\, Flora63\, séduite par le romantisme de Pierre\, lui propose un premier rendez-vous. Amoureux\, Pierre revit. Mais sur son profil il a mis une photo d’Alex et non la sienne. Pierre doit alors convaincre le jeune homme de rencontrer Flora à sa place. \n 
URL:https://www.faverges-seythenex.fr/event/cinema-un-profil-pour-deux/
END:VEVENT
BEGIN:VEVENT
DTSTART;TZID=Europe/Paris:20170525T090000
DTEND;TZID=Europe/Paris:20170525T180000
DTSTAMP:20260423T172047
CREATED:20170425T081002Z
LAST-MODIFIED:20170425T081002Z
UID:2983-1495702800-1495735200@www.faverges-seythenex.fr
SUMMARY:Tournoi de foot des Portugais
DESCRIPTION:Tournoi de foot des Portugais
URL:https://www.faverges-seythenex.fr/event/tournoi-de-foot-des-portugais/
END:VEVENT
BEGIN:VEVENT
DTSTART;VALUE=DATE:20170527
DTEND;VALUE=DATE:20170528
DTSTAMP:20260423T172047
CREATED:20170505T124832Z
LAST-MODIFIED:20170505T124954Z
UID:3044-1495843200-1495929599@www.faverges-seythenex.fr
SUMMARY:Concours canin : le Biewer Yorkshire Terrier
DESCRIPTION:Les championnats de France Biewer ont lieu le samedi 27 mai à 10h au foyer rural de Seythenex.\nIls sont organisés par le Biewer Club de France pour sa troisième nationale d’élevage. \nEntrée gratuite\nPetite restauration et buvette avec Sambuy’Event
URL:https://www.faverges-seythenex.fr/event/concours-canin-le-biewer-yorkshire-terrier/
END:VEVENT
BEGIN:VEVENT
DTSTART;TZID=Europe/Paris:20170531T203000
DTEND;TZID=Europe/Paris:20170531T223000
DTSTAMP:20260423T172047
CREATED:20170425T081323Z
LAST-MODIFIED:20170519T140001Z
UID:2993-1496262600-1496269800@www.faverges-seythenex.fr
SUMMARY:Cinéma "De plus belle"
DESCRIPTION:De Anne-Gaëlle Daval \nAvec Florence Foresti\, Mathieu Kassovitz\, Nicole Garcia \nLucie est guérie\, sa maladie est presque un lointain souvenir. Sa famille la pousse à aller de l’avant\, vivre\, voir du monde…\nC’est ainsi qu’elle fait la connaissance de Clovis\, charmant… charmeur… et terriblement arrogant. Intrigué par sa franchise et sa répartie\, Clovis va tout faire pour séduire Lucie\, qui n’a pourtant aucune envie de se laisser faire.\nAu contact de Dalila\, prof de danse haute en couleur\, Lucie va réapprendre à aimer\, à s’aimer\, pour devenir enfin la femme qu’elle n’a jamais su être. Pour sa mère\, pour sa fille\, pour Clovis… \nTarifs : 5 euros plein tarif\, 4 euros adhérents\, -18 ans et chômeurs
URL:https://www.faverges-seythenex.fr/event/cinema-de-plus-belle/
END:VEVENT
END:VCALENDAR