BEGIN:VCALENDAR
VERSION:2.0
PRODID:-//Faverges-Seythenex - ECPv6.15.18//NONSGML v1.0//EN
CALSCALE:GREGORIAN
METHOD:PUBLISH
X-WR-CALNAME:Faverges-Seythenex
X-ORIGINAL-URL:https://www.faverges-seythenex.fr
X-WR-CALDESC:Évènements pour Faverges-Seythenex
REFRESH-INTERVAL;VALUE=DURATION:PT1H
X-Robots-Tag:noindex
X-PUBLISHED-TTL:PT1H
BEGIN:VTIMEZONE
TZID:Europe/Paris
BEGIN:DAYLIGHT
TZOFFSETFROM:+0100
TZOFFSETTO:+0200
TZNAME:CEST
DTSTART:19760328T000000
END:DAYLIGHT
BEGIN:STANDARD
TZOFFSETFROM:+0200
TZOFFSETTO:+0100
TZNAME:CET
DTSTART:19760925T230000
END:STANDARD
BEGIN:DAYLIGHT
TZOFFSETFROM:+0100
TZOFFSETTO:+0200
TZNAME:CEST
DTSTART:19770403T010000
END:DAYLIGHT
BEGIN:STANDARD
TZOFFSETFROM:+0200
TZOFFSETTO:+0100
TZNAME:CET
DTSTART:19770925T010000
END:STANDARD
BEGIN:DAYLIGHT
TZOFFSETFROM:+0100
TZOFFSETTO:+0200
TZNAME:CEST
DTSTART:19780402T010000
END:DAYLIGHT
BEGIN:STANDARD
TZOFFSETFROM:+0200
TZOFFSETTO:+0100
TZNAME:CET
DTSTART:19781001T010000
END:STANDARD
BEGIN:DAYLIGHT
TZOFFSETFROM:+0100
TZOFFSETTO:+0200
TZNAME:CEST
DTSTART:19790401T010000
END:DAYLIGHT
BEGIN:STANDARD
TZOFFSETFROM:+0200
TZOFFSETTO:+0100
TZNAME:CET
DTSTART:19790930T010000
END:STANDARD
BEGIN:DAYLIGHT
TZOFFSETFROM:+0100
TZOFFSETTO:+0200
TZNAME:CEST
DTSTART:19800406T010000
END:DAYLIGHT
BEGIN:STANDARD
TZOFFSETFROM:+0200
TZOFFSETTO:+0100
TZNAME:CET
DTSTART:19800928T010000
END:STANDARD
BEGIN:DAYLIGHT
TZOFFSETFROM:+0100
TZOFFSETTO:+0200
TZNAME:CEST
DTSTART:19810329T010000
END:DAYLIGHT
BEGIN:STANDARD
TZOFFSETFROM:+0200
TZOFFSETTO:+0100
TZNAME:CET
DTSTART:19810927T010000
END:STANDARD
BEGIN:DAYLIGHT
TZOFFSETFROM:+0100
TZOFFSETTO:+0200
TZNAME:CEST
DTSTART:19820328T010000
END:DAYLIGHT
BEGIN:STANDARD
TZOFFSETFROM:+0200
TZOFFSETTO:+0100
TZNAME:CET
DTSTART:19820926T010000
END:STANDARD
BEGIN:DAYLIGHT
TZOFFSETFROM:+0100
TZOFFSETTO:+0200
TZNAME:CEST
DTSTART:19830327T010000
END:DAYLIGHT
BEGIN:STANDARD
TZOFFSETFROM:+0200
TZOFFSETTO:+0100
TZNAME:CET
DTSTART:19830925T010000
END:STANDARD
BEGIN:DAYLIGHT
TZOFFSETFROM:+0100
TZOFFSETTO:+0200
TZNAME:CEST
DTSTART:19840325T010000
END:DAYLIGHT
BEGIN:STANDARD
TZOFFSETFROM:+0200
TZOFFSETTO:+0100
TZNAME:CET
DTSTART:19840930T010000
END:STANDARD
BEGIN:DAYLIGHT
TZOFFSETFROM:+0100
TZOFFSETTO:+0200
TZNAME:CEST
DTSTART:19850331T010000
END:DAYLIGHT
BEGIN:STANDARD
TZOFFSETFROM:+0200
TZOFFSETTO:+0100
TZNAME:CET
DTSTART:19850929T010000
END:STANDARD
BEGIN:DAYLIGHT
TZOFFSETFROM:+0100
TZOFFSETTO:+0200
TZNAME:CEST
DTSTART:19860330T010000
END:DAYLIGHT
BEGIN:STANDARD
TZOFFSETFROM:+0200
TZOFFSETTO:+0100
TZNAME:CET
DTSTART:19860928T010000
END:STANDARD
BEGIN:DAYLIGHT
TZOFFSETFROM:+0100
TZOFFSETTO:+0200
TZNAME:CEST
DTSTART:19870329T010000
END:DAYLIGHT
BEGIN:STANDARD
TZOFFSETFROM:+0200
TZOFFSETTO:+0100
TZNAME:CET
DTSTART:19870927T010000
END:STANDARD
BEGIN:DAYLIGHT
TZOFFSETFROM:+0100
TZOFFSETTO:+0200
TZNAME:CEST
DTSTART:19880327T010000
END:DAYLIGHT
BEGIN:STANDARD
TZOFFSETFROM:+0200
TZOFFSETTO:+0100
TZNAME:CET
DTSTART:19880925T010000
END:STANDARD
BEGIN:DAYLIGHT
TZOFFSETFROM:+0100
TZOFFSETTO:+0200
TZNAME:CEST
DTSTART:19890326T010000
END:DAYLIGHT
BEGIN:STANDARD
TZOFFSETFROM:+0200
TZOFFSETTO:+0100
TZNAME:CET
DTSTART:19890924T010000
END:STANDARD
BEGIN:DAYLIGHT
TZOFFSETFROM:+0100
TZOFFSETTO:+0200
TZNAME:CEST
DTSTART:19900325T010000
END:DAYLIGHT
BEGIN:STANDARD
TZOFFSETFROM:+0200
TZOFFSETTO:+0100
TZNAME:CET
DTSTART:19900930T010000
END:STANDARD
BEGIN:DAYLIGHT
TZOFFSETFROM:+0100
TZOFFSETTO:+0200
TZNAME:CEST
DTSTART:19910331T010000
END:DAYLIGHT
BEGIN:STANDARD
TZOFFSETFROM:+0200
TZOFFSETTO:+0100
TZNAME:CET
DTSTART:19910929T010000
END:STANDARD
BEGIN:DAYLIGHT
TZOFFSETFROM:+0100
TZOFFSETTO:+0200
TZNAME:CEST
DTSTART:19920329T010000
END:DAYLIGHT
BEGIN:STANDARD
TZOFFSETFROM:+0200
TZOFFSETTO:+0100
TZNAME:CET
DTSTART:19920927T010000
END:STANDARD
BEGIN:DAYLIGHT
TZOFFSETFROM:+0100
TZOFFSETTO:+0200
TZNAME:CEST
DTSTART:19930328T010000
END:DAYLIGHT
BEGIN:STANDARD
TZOFFSETFROM:+0200
TZOFFSETTO:+0100
TZNAME:CET
DTSTART:19930926T010000
END:STANDARD
BEGIN:DAYLIGHT
TZOFFSETFROM:+0100
TZOFFSETTO:+0200
TZNAME:CEST
DTSTART:19940327T010000
END:DAYLIGHT
BEGIN:STANDARD
TZOFFSETFROM:+0200
TZOFFSETTO:+0100
TZNAME:CET
DTSTART:19940925T010000
END:STANDARD
BEGIN:DAYLIGHT
TZOFFSETFROM:+0100
TZOFFSETTO:+0200
TZNAME:CEST
DTSTART:19950326T010000
END:DAYLIGHT
BEGIN:STANDARD
TZOFFSETFROM:+0200
TZOFFSETTO:+0100
TZNAME:CET
DTSTART:19950924T010000
END:STANDARD
BEGIN:DAYLIGHT
TZOFFSETFROM:+0100
TZOFFSETTO:+0200
TZNAME:CEST
DTSTART:19960331T010000
END:DAYLIGHT
BEGIN:STANDARD
TZOFFSETFROM:+0200
TZOFFSETTO:+0100
TZNAME:CET
DTSTART:19961027T010000
END:STANDARD
BEGIN:DAYLIGHT
TZOFFSETFROM:+0100
TZOFFSETTO:+0200
TZNAME:CEST
DTSTART:19970330T010000
END:DAYLIGHT
BEGIN:STANDARD
TZOFFSETFROM:+0200
TZOFFSETTO:+0100
TZNAME:CET
DTSTART:19971026T010000
END:STANDARD
BEGIN:DAYLIGHT
TZOFFSETFROM:+0100
TZOFFSETTO:+0200
TZNAME:CEST
DTSTART:19980329T010000
END:DAYLIGHT
BEGIN:STANDARD
TZOFFSETFROM:+0200
TZOFFSETTO:+0100
TZNAME:CET
DTSTART:19981025T010000
END:STANDARD
BEGIN:DAYLIGHT
TZOFFSETFROM:+0100
TZOFFSETTO:+0200
TZNAME:CEST
DTSTART:19990328T010000
END:DAYLIGHT
BEGIN:STANDARD
TZOFFSETFROM:+0200
TZOFFSETTO:+0100
TZNAME:CET
DTSTART:19991031T010000
END:STANDARD
BEGIN:DAYLIGHT
TZOFFSETFROM:+0100
TZOFFSETTO:+0200
TZNAME:CEST
DTSTART:20000326T010000
END:DAYLIGHT
BEGIN:STANDARD
TZOFFSETFROM:+0200
TZOFFSETTO:+0100
TZNAME:CET
DTSTART:20001029T010000
END:STANDARD
BEGIN:DAYLIGHT
TZOFFSETFROM:+0100
TZOFFSETTO:+0200
TZNAME:CEST
DTSTART:20010325T010000
END:DAYLIGHT
BEGIN:STANDARD
TZOFFSETFROM:+0200
TZOFFSETTO:+0100
TZNAME:CET
DTSTART:20011028T010000
END:STANDARD
BEGIN:DAYLIGHT
TZOFFSETFROM:+0100
TZOFFSETTO:+0200
TZNAME:CEST
DTSTART:20020331T010000
END:DAYLIGHT
BEGIN:STANDARD
TZOFFSETFROM:+0200
TZOFFSETTO:+0100
TZNAME:CET
DTSTART:20021027T010000
END:STANDARD
BEGIN:DAYLIGHT
TZOFFSETFROM:+0100
TZOFFSETTO:+0200
TZNAME:CEST
DTSTART:20030330T010000
END:DAYLIGHT
BEGIN:STANDARD
TZOFFSETFROM:+0200
TZOFFSETTO:+0100
TZNAME:CET
DTSTART:20031026T010000
END:STANDARD
BEGIN:DAYLIGHT
TZOFFSETFROM:+0100
TZOFFSETTO:+0200
TZNAME:CEST
DTSTART:20040328T010000
END:DAYLIGHT
BEGIN:STANDARD
TZOFFSETFROM:+0200
TZOFFSETTO:+0100
TZNAME:CET
DTSTART:20041031T010000
END:STANDARD
BEGIN:DAYLIGHT
TZOFFSETFROM:+0100
TZOFFSETTO:+0200
TZNAME:CEST
DTSTART:20050327T010000
END:DAYLIGHT
BEGIN:STANDARD
TZOFFSETFROM:+0200
TZOFFSETTO:+0100
TZNAME:CET
DTSTART:20051030T010000
END:STANDARD
BEGIN:DAYLIGHT
TZOFFSETFROM:+0100
TZOFFSETTO:+0200
TZNAME:CEST
DTSTART:20060326T010000
END:DAYLIGHT
BEGIN:STANDARD
TZOFFSETFROM:+0200
TZOFFSETTO:+0100
TZNAME:CET
DTSTART:20061029T010000
END:STANDARD
BEGIN:DAYLIGHT
TZOFFSETFROM:+0100
TZOFFSETTO:+0200
TZNAME:CEST
DTSTART:20070325T010000
END:DAYLIGHT
BEGIN:STANDARD
TZOFFSETFROM:+0200
TZOFFSETTO:+0100
TZNAME:CET
DTSTART:20071028T010000
END:STANDARD
BEGIN:DAYLIGHT
TZOFFSETFROM:+0100
TZOFFSETTO:+0200
TZNAME:CEST
DTSTART:20080330T010000
END:DAYLIGHT
BEGIN:STANDARD
TZOFFSETFROM:+0200
TZOFFSETTO:+0100
TZNAME:CET
DTSTART:20081026T010000
END:STANDARD
BEGIN:DAYLIGHT
TZOFFSETFROM:+0100
TZOFFSETTO:+0200
TZNAME:CEST
DTSTART:20090329T010000
END:DAYLIGHT
BEGIN:STANDARD
TZOFFSETFROM:+0200
TZOFFSETTO:+0100
TZNAME:CET
DTSTART:20091025T010000
END:STANDARD
BEGIN:DAYLIGHT
TZOFFSETFROM:+0100
TZOFFSETTO:+0200
TZNAME:CEST
DTSTART:20100328T010000
END:DAYLIGHT
BEGIN:STANDARD
TZOFFSETFROM:+0200
TZOFFSETTO:+0100
TZNAME:CET
DTSTART:20101031T010000
END:STANDARD
BEGIN:DAYLIGHT
TZOFFSETFROM:+0100
TZOFFSETTO:+0200
TZNAME:CEST
DTSTART:20110327T010000
END:DAYLIGHT
BEGIN:STANDARD
TZOFFSETFROM:+0200
TZOFFSETTO:+0100
TZNAME:CET
DTSTART:20111030T010000
END:STANDARD
BEGIN:DAYLIGHT
TZOFFSETFROM:+0100
TZOFFSETTO:+0200
TZNAME:CEST
DTSTART:20120325T010000
END:DAYLIGHT
BEGIN:STANDARD
TZOFFSETFROM:+0200
TZOFFSETTO:+0100
TZNAME:CET
DTSTART:20121028T010000
END:STANDARD
BEGIN:DAYLIGHT
TZOFFSETFROM:+0100
TZOFFSETTO:+0200
TZNAME:CEST
DTSTART:20130331T010000
END:DAYLIGHT
BEGIN:STANDARD
TZOFFSETFROM:+0200
TZOFFSETTO:+0100
TZNAME:CET
DTSTART:20131027T010000
END:STANDARD
BEGIN:DAYLIGHT
TZOFFSETFROM:+0100
TZOFFSETTO:+0200
TZNAME:CEST
DTSTART:20140330T010000
END:DAYLIGHT
BEGIN:STANDARD
TZOFFSETFROM:+0200
TZOFFSETTO:+0100
TZNAME:CET
DTSTART:20141026T010000
END:STANDARD
BEGIN:DAYLIGHT
TZOFFSETFROM:+0100
TZOFFSETTO:+0200
TZNAME:CEST
DTSTART:20150329T010000
END:DAYLIGHT
BEGIN:STANDARD
TZOFFSETFROM:+0200
TZOFFSETTO:+0100
TZNAME:CET
DTSTART:20151025T010000
END:STANDARD
BEGIN:DAYLIGHT
TZOFFSETFROM:+0100
TZOFFSETTO:+0200
TZNAME:CEST
DTSTART:20160327T010000
END:DAYLIGHT
BEGIN:STANDARD
TZOFFSETFROM:+0200
TZOFFSETTO:+0100
TZNAME:CET
DTSTART:20161030T010000
END:STANDARD
BEGIN:DAYLIGHT
TZOFFSETFROM:+0100
TZOFFSETTO:+0200
TZNAME:CEST
DTSTART:20170326T010000
END:DAYLIGHT
BEGIN:STANDARD
TZOFFSETFROM:+0200
TZOFFSETTO:+0100
TZNAME:CET
DTSTART:20171029T010000
END:STANDARD
BEGIN:DAYLIGHT
TZOFFSETFROM:+0100
TZOFFSETTO:+0200
TZNAME:CEST
DTSTART:20180325T010000
END:DAYLIGHT
BEGIN:STANDARD
TZOFFSETFROM:+0200
TZOFFSETTO:+0100
TZNAME:CET
DTSTART:20181028T010000
END:STANDARD
BEGIN:DAYLIGHT
TZOFFSETFROM:+0100
TZOFFSETTO:+0200
TZNAME:CEST
DTSTART:20190331T010000
END:DAYLIGHT
BEGIN:STANDARD
TZOFFSETFROM:+0200
TZOFFSETTO:+0100
TZNAME:CET
DTSTART:20191027T010000
END:STANDARD
BEGIN:DAYLIGHT
TZOFFSETFROM:+0100
TZOFFSETTO:+0200
TZNAME:CEST
DTSTART:20200329T010000
END:DAYLIGHT
BEGIN:STANDARD
TZOFFSETFROM:+0200
TZOFFSETTO:+0100
TZNAME:CET
DTSTART:20201025T010000
END:STANDARD
BEGIN:DAYLIGHT
TZOFFSETFROM:+0100
TZOFFSETTO:+0200
TZNAME:CEST
DTSTART:20210328T010000
END:DAYLIGHT
BEGIN:STANDARD
TZOFFSETFROM:+0200
TZOFFSETTO:+0100
TZNAME:CET
DTSTART:20211031T010000
END:STANDARD
BEGIN:DAYLIGHT
TZOFFSETFROM:+0100
TZOFFSETTO:+0200
TZNAME:CEST
DTSTART:20220327T010000
END:DAYLIGHT
BEGIN:STANDARD
TZOFFSETFROM:+0200
TZOFFSETTO:+0100
TZNAME:CET
DTSTART:20221030T010000
END:STANDARD
BEGIN:DAYLIGHT
TZOFFSETFROM:+0100
TZOFFSETTO:+0200
TZNAME:CEST
DTSTART:20230326T010000
END:DAYLIGHT
BEGIN:STANDARD
TZOFFSETFROM:+0200
TZOFFSETTO:+0100
TZNAME:CET
DTSTART:20231029T010000
END:STANDARD
BEGIN:DAYLIGHT
TZOFFSETFROM:+0100
TZOFFSETTO:+0200
TZNAME:CEST
DTSTART:20240331T010000
END:DAYLIGHT
BEGIN:STANDARD
TZOFFSETFROM:+0200
TZOFFSETTO:+0100
TZNAME:CET
DTSTART:20241027T010000
END:STANDARD
BEGIN:DAYLIGHT
TZOFFSETFROM:+0100
TZOFFSETTO:+0200
TZNAME:CEST
DTSTART:20250330T010000
END:DAYLIGHT
BEGIN:STANDARD
TZOFFSETFROM:+0200
TZOFFSETTO:+0100
TZNAME:CET
DTSTART:20251026T010000
END:STANDARD
BEGIN:DAYLIGHT
TZOFFSETFROM:+0100
TZOFFSETTO:+0200
TZNAME:CEST
DTSTART:20260329T010000
END:DAYLIGHT
BEGIN:STANDARD
TZOFFSETFROM:+0200
TZOFFSETTO:+0100
TZNAME:CET
DTSTART:20261025T010000
END:STANDARD
END:VTIMEZONE
BEGIN:VEVENT
DTSTART;TZID=Europe/Paris:20260424T021929
DTEND;TZID=Europe/Paris:20250726T210000
DTSTAMP:20260424T021929
CREATED:20250722T063912Z
LAST-MODIFIED:20250722T064122Z
UID:35314-0-1753563600@www.faverges-seythenex.fr
SUMMARY:Concert "CompiGroup'"
DESCRIPTION:
URL:https://www.faverges-seythenex.fr/event/concert-compigroup/
LOCATION:Val de Tamié\, 255 route des Noyers - Les Combes\, Faverges-Seythenex\, 74210\, France
CATEGORIES:Musique
ATTACH;FMTTYPE=image/jpeg:https://www.faverges-seythenex.fr/wp-content/uploads/2025/07/Unknown-1.jpeg
END:VEVENT
BEGIN:VEVENT
DTSTART;TZID=Europe/Paris:20161105T090000
DTEND;TZID=Europe/Paris:20161205T170000
DTSTAMP:20260424T021929
CREATED:20161021T075308Z
LAST-MODIFIED:20161021T083623Z
UID:643-1478336400-1480957200@www.faverges-seythenex.fr
SUMMARY:Exposition "l'hiver..."
DESCRIPTION:Exposition « C’était hier\, l’hiver en images » \nD’images en images\, les Alpes et les pays de Savoie ont fait l’objet de nombreux films d’amateurs et de professionnels ainsi qu’en témoigne le fonds de la Cinémathèque des Pays de Savoie et de l’Ain. De livres en livres\, les Alpes et les pays de Savoie ont fait aussi l’objet de nombreux récits. Croiser les récits et les illustrations des ouvrages avec les images en mouvement des cinéastes amateurs tel est le fil conducteur de cette exposition. \n\nDu 5 novembre au 5 décembre à la médiathèque de Faverges-Seythenex\n\nExposition : matériel cinématographique\, affiches\, photos…  \nEntrée libre.
URL:https://www.faverges-seythenex.fr/event/exposition-cetait-hier-lhiver-en-images/
LOCATION:Médiathèque de Faverges\, Rue Tissot-Dupont\, FAVERGES\, 74210
END:VEVENT
BEGIN:VEVENT
DTSTART;TZID=Europe/Paris:20161202T080000
DTEND;TZID=Europe/Paris:20161202T170000
DTSTAMP:20260424T021929
CREATED:20161202T130826Z
LAST-MODIFIED:20161202T130826Z
UID:1429-1480665600-1480698000@www.faverges-seythenex.fr
SUMMARY:Concert pour le Téléthon
DESCRIPTION:
URL:https://www.faverges-seythenex.fr/event/concert-pour-le-telethon/
LOCATION:Eglise de Saint-Ferréol
END:VEVENT
BEGIN:VEVENT
DTSTART;TZID=Europe/Paris:20161202T193000
DTEND;TZID=Europe/Paris:20161202T203000
DTSTAMP:20260424T021929
CREATED:20161103T130657Z
LAST-MODIFIED:20161202T102228Z
UID:971-1480707000-1480710600@www.faverges-seythenex.fr
SUMMARY:Spectacle de conte à la médiathèque
DESCRIPTION:Spectacle musical « Contes et légendes de montagne » par Sylvie Delom   \nAu son de la  guitare et de la guimbarde \n« Quand j’étais gosse dans mon village de montagne\, un vieux bonhomme impressionnant\, bougon et paresseux\, le Père Dumas\, faisait peur aux enfants. Mais lorsque j’ai par hasard pénétré dans sa ferme isolée\, délabrée et sale\, sa parole de conteur me consola de la frousse qu’il me fit… » \nVendredi  2 décembre à 19h30 – Tout public – Entrée libre.
URL:https://www.faverges-seythenex.fr/event/971/
END:VEVENT
BEGIN:VEVENT
DTSTART;TZID=Europe/Paris:20161203T090000
DTEND;TZID=Europe/Paris:20161203T120000
DTSTAMP:20260424T021929
CREATED:20161202T131834Z
LAST-MODIFIED:20161202T131834Z
UID:1438-1480755600-1480766400@www.faverges-seythenex.fr
SUMMARY:Téléthon
DESCRIPTION:Marche et repas
URL:https://www.faverges-seythenex.fr/event/telethon/
LOCATION:Foyer rural\, Seythenex
END:VEVENT
BEGIN:VEVENT
DTSTART;TZID=Europe/Paris:20161203T103000
DTEND;TZID=Europe/Paris:20161203T110000
DTSTAMP:20260424T021929
CREATED:20161202T131325Z
LAST-MODIFIED:20161202T131325Z
UID:1432-1480761000-1480762800@www.faverges-seythenex.fr
SUMMARY:L'heure du conte : "un samedi qui conte"
DESCRIPTION:Le 1er samedi de chaque mois\, les bibliothécaires emmènent les enfants petits et grands sur les traces des héros des contes ou sur les pas de quelques personnages facétieux tout droit sortis des livres illustrés. \nPremière partie : 2-4 ans – Deuxième partie : à partir de 5 ans \nThème du mois : Noël \nEntrée libre dans la limite des places disponibles
URL:https://www.faverges-seythenex.fr/event/lheure-du-conte-un-samedi-qui-conte/
LOCATION:Médiathèque de Faverges\, Rue Tissot-Dupont\, FAVERGES\, 74210
END:VEVENT
BEGIN:VEVENT
DTSTART;TZID=Europe/Paris:20161203T143000
DTEND;TZID=Europe/Paris:20161203T150000
DTSTAMP:20260424T021929
CREATED:20161103T130408Z
LAST-MODIFIED:20161202T101420Z
UID:969-1480775400-1480777200@www.faverges-seythenex.fr
SUMMARY:Films du fonds Mysse à la médiathèque
DESCRIPTION:Projection des films du fonds Mysse\, ancien photographe de Faverges\, consacré à la ville et ses environs. \nLa médiathèque propose une seconde projection : samedi 3 décembre à 14h – Tout public – Entrée libre \nAncien photographe de Faverges\, ses films sont consacrés à Faverges et ses environs.\nAvec la cinémathèque des pays de Savoie et de l’Ain.
URL:https://www.faverges-seythenex.fr/event/films-du-fonds-mysse-a-la-mediatheque/
LOCATION:Médiathèque de Faverges\, Rue Tissot-Dupont\, FAVERGES\, 74210
END:VEVENT
BEGIN:VEVENT
DTSTART;TZID=Europe/Paris:20161203T203000
DTEND;TZID=Europe/Paris:20161203T203000
DTSTAMP:20260424T021929
CREATED:20161128T164644Z
LAST-MODIFIED:20161128T165803Z
UID:1396-1480797000-1480797000@www.faverges-seythenex.fr
SUMMARY:"HK et les déserteurs"
DESCRIPTION:Quel merveilleux rêve ! Brel\, Brassens\, Renaud\, Piaf\, Boris Vian\, Ferré\, Gainsbourg\, Nougaro… Tous traversaient la méditerranée et se rendaient dans un café d’Alger. Après quelques verres\, l’envie leur venait de se joindre à l’orchestre de musique châabi (musique populaire algérienne) qui jouait là pour interpréter leur plus belle chanson !\nDe votre songe\, Kaddour Haddadi a fait un spectacle et un disque sous le patronyme « HK et les déserteurs ». A coup de mandole\, derbouka et violon\, HK et sa fine équipe font danser et apportent une nouvelle dimension aux classiques intemporels que sont «le déserteur»\, «dès que le vent soufflera»\, «Vesoul»…\nSite : hkdeserteurs.fr\nhttps://www.facebook.com/hkdeserteurs/\nTarif : 16 € / 10 € adh. – 25 ans et demandeur d’emploi.
URL:https://www.faverges-seythenex.fr/event/hk-et-les-deserteurs/
END:VEVENT
BEGIN:VEVENT
DTSTART;VALUE=DATE:20161204
DTEND;VALUE=DATE:20161205
DTSTAMP:20260424T021929
CREATED:20161104T150832Z
LAST-MODIFIED:20161104T150832Z
UID:1061-1480809600-1480895999@www.faverges-seythenex.fr
SUMMARY:Compétition d'athlétisme bi-départementale
DESCRIPTION:
URL:https://www.faverges-seythenex.fr/event/competition-dathletisme-bi-departementale/
LOCATION:Salle omnisports\, 895 route d'Albertville\, Faverges-Seythenex\, 74210\, France
END:VEVENT
BEGIN:VEVENT
DTSTART;TZID=Europe/Paris:20161205T160000
DTEND;TZID=Europe/Paris:20161205T170000
DTSTAMP:20260424T021929
CREATED:20161202T151924Z
LAST-MODIFIED:20161202T151924Z
UID:1484-1480953600-1480957200@www.faverges-seythenex.fr
SUMMARY:Journée nationale d'hommage
DESCRIPTION:La cérémonie organisée à l’occasion de la journée nationale d’hommage aux morts pour la France de la guerre d’Algérie et des combats du Maroc et de Tunisie aura lieu le lundi 5 décembre 2016 à partir de 16h\, rassemblement sur la place Serand. \n 
URL:https://www.faverges-seythenex.fr/event/journee-nationale-dhommage/
LOCATION:Place Joseph Serand
ATTACH;FMTTYPE=image/jpeg:https://www.faverges-seythenex.fr/wp-content/uploads/2016/12/drapeaugendarmerie1000.jpg
END:VEVENT
BEGIN:VEVENT
DTSTART;TZID=Europe/Paris:20161207T090000
DTEND;TZID=Europe/Paris:20170107T170000
DTSTAMP:20260424T021929
CREATED:20161128T165317Z
LAST-MODIFIED:20161128T165317Z
UID:1402-1481101200-1483808400@www.faverges-seythenex.fr
SUMMARY:Expo de Numerica Photos Club
DESCRIPTION:Numerica Photos Club s’expose : \n\ndu 7 décembre au 7 janvier\, dans le hall de l’Office de tourisme\,\ndu 12 au 31 décembre à la médiathèque.\n\nEntrée libre.
URL:https://www.faverges-seythenex.fr/event/expo-de-numerica-photos-club/
END:VEVENT
BEGIN:VEVENT
DTSTART;TZID=Europe/Paris:20161207T203000
DTEND;TZID=Europe/Paris:20161207T220000
DTSTAMP:20260424T021929
CREATED:20161202T133026Z
LAST-MODIFIED:20161202T142936Z
UID:1449-1481142600-1481148000@www.faverges-seythenex.fr
SUMMARY:Architecture hors les murs
DESCRIPTION:Projection de 5 courts métrages dans le cadre de la 17ème rencontre internationale du film d’architecture.
URL:https://www.faverges-seythenex.fr/event/film-sur-larchitecture/
END:VEVENT
BEGIN:VEVENT
DTSTART;TZID=Europe/Paris:20161209T203000
DTEND;TZID=Europe/Paris:20161209T223000
DTSTAMP:20260424T021929
CREATED:20161128T164250Z
LAST-MODIFIED:20161128T164507Z
UID:1393-1481315400-1481322600@www.faverges-seythenex.fr
SUMMARY:Soirée Fabric'Arts
DESCRIPTION:La culture pour tous et principalement pour les jeunes !\nDepuis plusieurs mois\, les jeunes du collège Jean Lachenal et du lycée La Fontaine se retrouvent au sein d’ateliers d’écriture et de court-métrage. Proposés dans le cadre de Fabric’Arts par Jean-François Fonlupt\, ancien producteur de cinéma\, avec le concours de nombreuses personnes\, ces ateliers sont le reflet de l’enthousiasme et de la créativité des jeunes.\nLe temps de le restitution et de la présentation au public est venu. Vendredi 9 décembre\, vous êtes conviés à une soirée qui déroulera les textes\, les clips\, les fils et les interviews. Retrouvons-nous à La Soierie\, pour cette soirée Fabric’Arts\, vendredi 9 décembre à 20h30 !\nEntrée gratuite.
URL:https://www.faverges-seythenex.fr/event/soiree-fabricarts/
END:VEVENT
BEGIN:VEVENT
DTSTART;TZID=Europe/Paris:20161210T100000
DTEND;TZID=Europe/Paris:20161210T170000
DTSTAMP:20260424T021929
CREATED:20161202T133302Z
LAST-MODIFIED:20161202T133302Z
UID:1451-1481364000-1481389200@www.faverges-seythenex.fr
SUMMARY:Loto
DESCRIPTION:par le Club Sportif Basket Faverges
URL:https://www.faverges-seythenex.fr/event/loto/
LOCATION:Salle polyvalente
END:VEVENT
BEGIN:VEVENT
DTSTART;TZID=Europe/Paris:20161210T150000
DTEND;TZID=Europe/Paris:20161210T160000
DTSTAMP:20260424T021929
CREATED:20161202T133607Z
LAST-MODIFIED:20161206T160938Z
UID:1453-1481382000-1481385600@www.faverges-seythenex.fr
SUMMARY:Conte de Noël
DESCRIPTION:Spectacle « Raconte-moi Noël » par la Cie La Main qui parle \n  \nPour les enfants à partir de 4 ans \nEntrée libre dans la limite des places disponibles \nPascale et Patricia vous racontent et chantent les coutumes des fêtes de Noel: bûches\, cadeaux\, guirlandes\, Père Noel\, en parlant de leurs origines de façon simple\, en s’appuyant sur des contes traditionnels\, modernes et d’origines diverses… \n 
URL:https://www.faverges-seythenex.fr/event/conte-de-noel/
LOCATION:Médiathèque de Faverges\, Rue Tissot-Dupont\, FAVERGES\, 74210
END:VEVENT
BEGIN:VEVENT
DTSTART;TZID=Europe/Paris:20161216T160000
DTEND;TZID=Europe/Paris:20161223T190000
DTSTAMP:20260424T021929
CREATED:20161109T102800Z
LAST-MODIFIED:20161109T103117Z
UID:1164-1481904000-1482519600@www.faverges-seythenex.fr
SUMMARY:Animations de Noël
DESCRIPTION:Vendredi 16 décembre de 16h à 19h\n● Marché de producteurs avec dégustation de produits régionaux et vin chaud.\nSamedi 17 décembre de 10h à 13h\n● Maquillage et orgue de barbarie.\n● Vente de fromages par le chevrier Bernard Marchand.\n● Votre enfant en photo avec le Père Noël : au magasin Nuance Photo*.\n● Buvette\, crêpes\, vin et chocolat chauds…\nMercredi 21 décembre de 10h à 13h\n●  Peluches géantes et sculpture de ballon.\n●  Votre enfant en photo avec le Père Noël : au magasin Nuance Photo*.\n●  Buvette\, crêpes\, vin et chocolat chauds…\n   Mercredi 21 décembre de 16h à 19h\n●  Peluches géantes et sculpture de ballons.\n●  Contes avec les bibliothécaires à 16h.\n●  Votre enfant en photo avec le Père Noël : Place Piquand avec Numerica Photos Club*.\nJeudi 22 décembre de 16h à 19h\n●  Maquillage et orgue de barbarie.\n●  Chants de Noël par Noëlle.\n●  Votre enfant en photo avec le Père Noël : Place Piquand avec Numerica Photos Club*.\n●  Buvette\, crêpes\, vin et chocolat chauds…\nVendredi 23 décembre de 16h à 19h\n●  Marché de producteurs avec dégustation de produits régionaux et vin chaud.\n●  Echassier.\n●  Conte avec les bibliothécaires à 16h.\n\nL’ARBRE A VOEUX – Dans le hall de l’Office de tourisme\, écrivez votre vœu\, sur un joli papier puis accrochez-le sur l’arbre à voeux !\n Les enfants tout jeunes peuvent également accrocher leur sucette. \n* Première photo offerte par la ville de Faverges-Seythenex
URL:https://www.faverges-seythenex.fr/event/animations-de-noel/
LOCATION:Place Piquand
END:VEVENT
BEGIN:VEVENT
DTSTART;TZID=Europe/Paris:20161217T203000
DTEND;TZID=Europe/Paris:20161217T223000
DTSTAMP:20260424T021929
CREATED:20161128T164953Z
LAST-MODIFIED:20161206T161412Z
UID:1399-1482006600-1482013800@www.faverges-seythenex.fr
SUMMARY:"Le Bocal" en concert
DESCRIPTION:Première partie :  après l’écriture et le théâtre\, c’est au tour de la musique de se mettre en scène dans le cadre de Fabric’Arts. Durant une année\, ce projet a été porté par l’école de musique de Faverges. D’abord les compositions de Thierry Girault et Lilian Guyot. Puis le travail de répétition des élèves de l’école de musique et des jeunes du collège. Nous avons eu l’occasion d’apprécier la première étape de leur travail à la fête de la musique\, ils reviennent conclure par une dynamique première partie.\nDeuxième partie : le concert sera assuré par «Le Bocal»\, ensemble jazz annécien au style inclassable. Un mélange d’énergie rock avec les couleurs harmoniques issues du jazz ; les sons électriques se mélangeant aux cuivres\, des improvisations dans une écriture complexe\, pour produire au final une musique originale et aboutie. Après quinze années d’existence\, ce groupe ne cesse pas de nous ravir !\nlebocal.com\nTarif : 10 € / 5 € adh. – 25 ans et demandeur d’emploi.
URL:https://www.faverges-seythenex.fr/event/le-bocal-en-concert/
END:VEVENT
BEGIN:VEVENT
DTSTART;TZID=Europe/Paris:20161220T203000
DTEND;TZID=Europe/Paris:20161220T220000
DTSTAMP:20260424T021929
CREATED:20161202T134602Z
LAST-MODIFIED:20161202T134602Z
UID:1462-1482265800-1482271200@www.faverges-seythenex.fr
SUMMARY:Cinéma : "Iqbal\, l'enfant qui n'avait pas peur"
DESCRIPTION:Film d’animation à partir de 6 ans
URL:https://www.faverges-seythenex.fr/event/cinema-iqbal-lenfant-qui-navait-pas-peur/
LOCATION:Foyer rural de Seythenex\, 2055 route des Grottes\, Seythenex\, 74210\, France
END:VEVENT
BEGIN:VEVENT
DTSTART;TZID=Europe/Paris:20161221T163000
DTEND;TZID=Europe/Paris:20161221T180000
DTSTAMP:20260424T021929
CREATED:20161202T134917Z
LAST-MODIFIED:20161202T134917Z
UID:1465-1482337800-1482343200@www.faverges-seythenex.fr
SUMMARY:Cinéma : "Julius et le Père Noël"
DESCRIPTION:Film d’animation à partir de 3 ans
URL:https://www.faverges-seythenex.fr/event/cinema-julius-et-le-pere-noel/
END:VEVENT
BEGIN:VEVENT
DTSTART;TZID=Europe/Paris:20161221T203000
DTEND;TZID=Europe/Paris:20161221T220000
DTSTAMP:20260424T021929
CREATED:20161202T141036Z
LAST-MODIFIED:20161202T141036Z
UID:1468-1482352200-1482357600@www.faverges-seythenex.fr
SUMMARY:Cinéma : "Tour de France"
DESCRIPTION:
URL:https://www.faverges-seythenex.fr/event/cinema-tour-de-france/
END:VEVENT
BEGIN:VEVENT
DTSTART;TZID=Europe/Paris:20161228T163000
DTEND;TZID=Europe/Paris:20161228T180000
DTSTAMP:20260424T021929
CREATED:20161202T141225Z
LAST-MODIFIED:20161202T141225Z
UID:1471-1482942600-1482948000@www.faverges-seythenex.fr
SUMMARY:Cinéma : "Ma vie de courgette"
DESCRIPTION:Film d’animation à partir de 6 ans
URL:https://www.faverges-seythenex.fr/event/cinema-ma-vie-de-courgette/
END:VEVENT
BEGIN:VEVENT
DTSTART;TZID=Europe/Paris:20161228T203000
DTEND;TZID=Europe/Paris:20161228T220000
DTSTAMP:20260424T021929
CREATED:20161202T141641Z
LAST-MODIFIED:20161202T141641Z
UID:1474-1482957000-1482962400@www.faverges-seythenex.fr
SUMMARY:Cinéma : "L'invitation"
DESCRIPTION:
URL:https://www.faverges-seythenex.fr/event/cinema-linvitation/
END:VEVENT
END:VCALENDAR