BEGIN:VCALENDAR
VERSION:2.0
PRODID:-//Faverges-Seythenex - ECPv6.15.18//NONSGML v1.0//EN
CALSCALE:GREGORIAN
METHOD:PUBLISH
X-WR-CALNAME:Faverges-Seythenex
X-ORIGINAL-URL:https://www.faverges-seythenex.fr
X-WR-CALDESC:Évènements pour Faverges-Seythenex
REFRESH-INTERVAL;VALUE=DURATION:PT1H
X-Robots-Tag:noindex
X-PUBLISHED-TTL:PT1H
BEGIN:VTIMEZONE
TZID:Europe/Paris
BEGIN:DAYLIGHT
TZOFFSETFROM:+0100
TZOFFSETTO:+0200
TZNAME:CEST
DTSTART:19760328T000000
END:DAYLIGHT
BEGIN:STANDARD
TZOFFSETFROM:+0200
TZOFFSETTO:+0100
TZNAME:CET
DTSTART:19760925T230000
END:STANDARD
BEGIN:DAYLIGHT
TZOFFSETFROM:+0100
TZOFFSETTO:+0200
TZNAME:CEST
DTSTART:19770403T010000
END:DAYLIGHT
BEGIN:STANDARD
TZOFFSETFROM:+0200
TZOFFSETTO:+0100
TZNAME:CET
DTSTART:19770925T010000
END:STANDARD
BEGIN:DAYLIGHT
TZOFFSETFROM:+0100
TZOFFSETTO:+0200
TZNAME:CEST
DTSTART:19780402T010000
END:DAYLIGHT
BEGIN:STANDARD
TZOFFSETFROM:+0200
TZOFFSETTO:+0100
TZNAME:CET
DTSTART:19781001T010000
END:STANDARD
BEGIN:DAYLIGHT
TZOFFSETFROM:+0100
TZOFFSETTO:+0200
TZNAME:CEST
DTSTART:19790401T010000
END:DAYLIGHT
BEGIN:STANDARD
TZOFFSETFROM:+0200
TZOFFSETTO:+0100
TZNAME:CET
DTSTART:19790930T010000
END:STANDARD
BEGIN:DAYLIGHT
TZOFFSETFROM:+0100
TZOFFSETTO:+0200
TZNAME:CEST
DTSTART:19800406T010000
END:DAYLIGHT
BEGIN:STANDARD
TZOFFSETFROM:+0200
TZOFFSETTO:+0100
TZNAME:CET
DTSTART:19800928T010000
END:STANDARD
BEGIN:DAYLIGHT
TZOFFSETFROM:+0100
TZOFFSETTO:+0200
TZNAME:CEST
DTSTART:19810329T010000
END:DAYLIGHT
BEGIN:STANDARD
TZOFFSETFROM:+0200
TZOFFSETTO:+0100
TZNAME:CET
DTSTART:19810927T010000
END:STANDARD
BEGIN:DAYLIGHT
TZOFFSETFROM:+0100
TZOFFSETTO:+0200
TZNAME:CEST
DTSTART:19820328T010000
END:DAYLIGHT
BEGIN:STANDARD
TZOFFSETFROM:+0200
TZOFFSETTO:+0100
TZNAME:CET
DTSTART:19820926T010000
END:STANDARD
BEGIN:DAYLIGHT
TZOFFSETFROM:+0100
TZOFFSETTO:+0200
TZNAME:CEST
DTSTART:19830327T010000
END:DAYLIGHT
BEGIN:STANDARD
TZOFFSETFROM:+0200
TZOFFSETTO:+0100
TZNAME:CET
DTSTART:19830925T010000
END:STANDARD
BEGIN:DAYLIGHT
TZOFFSETFROM:+0100
TZOFFSETTO:+0200
TZNAME:CEST
DTSTART:19840325T010000
END:DAYLIGHT
BEGIN:STANDARD
TZOFFSETFROM:+0200
TZOFFSETTO:+0100
TZNAME:CET
DTSTART:19840930T010000
END:STANDARD
BEGIN:DAYLIGHT
TZOFFSETFROM:+0100
TZOFFSETTO:+0200
TZNAME:CEST
DTSTART:19850331T010000
END:DAYLIGHT
BEGIN:STANDARD
TZOFFSETFROM:+0200
TZOFFSETTO:+0100
TZNAME:CET
DTSTART:19850929T010000
END:STANDARD
BEGIN:DAYLIGHT
TZOFFSETFROM:+0100
TZOFFSETTO:+0200
TZNAME:CEST
DTSTART:19860330T010000
END:DAYLIGHT
BEGIN:STANDARD
TZOFFSETFROM:+0200
TZOFFSETTO:+0100
TZNAME:CET
DTSTART:19860928T010000
END:STANDARD
BEGIN:DAYLIGHT
TZOFFSETFROM:+0100
TZOFFSETTO:+0200
TZNAME:CEST
DTSTART:19870329T010000
END:DAYLIGHT
BEGIN:STANDARD
TZOFFSETFROM:+0200
TZOFFSETTO:+0100
TZNAME:CET
DTSTART:19870927T010000
END:STANDARD
BEGIN:DAYLIGHT
TZOFFSETFROM:+0100
TZOFFSETTO:+0200
TZNAME:CEST
DTSTART:19880327T010000
END:DAYLIGHT
BEGIN:STANDARD
TZOFFSETFROM:+0200
TZOFFSETTO:+0100
TZNAME:CET
DTSTART:19880925T010000
END:STANDARD
BEGIN:DAYLIGHT
TZOFFSETFROM:+0100
TZOFFSETTO:+0200
TZNAME:CEST
DTSTART:19890326T010000
END:DAYLIGHT
BEGIN:STANDARD
TZOFFSETFROM:+0200
TZOFFSETTO:+0100
TZNAME:CET
DTSTART:19890924T010000
END:STANDARD
BEGIN:DAYLIGHT
TZOFFSETFROM:+0100
TZOFFSETTO:+0200
TZNAME:CEST
DTSTART:19900325T010000
END:DAYLIGHT
BEGIN:STANDARD
TZOFFSETFROM:+0200
TZOFFSETTO:+0100
TZNAME:CET
DTSTART:19900930T010000
END:STANDARD
BEGIN:DAYLIGHT
TZOFFSETFROM:+0100
TZOFFSETTO:+0200
TZNAME:CEST
DTSTART:19910331T010000
END:DAYLIGHT
BEGIN:STANDARD
TZOFFSETFROM:+0200
TZOFFSETTO:+0100
TZNAME:CET
DTSTART:19910929T010000
END:STANDARD
BEGIN:DAYLIGHT
TZOFFSETFROM:+0100
TZOFFSETTO:+0200
TZNAME:CEST
DTSTART:19920329T010000
END:DAYLIGHT
BEGIN:STANDARD
TZOFFSETFROM:+0200
TZOFFSETTO:+0100
TZNAME:CET
DTSTART:19920927T010000
END:STANDARD
BEGIN:DAYLIGHT
TZOFFSETFROM:+0100
TZOFFSETTO:+0200
TZNAME:CEST
DTSTART:19930328T010000
END:DAYLIGHT
BEGIN:STANDARD
TZOFFSETFROM:+0200
TZOFFSETTO:+0100
TZNAME:CET
DTSTART:19930926T010000
END:STANDARD
BEGIN:DAYLIGHT
TZOFFSETFROM:+0100
TZOFFSETTO:+0200
TZNAME:CEST
DTSTART:19940327T010000
END:DAYLIGHT
BEGIN:STANDARD
TZOFFSETFROM:+0200
TZOFFSETTO:+0100
TZNAME:CET
DTSTART:19940925T010000
END:STANDARD
BEGIN:DAYLIGHT
TZOFFSETFROM:+0100
TZOFFSETTO:+0200
TZNAME:CEST
DTSTART:19950326T010000
END:DAYLIGHT
BEGIN:STANDARD
TZOFFSETFROM:+0200
TZOFFSETTO:+0100
TZNAME:CET
DTSTART:19950924T010000
END:STANDARD
BEGIN:DAYLIGHT
TZOFFSETFROM:+0100
TZOFFSETTO:+0200
TZNAME:CEST
DTSTART:19960331T010000
END:DAYLIGHT
BEGIN:STANDARD
TZOFFSETFROM:+0200
TZOFFSETTO:+0100
TZNAME:CET
DTSTART:19961027T010000
END:STANDARD
BEGIN:DAYLIGHT
TZOFFSETFROM:+0100
TZOFFSETTO:+0200
TZNAME:CEST
DTSTART:19970330T010000
END:DAYLIGHT
BEGIN:STANDARD
TZOFFSETFROM:+0200
TZOFFSETTO:+0100
TZNAME:CET
DTSTART:19971026T010000
END:STANDARD
BEGIN:DAYLIGHT
TZOFFSETFROM:+0100
TZOFFSETTO:+0200
TZNAME:CEST
DTSTART:19980329T010000
END:DAYLIGHT
BEGIN:STANDARD
TZOFFSETFROM:+0200
TZOFFSETTO:+0100
TZNAME:CET
DTSTART:19981025T010000
END:STANDARD
BEGIN:DAYLIGHT
TZOFFSETFROM:+0100
TZOFFSETTO:+0200
TZNAME:CEST
DTSTART:19990328T010000
END:DAYLIGHT
BEGIN:STANDARD
TZOFFSETFROM:+0200
TZOFFSETTO:+0100
TZNAME:CET
DTSTART:19991031T010000
END:STANDARD
BEGIN:DAYLIGHT
TZOFFSETFROM:+0100
TZOFFSETTO:+0200
TZNAME:CEST
DTSTART:20000326T010000
END:DAYLIGHT
BEGIN:STANDARD
TZOFFSETFROM:+0200
TZOFFSETTO:+0100
TZNAME:CET
DTSTART:20001029T010000
END:STANDARD
BEGIN:DAYLIGHT
TZOFFSETFROM:+0100
TZOFFSETTO:+0200
TZNAME:CEST
DTSTART:20010325T010000
END:DAYLIGHT
BEGIN:STANDARD
TZOFFSETFROM:+0200
TZOFFSETTO:+0100
TZNAME:CET
DTSTART:20011028T010000
END:STANDARD
BEGIN:DAYLIGHT
TZOFFSETFROM:+0100
TZOFFSETTO:+0200
TZNAME:CEST
DTSTART:20020331T010000
END:DAYLIGHT
BEGIN:STANDARD
TZOFFSETFROM:+0200
TZOFFSETTO:+0100
TZNAME:CET
DTSTART:20021027T010000
END:STANDARD
BEGIN:DAYLIGHT
TZOFFSETFROM:+0100
TZOFFSETTO:+0200
TZNAME:CEST
DTSTART:20030330T010000
END:DAYLIGHT
BEGIN:STANDARD
TZOFFSETFROM:+0200
TZOFFSETTO:+0100
TZNAME:CET
DTSTART:20031026T010000
END:STANDARD
BEGIN:DAYLIGHT
TZOFFSETFROM:+0100
TZOFFSETTO:+0200
TZNAME:CEST
DTSTART:20040328T010000
END:DAYLIGHT
BEGIN:STANDARD
TZOFFSETFROM:+0200
TZOFFSETTO:+0100
TZNAME:CET
DTSTART:20041031T010000
END:STANDARD
BEGIN:DAYLIGHT
TZOFFSETFROM:+0100
TZOFFSETTO:+0200
TZNAME:CEST
DTSTART:20050327T010000
END:DAYLIGHT
BEGIN:STANDARD
TZOFFSETFROM:+0200
TZOFFSETTO:+0100
TZNAME:CET
DTSTART:20051030T010000
END:STANDARD
BEGIN:DAYLIGHT
TZOFFSETFROM:+0100
TZOFFSETTO:+0200
TZNAME:CEST
DTSTART:20060326T010000
END:DAYLIGHT
BEGIN:STANDARD
TZOFFSETFROM:+0200
TZOFFSETTO:+0100
TZNAME:CET
DTSTART:20061029T010000
END:STANDARD
BEGIN:DAYLIGHT
TZOFFSETFROM:+0100
TZOFFSETTO:+0200
TZNAME:CEST
DTSTART:20070325T010000
END:DAYLIGHT
BEGIN:STANDARD
TZOFFSETFROM:+0200
TZOFFSETTO:+0100
TZNAME:CET
DTSTART:20071028T010000
END:STANDARD
BEGIN:DAYLIGHT
TZOFFSETFROM:+0100
TZOFFSETTO:+0200
TZNAME:CEST
DTSTART:20080330T010000
END:DAYLIGHT
BEGIN:STANDARD
TZOFFSETFROM:+0200
TZOFFSETTO:+0100
TZNAME:CET
DTSTART:20081026T010000
END:STANDARD
BEGIN:DAYLIGHT
TZOFFSETFROM:+0100
TZOFFSETTO:+0200
TZNAME:CEST
DTSTART:20090329T010000
END:DAYLIGHT
BEGIN:STANDARD
TZOFFSETFROM:+0200
TZOFFSETTO:+0100
TZNAME:CET
DTSTART:20091025T010000
END:STANDARD
BEGIN:DAYLIGHT
TZOFFSETFROM:+0100
TZOFFSETTO:+0200
TZNAME:CEST
DTSTART:20100328T010000
END:DAYLIGHT
BEGIN:STANDARD
TZOFFSETFROM:+0200
TZOFFSETTO:+0100
TZNAME:CET
DTSTART:20101031T010000
END:STANDARD
BEGIN:DAYLIGHT
TZOFFSETFROM:+0100
TZOFFSETTO:+0200
TZNAME:CEST
DTSTART:20110327T010000
END:DAYLIGHT
BEGIN:STANDARD
TZOFFSETFROM:+0200
TZOFFSETTO:+0100
TZNAME:CET
DTSTART:20111030T010000
END:STANDARD
BEGIN:DAYLIGHT
TZOFFSETFROM:+0100
TZOFFSETTO:+0200
TZNAME:CEST
DTSTART:20120325T010000
END:DAYLIGHT
BEGIN:STANDARD
TZOFFSETFROM:+0200
TZOFFSETTO:+0100
TZNAME:CET
DTSTART:20121028T010000
END:STANDARD
BEGIN:DAYLIGHT
TZOFFSETFROM:+0100
TZOFFSETTO:+0200
TZNAME:CEST
DTSTART:20130331T010000
END:DAYLIGHT
BEGIN:STANDARD
TZOFFSETFROM:+0200
TZOFFSETTO:+0100
TZNAME:CET
DTSTART:20131027T010000
END:STANDARD
BEGIN:DAYLIGHT
TZOFFSETFROM:+0100
TZOFFSETTO:+0200
TZNAME:CEST
DTSTART:20140330T010000
END:DAYLIGHT
BEGIN:STANDARD
TZOFFSETFROM:+0200
TZOFFSETTO:+0100
TZNAME:CET
DTSTART:20141026T010000
END:STANDARD
BEGIN:DAYLIGHT
TZOFFSETFROM:+0100
TZOFFSETTO:+0200
TZNAME:CEST
DTSTART:20150329T010000
END:DAYLIGHT
BEGIN:STANDARD
TZOFFSETFROM:+0200
TZOFFSETTO:+0100
TZNAME:CET
DTSTART:20151025T010000
END:STANDARD
BEGIN:DAYLIGHT
TZOFFSETFROM:+0100
TZOFFSETTO:+0200
TZNAME:CEST
DTSTART:20160327T010000
END:DAYLIGHT
BEGIN:STANDARD
TZOFFSETFROM:+0200
TZOFFSETTO:+0100
TZNAME:CET
DTSTART:20161030T010000
END:STANDARD
BEGIN:DAYLIGHT
TZOFFSETFROM:+0100
TZOFFSETTO:+0200
TZNAME:CEST
DTSTART:20170326T010000
END:DAYLIGHT
BEGIN:STANDARD
TZOFFSETFROM:+0200
TZOFFSETTO:+0100
TZNAME:CET
DTSTART:20171029T010000
END:STANDARD
BEGIN:DAYLIGHT
TZOFFSETFROM:+0100
TZOFFSETTO:+0200
TZNAME:CEST
DTSTART:20180325T010000
END:DAYLIGHT
BEGIN:STANDARD
TZOFFSETFROM:+0200
TZOFFSETTO:+0100
TZNAME:CET
DTSTART:20181028T010000
END:STANDARD
BEGIN:DAYLIGHT
TZOFFSETFROM:+0100
TZOFFSETTO:+0200
TZNAME:CEST
DTSTART:20190331T010000
END:DAYLIGHT
BEGIN:STANDARD
TZOFFSETFROM:+0200
TZOFFSETTO:+0100
TZNAME:CET
DTSTART:20191027T010000
END:STANDARD
BEGIN:DAYLIGHT
TZOFFSETFROM:+0100
TZOFFSETTO:+0200
TZNAME:CEST
DTSTART:20200329T010000
END:DAYLIGHT
BEGIN:STANDARD
TZOFFSETFROM:+0200
TZOFFSETTO:+0100
TZNAME:CET
DTSTART:20201025T010000
END:STANDARD
BEGIN:DAYLIGHT
TZOFFSETFROM:+0100
TZOFFSETTO:+0200
TZNAME:CEST
DTSTART:20210328T010000
END:DAYLIGHT
BEGIN:STANDARD
TZOFFSETFROM:+0200
TZOFFSETTO:+0100
TZNAME:CET
DTSTART:20211031T010000
END:STANDARD
BEGIN:DAYLIGHT
TZOFFSETFROM:+0100
TZOFFSETTO:+0200
TZNAME:CEST
DTSTART:20220327T010000
END:DAYLIGHT
BEGIN:STANDARD
TZOFFSETFROM:+0200
TZOFFSETTO:+0100
TZNAME:CET
DTSTART:20221030T010000
END:STANDARD
BEGIN:DAYLIGHT
TZOFFSETFROM:+0100
TZOFFSETTO:+0200
TZNAME:CEST
DTSTART:20230326T010000
END:DAYLIGHT
BEGIN:STANDARD
TZOFFSETFROM:+0200
TZOFFSETTO:+0100
TZNAME:CET
DTSTART:20231029T010000
END:STANDARD
BEGIN:DAYLIGHT
TZOFFSETFROM:+0100
TZOFFSETTO:+0200
TZNAME:CEST
DTSTART:20240331T010000
END:DAYLIGHT
BEGIN:STANDARD
TZOFFSETFROM:+0200
TZOFFSETTO:+0100
TZNAME:CET
DTSTART:20241027T010000
END:STANDARD
BEGIN:DAYLIGHT
TZOFFSETFROM:+0100
TZOFFSETTO:+0200
TZNAME:CEST
DTSTART:20250330T010000
END:DAYLIGHT
BEGIN:STANDARD
TZOFFSETFROM:+0200
TZOFFSETTO:+0100
TZNAME:CET
DTSTART:20251026T010000
END:STANDARD
BEGIN:DAYLIGHT
TZOFFSETFROM:+0100
TZOFFSETTO:+0200
TZNAME:CEST
DTSTART:20260329T010000
END:DAYLIGHT
BEGIN:STANDARD
TZOFFSETFROM:+0200
TZOFFSETTO:+0100
TZNAME:CET
DTSTART:20261025T010000
END:STANDARD
END:VTIMEZONE
BEGIN:VEVENT
DTSTART;TZID=Europe/Paris:20260424T041627
DTEND;TZID=Europe/Paris:20250726T210000
DTSTAMP:20260424T041627
CREATED:20250722T063912Z
LAST-MODIFIED:20250722T064122Z
UID:35314-0-1753563600@www.faverges-seythenex.fr
SUMMARY:Concert "CompiGroup'"
DESCRIPTION:
URL:https://www.faverges-seythenex.fr/event/concert-compigroup/
LOCATION:Val de Tamié\, 255 route des Noyers - Les Combes\, Faverges-Seythenex\, 74210\, France
CATEGORIES:Musique
ATTACH;FMTTYPE=image/jpeg:https://www.faverges-seythenex.fr/wp-content/uploads/2025/07/Unknown-1.jpeg
END:VEVENT
BEGIN:VEVENT
DTSTART;TZID=Europe/Paris:20161105T090000
DTEND;TZID=Europe/Paris:20161205T170000
DTSTAMP:20260424T041627
CREATED:20161021T075308Z
LAST-MODIFIED:20161021T083623Z
UID:643-1478336400-1480957200@www.faverges-seythenex.fr
SUMMARY:Exposition "l'hiver..."
DESCRIPTION:Exposition « C’était hier\, l’hiver en images » \nD’images en images\, les Alpes et les pays de Savoie ont fait l’objet de nombreux films d’amateurs et de professionnels ainsi qu’en témoigne le fonds de la Cinémathèque des Pays de Savoie et de l’Ain. De livres en livres\, les Alpes et les pays de Savoie ont fait aussi l’objet de nombreux récits. Croiser les récits et les illustrations des ouvrages avec les images en mouvement des cinéastes amateurs tel est le fil conducteur de cette exposition. \n\nDu 5 novembre au 5 décembre à la médiathèque de Faverges-Seythenex\n\nExposition : matériel cinématographique\, affiches\, photos…  \nEntrée libre.
URL:https://www.faverges-seythenex.fr/event/exposition-cetait-hier-lhiver-en-images/
LOCATION:Médiathèque de Faverges\, Rue Tissot-Dupont\, FAVERGES\, 74210
END:VEVENT
BEGIN:VEVENT
DTSTART;TZID=Europe/Paris:20161105T110000
DTEND;TZID=Europe/Paris:20161105T120000
DTSTAMP:20260424T041627
CREATED:20161028T070248Z
LAST-MODIFIED:20161028T070422Z
UID:809-1478343600-1478347200@www.faverges-seythenex.fr
SUMMARY:Conte musical
DESCRIPTION:La médiathèque présente « La montagne a des oreilles » par Vox Alpina \nSpectacle pour les enfants de 3 à 6 ans. \nEntrée libre
URL:https://www.faverges-seythenex.fr/event/conte-musical/
LOCATION:Médiathèque de Faverges\, Rue Tissot-Dupont\, FAVERGES\, 74210
CATEGORIES:Jeune public
END:VEVENT
BEGIN:VEVENT
DTSTART;TZID=Europe/Paris:20161105T110000
DTEND;TZID=Europe/Paris:20161105T120000
DTSTAMP:20260424T041627
CREATED:20161103T125615Z
LAST-MODIFIED:20161103T125748Z
UID:963-1478343600-1478347200@www.faverges-seythenex.fr
SUMMARY:Spectacle de contes à la médiathèque
DESCRIPTION:«La montagne a des oreilles»\nPar Vox Alpina \nSamedi 5 novembre à 11h – enfants 3-6 ans – Entrée libre\nSi le son de l’Alpe palpite dans vos binettes\, ouvrez grands vos écoutilles ! \nPublic : enfants 3-6 ans. Entrée libre. \n 
URL:https://www.faverges-seythenex.fr/event/spectacle-de-contes-a-la-mediatheque/
END:VEVENT
BEGIN:VEVENT
DTSTART;TZID=Europe/Paris:20161105T203000
DTEND;TZID=Europe/Paris:20161105T230000
DTSTAMP:20260424T041627
CREATED:20161021T084011Z
LAST-MODIFIED:20161021T094627Z
UID:650-1478377800-1478386800@www.faverges-seythenex.fr
SUMMARY:"Elle(s)"
DESCRIPTION:Théâtre – Avec Jessica Fanhan\, Sylvie Landuyt et le musicien Ruggero Catania / Bruxelles \n« Elle(s) » est un spectacle qui décoiffe\, un spectacle qui explore avec humour ce que féminin veut dire\, une ode au féminin et à l’humain.  «Elle(s)»\, c’est l’histoire d’une petite fille et de sa mère. La petite fille se raconte des histoires pour combler les trous creusés par une mère défaillante. Sur scène\, une jeune comédienne bondit de la révolte au rire. En arrière-plan\, joue et chante une femme\, miroir déformé de la mère. Un musicien ponctue\, habille\, accompagne. Ce spectacle éclate en une multitude de points de vue\, tenant à la fois de la danse-théâtre\, du rock et de la performance\, et nous amène à questionner nos certitudes \n«Elle(s) nous a époustouflés. Un dialogue de toute beauté. Sexy\, virevoltant\, intelligent et d’une poésie sauvage.» Le Soir \n«Spectacle stupéfiant d’originalité et de justesse. Elle(s) déménage !» La Libre Belgique \nPour ce spectacle\, Sylvie Landuyt a reçu le prix de la meilleure auteure aux prix de la critique (l’équivalent des Molières en Belgique) et Jessica Fanhan le prix du meilleur espoir féminin. \n13 € / 9 € adh. – 25 ans et demandeur d’emploi.
URL:https://www.faverges-seythenex.fr/event/elles/
END:VEVENT
BEGIN:VEVENT
DTSTART;VALUE=DATE:20161106
DTEND;VALUE=DATE:20161107
DTSTAMP:20260424T041627
CREATED:20161104T145017Z
LAST-MODIFIED:20161104T145017Z
UID:1044-1478390400-1478476799@www.faverges-seythenex.fr
SUMMARY:Championnat départemental d'athlétisme
DESCRIPTION:
URL:https://www.faverges-seythenex.fr/event/championnat-departemental-dathletisme/
END:VEVENT
BEGIN:VEVENT
DTSTART;TZID=Europe/Paris:20161108T080000
DTEND;TZID=Europe/Paris:20161108T200000
DTSTAMP:20260424T041627
CREATED:20161108T190050Z
LAST-MODIFIED:20161103T110256Z
UID:936-1478592000-1478635200@www.faverges-seythenex.fr
SUMMARY:Diaporama "Dans les côtes d'Armor"
DESCRIPTION:Diaporama de Maurice Pantaloni\, mardi 8 novembre à 20h\, à la maison des associations. Organisation Groupe Nature.
URL:https://www.faverges-seythenex.fr/event/diaporama-dans-les-cotes-darmor/
END:VEVENT
BEGIN:VEVENT
DTSTART;TZID=Europe/Paris:20161108T193000
DTEND;TZID=Europe/Paris:20161108T210000
DTSTAMP:20260424T041627
CREATED:20161103T130108Z
LAST-MODIFIED:20161103T130133Z
UID:966-1478633400-1478638800@www.faverges-seythenex.fr
SUMMARY:Projection/discussion à la médiathèque
DESCRIPTION:Projection des films  « C’était hier l’hiver en images »\, « Montagne vivante »\, « Petite histoire des sports d’hiver ». \nPrésentée et animée par la cinémathèque des pays de Savoie et de l’Ain. La projection sera suivie d’une discussion avec le public et d’un apéritif convivial. \n Mardi 8 novembre à 19h30 \nTout public – Entrée libre. \n 
URL:https://www.faverges-seythenex.fr/event/projectiondiscussion-a-la-mediatheque/
END:VEVENT
BEGIN:VEVENT
DTSTART;TZID=Europe/Paris:20161109T203000
DTEND;TZID=Europe/Paris:20161109T230000
DTSTAMP:20260424T041627
CREATED:20161103T111022Z
LAST-MODIFIED:20161103T111022Z
UID:948-1478723400-1478732400@www.faverges-seythenex.fr
SUMMARY:Cinéma "Tout s'accélère"
DESCRIPTION:
URL:https://www.faverges-seythenex.fr/event/cinema-tout-saccelere/
END:VEVENT
BEGIN:VEVENT
DTSTART;TZID=Europe/Paris:20161111T110000
DTEND;TZID=Europe/Paris:20161111T170000
DTSTAMP:20260424T041627
CREATED:20161103T111147Z
LAST-MODIFIED:20161103T111147Z
UID:950-1478862000-1478883600@www.faverges-seythenex.fr
SUMMARY:Commémoration
DESCRIPTION:Commémoration de l’Armistice. \nA Faverges : rendez-vous à 11h\, place Serand. \nA Seythenex\, cérémonie à 16h.
URL:https://www.faverges-seythenex.fr/event/commemoration/
END:VEVENT
BEGIN:VEVENT
DTSTART;VALUE=DATE:20161112
DTEND;VALUE=DATE:20161114
DTSTAMP:20260424T041627
CREATED:20161104T150630Z
LAST-MODIFIED:20161104T150630Z
UID:1056-1478908800-1479081599@www.faverges-seythenex.fr
SUMMARY:Trophée départemental jeunes de badminton
DESCRIPTION:
URL:https://www.faverges-seythenex.fr/event/trophee-departemental-jeunes-de-badminton/
LOCATION:Salle omnisports\, 895 route d'Albertville\, Faverges-Seythenex\, 74210\, France
END:VEVENT
BEGIN:VEVENT
DTSTART;TZID=Europe/Paris:20161126T203000
DTEND;TZID=Europe/Paris:20161126T213000
DTSTAMP:20260424T041627
CREATED:20161021T084557Z
LAST-MODIFIED:20161021T094558Z
UID:653-1480192200-1480195800@www.faverges-seythenex.fr
SUMMARY:"Un poyo rojo"
DESCRIPTION:Danse acrobatique / Argentine \n«Deux êtres se cherchent\, se jaugent\, se provoquent\, s’affrontent\, se désirent\, se rejettent\, s’unissent dans les vestiaires d’une salle de sport. «Un Poyo Rojo»\, c’est une expérience sensorielle étonnante : compétition sportive\, combat de coqs\, danse\, théâtre\, acrobatie\, percussion\, clown…? Un peu tout ça à la fois! A partir du mouvement\, de l’action\, et sans un mot prononcé\, ils proposent\, avec humour et une énergie intense\, d’expérimenter les différentes façons d’entrer en contact et de créer une relation. Laissant aux spectateurs toute latitude d’interprétation…» \n13 € / 9 € adh. – 25 ans et demandeur d’emploi.
URL:https://www.faverges-seythenex.fr/event/653/
END:VEVENT
BEGIN:VEVENT
DTSTART;VALUE=DATE:20161127
DTEND;VALUE=DATE:20161128
DTSTAMP:20260424T041627
CREATED:20161104T150802Z
LAST-MODIFIED:20161104T150802Z
UID:1059-1480204800-1480291199@www.faverges-seythenex.fr
SUMMARY:Compétition d'athlétisme
DESCRIPTION:
URL:https://www.faverges-seythenex.fr/event/competition-dathletisme/
LOCATION:Salle omnisports\, 895 route d'Albertville\, Faverges-Seythenex\, 74210\, France
END:VEVENT
END:VCALENDAR