BEGIN:VCALENDAR
VERSION:2.0
PRODID:-//Faverges-Seythenex - ECPv6.15.18//NONSGML v1.0//EN
CALSCALE:GREGORIAN
METHOD:PUBLISH
X-ORIGINAL-URL:https://www.faverges-seythenex.fr
X-WR-CALDESC:Évènements pour Faverges-Seythenex
REFRESH-INTERVAL;VALUE=DURATION:PT1H
X-Robots-Tag:noindex
X-PUBLISHED-TTL:PT1H
BEGIN:VTIMEZONE
TZID:Europe/Paris
BEGIN:DAYLIGHT
TZOFFSETFROM:+0100
TZOFFSETTO:+0200
TZNAME:CEST
DTSTART:20240331T010000
END:DAYLIGHT
BEGIN:STANDARD
TZOFFSETFROM:+0200
TZOFFSETTO:+0100
TZNAME:CET
DTSTART:20241027T010000
END:STANDARD
BEGIN:DAYLIGHT
TZOFFSETFROM:+0100
TZOFFSETTO:+0200
TZNAME:CEST
DTSTART:20250330T010000
END:DAYLIGHT
BEGIN:STANDARD
TZOFFSETFROM:+0200
TZOFFSETTO:+0100
TZNAME:CET
DTSTART:20251026T010000
END:STANDARD
BEGIN:DAYLIGHT
TZOFFSETFROM:+0100
TZOFFSETTO:+0200
TZNAME:CEST
DTSTART:20260329T010000
END:DAYLIGHT
BEGIN:STANDARD
TZOFFSETFROM:+0200
TZOFFSETTO:+0100
TZNAME:CET
DTSTART:20261025T010000
END:STANDARD
END:VTIMEZONE
BEGIN:VEVENT
DTSTART;VALUE=DATE:20250304
DTEND;VALUE=DATE:20250430
DTSTAMP:20260421T161518
CREATED:20250331T085816Z
LAST-MODIFIED:20250331T085816Z
UID:32720-1741046400-1745971199@www.faverges-seythenex.fr
SUMMARY:Expo peinture - Cécile Martin Guirkinge
DESCRIPTION:Cécile Martin Guirkinger vit et travaille en Savoie. Diplômée des Beaux-Arts\, découvrez le travail de cette artiste plasticienne\, photographe\, créatrice de Land’Art et passionnée d’astronomie. \nLe Cosmos\, les arbres\, le volubilis sont ses thèmes préférés.\nLa médiathèque aura l’honneur d’accueillir ses plus récentes créations composées à partir de photos reproduites sur toile sur le thème des arbres et des *colombes de la paix en lien avec le *conflit Israelo-Palestinien .\nL’artiste fait également des photos d’installations éphémères ( torrents gelés ou sur l’eau des rivières.)\nElle recherche la matière où le hasard créé la surprise.
URL:https://www.faverges-seythenex.fr/event/expo-peinture-cecile-martin-guirkinge/
LOCATION:Médiathèque de Faverges\, Rue Tissot-Dupont\, FAVERGES\, 74210
CATEGORIES:Exposition,Tous publics
ATTACH;FMTTYPE=image/jpeg:https://www.faverges-seythenex.fr/wp-content/uploads/2025/02/Unknown-1.jpeg
END:VEVENT
BEGIN:VEVENT
DTSTART;VALUE=DATE:20250405
DTEND;VALUE=DATE:20250406
DTSTAMP:20260421T161519
CREATED:20250314T154703Z
LAST-MODIFIED:20250402T064750Z
UID:33108-1743811200-1743897599@www.faverges-seythenex.fr
SUMMARY:39e Rallye auto du Pays de Faverges
DESCRIPTION:Organisé par l’ASAC Mont-Blanc et l’Écurie de la Motte\, ligue Rhône-Alpes. \nFermeture de route : \nES 1 Seythenex de 7h20 à 21h\nES 2 Col de l’Épinede 10h10 à 20h15\nEs 4 Col de l’Épine de 10h10 à 20h15\nEs 5 Seythenex de 7h20 à 21h00 \nVENDREDI 4 AVRIL 2025\nDe 16h00 à 21h30 : Vérification administratives Salle omnisports\nDe 16h30 à 22h : Vérification techniques Place Joseph Serand \nSAMEDI 5 AVRIL 2025\nOrdre de passage :\nVHRS > VMRS > VHC Moderne \n8h15 – Départ de Faverges\n8h35 – Sortie Parc d’assistance\n8h54 – ES 1 Seythenex\n9h15 – Entrée Parc de regroupement\n11h25 – Sortie Parc d’assistance\n11h43 – ES 2 Col de L’Épine\n12h31 – ES 3 Seythenex\n12h52 – Entrée Parc de regroupement\n15h02- Sortie Parc de regroupement\n15h20 – ES 4 Col de L’Épine\n16h08 – ES 5 Seythenex\n16h29 – Entrée parc fermé / Fin du Rallye \nPlus d’info sur : rallyedefaverges.com
URL:https://www.faverges-seythenex.fr/event/39e-rallye-auto-du-pays-de-faverges/
CATEGORIES:Tous publics
ATTACH;FMTTYPE=image/jpeg:https://www.faverges-seythenex.fr/wp-content/uploads/2025/03/affiche-faverges-2025.jpg
END:VEVENT
BEGIN:VEVENT
DTSTART;VALUE=DATE:20250407
DTEND;VALUE=DATE:20250411
DTSTAMP:20260421T161519
CREATED:20250327T134219Z
LAST-MODIFIED:20250327T134219Z
UID:33418-1743984000-1744329599@www.faverges-seythenex.fr
SUMMARY:Expo "Maquettes en concours du festival des cabanes"
DESCRIPTION:
URL:https://www.faverges-seythenex.fr/event/expo-maquettes-en-concours-du-festival-des-cabanes/
LOCATION:Foyer municipal – La Soierie\, 141 route d'Albertville\, Faverges-Seythenex\, 74210\, France
CATEGORIES:Tous publics
ATTACH;FMTTYPE=image/tiff:https://www.faverges-seythenex.fr/wp-content/uploads/2025/03/Affiche-expo-GP-DORE.tif
END:VEVENT
BEGIN:VEVENT
DTSTART;TZID=Europe/Paris:20250409T140000
DTEND;TZID=Europe/Paris:20250409T180000
DTSTAMP:20260421T161519
CREATED:20250130T082219Z
LAST-MODIFIED:20250204T153958Z
UID:32478-1744207200-1744221600@www.faverges-seythenex.fr
SUMMARY:Portes ouvertes au LPP La Fontaine - 09/04
DESCRIPTION:Plus d’info sur le site du Lycée Professionnel Privé
URL:https://www.faverges-seythenex.fr/event/portes-ouvertes-au-lpp-la-fontaine-09-04/
LOCATION:LPP La Fontaine\, Chemin des Prés d'Enfer\, Faverges-Seythenex\, 74210\, France
CATEGORIES:Tous publics
ATTACH;FMTTYPE=image/jpeg:https://www.faverges-seythenex.fr/wp-content/uploads/2025/01/PO-LEPP.jpg
END:VEVENT
BEGIN:VEVENT
DTSTART;TZID=Europe/Paris:20250419T090000
DTEND;TZID=Europe/Paris:20250419T180000
DTSTAMP:20260421T161519
CREATED:20250327T104721Z
LAST-MODIFIED:20250407T134103Z
UID:33406-1745053200-1745085600@www.faverges-seythenex.fr
SUMMARY:Concours bovin
DESCRIPTION:Organisé par les Jeunes Agriculteurs Vallée du Lac \nUne centaine de vaches de races montbéliarde et abondance présentes \nConcours de vaches toute la journée\nMarché des producteurs\nMini ferme\nBalade à poney et maquillage pour les enfants\nA midi\, tartiflette géante \n13h30\nDéfilé des veaux puis concours de jeunes meneurs \nA partir de 20h\,\nsoirée organisée par le RC Faverges et remise des prix. \n  \n 
URL:https://www.faverges-seythenex.fr/event/concours-bovin-3/
LOCATION:Place Joseph Serand
CATEGORIES:Tous publics
ATTACH;FMTTYPE=application/pdf:https://www.faverges-seythenex.fr/wp-content/uploads/2025/03/affiche-comice-25.pdf
END:VEVENT
BEGIN:VEVENT
DTSTART;TZID=Europe/Paris:20250419T103000
DTEND;TZID=Europe/Paris:20250419T113000
DTSTAMP:20260421T161519
CREATED:20250327T103423Z
LAST-MODIFIED:20250328T081830Z
UID:33387-1745058600-1745062200@www.faverges-seythenex.fr
SUMMARY:Petit patapon - Spectacle "Bobines et flacons"
DESCRIPTION:Entrez dans l’univers magique de l’ancienne boutique de Lucette. Chez Lucette\, on trouve de tout ! \nDes chansons dans les flacons\, des comptines dans les bobines\, des histoires dans les tiroirs\, des acrobates dans les petites boîtes\, dans les bouteilles des merveilles\, dans les valises des vocalises\, des mystères dans les panières. Mais Marie-Renée\, l’araignée\, vient tout bousculer… \nBobines et Flacons est une épopée de cirque\, chansons\, histoires et marionnettes pour petits et grands\, où le public est invité à rentrer dans l’univers magique d’une ancienne boutique. \nTout public \nDurée 50 min\nGratuit\, sur inscription au 04 50 32 51 01 ou par mail : biblio@faverges.fr
URL:https://www.faverges-seythenex.fr/event/petit-patagon-spectacle-bobines-et-flacons/
LOCATION:Médiathèque de Faverges\, Rue Tissot-Dupont\, FAVERGES\, 74210
CATEGORIES:Tous publics
ATTACH;FMTTYPE=image/jpeg:https://www.faverges-seythenex.fr/wp-content/uploads/2025/03/AFFICHE-BOBINES-ET-FLACONS-scaled.jpg
END:VEVENT
BEGIN:VEVENT
DTSTART;TZID=Europe/Paris:20250421T170000
DTEND;TZID=Europe/Paris:20250421T183000
DTSTAMP:20260421T161519
CREATED:20250327T104051Z
LAST-MODIFIED:20250327T104144Z
UID:33396-1745254800-1745260200@www.faverges-seythenex.fr
SUMMARY:Concert de l'ensemble de cuivres HEPTABRASS
DESCRIPTION:L’École des Arts Vivants accueil\, l’ensemble de cuivres HEPTABRASS. \nGratuit\, tout public.
URL:https://www.faverges-seythenex.fr/event/concert-de-lensemble-de-cuivres-heptabrass/
LOCATION:La Halle\, Place Carnot\, Faverges-Seythenex\, 74210\, France
CATEGORIES:Musique,Tous publics
ATTACH;FMTTYPE=image/jpeg:https://www.faverges-seythenex.fr/wp-content/uploads/2025/03/2025-03-Heptabrass.jpg
END:VEVENT
BEGIN:VEVENT
DTSTART;TZID=Europe/Paris:20250424T100000
DTEND;TZID=Europe/Paris:20250424T113000
DTSTAMP:20260421T161519
CREATED:20250424T094826Z
LAST-MODIFIED:20250424T094826Z
UID:33651-1745488800-1745494200@www.faverges-seythenex.fr
SUMMARY:Vos rencontres de la forme "Marche nordique" - 13 mai
DESCRIPTION:Une fois par semaine\, Kelly\, Nadège et Fabien\, les éducateurs sportifs municipaux\, vous invitent à partager un moment d’activités physiques cool et convivial. \nSans inscription\, venez directement sur place\, en fonction de vos envies\, de vos disponibilités… \nGratuit\, ouvert à tous.\nInfo au service des sports au 04 50 32 57 67
URL:https://www.faverges-seythenex.fr/event/vos-rencontres-de-la-forme-marche-nordique-13-mai/
LOCATION:Parking école Ginette Kolinka
CATEGORIES:Sport,Tous publics
END:VEVENT
BEGIN:VEVENT
DTSTART;TZID=Europe/Paris:20250425T160000
DTEND;TZID=Europe/Paris:20250425T173000
DTSTAMP:20260421T161519
CREATED:20250424T094605Z
LAST-MODIFIED:20250424T094641Z
UID:33649-1745596800-1745602200@www.faverges-seythenex.fr
SUMMARY:Vos rencontres de la forme « Initiation aux arts du cirque » – 25 avril
DESCRIPTION:[Dans le cadre du Festival des Arts du cirque] \nUne fois par semaine\, Kelly\, Nadège et Fabien\, les éducateurs sportifs municipaux\, vous invitent à partager un moment d’activités physiques cool et convivial. \nSans inscription\, venez directement sur place\, en fonction de vos envies\, de vos disponibilités… \nGratuit\, ouvert à tous.\nInfo au service des sports au 04 50 32 57 67
URL:https://www.faverges-seythenex.fr/event/vos-rencontres-de-la-forme-initiation-aux-arts-du-cirque-25-avril/
LOCATION:Salle polyvalente
CATEGORIES:Sport,Tous publics
END:VEVENT
END:VCALENDAR