BEGIN:VCALENDAR
VERSION:2.0
PRODID:-//Faverges-Seythenex - ECPv6.15.18//NONSGML v1.0//EN
CALSCALE:GREGORIAN
METHOD:PUBLISH
X-WR-CALNAME:Faverges-Seythenex
X-ORIGINAL-URL:https://www.faverges-seythenex.fr
X-WR-CALDESC:Évènements pour Faverges-Seythenex
REFRESH-INTERVAL;VALUE=DURATION:PT1H
X-Robots-Tag:noindex
X-PUBLISHED-TTL:PT1H
BEGIN:VTIMEZONE
TZID:Europe/Paris
BEGIN:DAYLIGHT
TZOFFSETFROM:+0100
TZOFFSETTO:+0200
TZNAME:CEST
DTSTART:20240331T010000
END:DAYLIGHT
BEGIN:STANDARD
TZOFFSETFROM:+0200
TZOFFSETTO:+0100
TZNAME:CET
DTSTART:20241027T010000
END:STANDARD
BEGIN:DAYLIGHT
TZOFFSETFROM:+0100
TZOFFSETTO:+0200
TZNAME:CEST
DTSTART:20250330T010000
END:DAYLIGHT
BEGIN:STANDARD
TZOFFSETFROM:+0200
TZOFFSETTO:+0100
TZNAME:CET
DTSTART:20251026T010000
END:STANDARD
BEGIN:DAYLIGHT
TZOFFSETFROM:+0100
TZOFFSETTO:+0200
TZNAME:CEST
DTSTART:20260329T010000
END:DAYLIGHT
BEGIN:STANDARD
TZOFFSETFROM:+0200
TZOFFSETTO:+0100
TZNAME:CET
DTSTART:20261025T010000
END:STANDARD
END:VTIMEZONE
BEGIN:VEVENT
DTSTART;VALUE=DATE:20250304
DTEND;VALUE=DATE:20250430
DTSTAMP:20260421T174058
CREATED:20250331T085816Z
LAST-MODIFIED:20250331T085816Z
UID:32720-1741046400-1745971199@www.faverges-seythenex.fr
SUMMARY:Expo peinture - Cécile Martin Guirkinge
DESCRIPTION:Cécile Martin Guirkinger vit et travaille en Savoie. Diplômée des Beaux-Arts\, découvrez le travail de cette artiste plasticienne\, photographe\, créatrice de Land’Art et passionnée d’astronomie. \nLe Cosmos\, les arbres\, le volubilis sont ses thèmes préférés.\nLa médiathèque aura l’honneur d’accueillir ses plus récentes créations composées à partir de photos reproduites sur toile sur le thème des arbres et des *colombes de la paix en lien avec le *conflit Israelo-Palestinien .\nL’artiste fait également des photos d’installations éphémères ( torrents gelés ou sur l’eau des rivières.)\nElle recherche la matière où le hasard créé la surprise.
URL:https://www.faverges-seythenex.fr/event/expo-peinture-cecile-martin-guirkinge/
LOCATION:Médiathèque de Faverges\, Rue Tissot-Dupont\, FAVERGES\, 74210
CATEGORIES:Exposition,Tous publics
ATTACH;FMTTYPE=image/jpeg:https://www.faverges-seythenex.fr/wp-content/uploads/2025/02/Unknown-1.jpeg
END:VEVENT
BEGIN:VEVENT
DTSTART;TZID=Europe/Paris:20250306T143000
DTEND;TZID=Europe/Paris:20250306T160000
DTSTAMP:20260421T174058
CREATED:20250218T075937Z
LAST-MODIFIED:20250218T075937Z
UID:32686-1741271400-1741276800@www.faverges-seythenex.fr
SUMMARY:Café numérique "découverte d'AMELI" - 6 mars
DESCRIPTION:Venez découvrir comment utiliser votre compte AMELI.\nTemps d’initiation et d’échanges pour comprendre la plateforme en ligne de la CPAM\, la Caisse Primaire d’Assurance Maladie. Avec ou sans votre ordinateur. \nOrganisé par France Services des Sources du lac d’Annecy\nGratuit\, ouvert à tous\, tout âge et tout niveau ! Sur inscription au 04 50 44 38 77 ou par mail : fs-ccsla@france-services.gouv.fr
URL:https://www.faverges-seythenex.fr/event/cafe-numerique-decouverte-dameli-6-mars/
LOCATION:Communauté de communes des sources du lac d’Annecy\, 32 route d'Albertville\, Faverges-Seythenex\, 74210\, France
CATEGORIES:Découverte,Tous publics
ATTACH;FMTTYPE=image/jpeg:https://www.faverges-seythenex.fr/wp-content/uploads/2025/01/FranceServices-AteliersNumeriques-WEB.jpg
END:VEVENT
BEGIN:VEVENT
DTSTART;TZID=Europe/Paris:20250313T100000
DTEND;TZID=Europe/Paris:20250313T113000
DTSTAMP:20260421T174058
CREATED:20250103T094743Z
LAST-MODIFIED:20250120T155752Z
UID:32072-1741860000-1741865400@www.faverges-seythenex.fr
SUMMARY:Vos rencontres de la forme "Marche nordique dynamique" - 13 mars
DESCRIPTION:Une fois par semaine\, Kelly\, Nadège et Fabien\, les éducateurs sportifs municipaux\, vous invitent à partager un moment d’activités physiques cool et convivial. \nSans inscription\, venez directement sur place\, en fonction de vos envies\, de vos disponibilités… \nGratuit\, ouvert à tous.\nInfo au service des sports au 04 50 32 57 67 \nLes sorties prévues en extérieur seront annulées en cas de mauvais temps. \n 
URL:https://www.faverges-seythenex.fr/event/vos-rencontres-de-la-forme-marche-nordique-dynamique-13-mars/
LOCATION:Parking salle omnisports
CATEGORIES:Sport,Tous publics
END:VEVENT
BEGIN:VEVENT
DTSTART;TZID=Europe/Paris:20250318T100000
DTEND;TZID=Europe/Paris:20250318T110000
DTSTAMP:20260421T174058
CREATED:20250103T094849Z
LAST-MODIFIED:20250103T094849Z
UID:32074-1742292000-1742295600@www.faverges-seythenex.fr
SUMMARY:Vos rencontres de la forme "Gym douce" - 18 mars
DESCRIPTION:Une fois par semaine\, Kelly\, Nadège et Fabien\, les éducateurs sportifs municipaux\, vous invitent à partager un moment d’activités physiques cool et convivial. \nSans inscription\, venez directement sur place\, en fonction de vos envies\, de vos disponibilités… \nGratuit\, ouvert à tous.\nInfo au service des sports au 04 50 32 57 67 \n 
URL:https://www.faverges-seythenex.fr/event/vos-rencontres-de-la-forme-gym-douce-18-mars/
LOCATION:Salle polyvalente
CATEGORIES:Sport,Tous publics
END:VEVENT
BEGIN:VEVENT
DTSTART;TZID=Europe/Paris:20250318T200000
DTEND;TZID=Europe/Paris:20250318T220000
DTSTAMP:20260421T174058
CREATED:20250228T143618Z
LAST-MODIFIED:20250228T143618Z
UID:32887-1742328000-1742335200@www.faverges-seythenex.fr
SUMMARY:Diaporama du groupe nature - 15/03
DESCRIPTION:« Quelques jours dans les Balkans\, Grèce\, Bulgarie »\nDiaporama présenté par Claudie Desjacquot et Monique Magnouloux. \nEntrée libre\, ouvert à tous.
URL:https://www.faverges-seythenex.fr/event/diaporama-du-groupe-nature-15-03/
LOCATION:Maison des associations\, Place des Anciens d'AFN\, Faverges\, 74210\, France
CATEGORIES:Tous publics
END:VEVENT
BEGIN:VEVENT
DTSTART;TZID=Europe/Paris:20250322T140000
DTEND;TZID=Europe/Paris:20250322T210000
DTSTAMP:20260421T174058
CREATED:20250206T084650Z
LAST-MODIFIED:20250304T155950Z
UID:32608-1742652000-1742677200@www.faverges-seythenex.fr
SUMMARY:Carnaval - 22 mars
DESCRIPTION:Organisé par La Soierie en partenariat avec la Ville de Faverges-Seythenex\, le Carnaval a lieu samedi 22 mars. La tradition du Carnaval dans notre commune est liée à l’arrivée du printemps le 21 mars\, c’est pourquoi le Carnaval a toujours lieu le samedi le plus proche du 21 mars\, avec un Bonhomme hiver (réalisé par le secteur jeunesse de La Soierie) pour ouvrir le défilé. \nCe sont les associations locales ou des groupes d’habitants\, Faverges-Seythenex et communes de la communauté de communes\, qui préparent des chars et des troupes de carnavaliers (au moins 10 personnes déguisées sur le même thème) pour animer le défilé.La Soierie accompagne les participants avec un soutien financier\, ainsi que du prêt de matériel pour réaliser son char\, sonoriser une troupe… \nLe déroulé de la journée :– 14h\, accueil des chars et des troupes de carnavaliers place Serand.– 15h départ du grand défilé (parcours à celui de l’an dernier).– 16h30 retour place Serand et parade des carnavaliers.– 17h on brûle le Bonhomme hiver.– 17h30 bal du Carnaval pour tous à la salle polyvalente. \nPour s’inscrire\, contactez Laurent Pettex\, coordinateur Carnaval à La Soierie : lasoierie.enfance@gmail.com ou par téléphone au 06 68 02 25 46. Les inscriptions peuvent se faire jusqu’au 8 mars. \nEn cas d’intempéries :\n– Bal maintenu le samedi 22 mars à la salle polyvalente\, à partir de 17h30.\n– Pas de report du défilé.
URL:https://www.faverges-seythenex.fr/event/carnaval-22-mars/
LOCATION:Place Joseph Serand
CATEGORIES:Tous publics
ATTACH;FMTTYPE=image/jpeg:https://www.faverges-seythenex.fr/wp-content/uploads/2025/02/CARNAVAL-2025-scaled.jpg
END:VEVENT
BEGIN:VEVENT
DTSTART;TZID=Europe/Paris:20250322T173000
DTEND;TZID=Europe/Paris:20250322T210000
DTSTAMP:20260421T174058
CREATED:20250206T084857Z
LAST-MODIFIED:20250206T085440Z
UID:32612-1742664600-1742677200@www.faverges-seythenex.fr
SUMMARY:Bal du carnaval - 22 mars
DESCRIPTION:Le bal du Carnaval se déroule à la salle polyvalente de 17h30 à 21h. Bal pour tous animé par le groupe MUSIC LIVE\, groupe de quatre musiciens avec une chanteuse et un chanteur\, qui revisite tous les succès dansants des 30 dernières années.Gratuit. \nhttps://www.youtube.com/watch?v=kqCnvwn5kWU
URL:https://www.faverges-seythenex.fr/event/bal-du-carnaval-22-mars/
LOCATION:Salle polyvalente
CATEGORIES:Tous publics
ATTACH;FMTTYPE=image/jpeg:https://www.faverges-seythenex.fr/wp-content/uploads/2025/02/CARNAVAL-2025-scaled.jpg
END:VEVENT
BEGIN:VEVENT
DTSTART;TZID=Europe/Paris:20250324T183000
DTEND;TZID=Europe/Paris:20250324T193000
DTSTAMP:20260421T174058
CREATED:20250220T073201Z
LAST-MODIFIED:20250220T073201Z
UID:32703-1742841000-1742844600@www.faverges-seythenex.fr
SUMMARY:Tous en Scène ! - Orchestres à l'école de Cassin et Seythenex
DESCRIPTION:Piano\, violon\, flûte et violoncelle. \nGratuit. Organisé par l’école des Arts vivants.
URL:https://www.faverges-seythenex.fr/event/tous-en-scene-orchestres-a-lecole-de-cassin-et-seythenex/
CATEGORIES:Musique,Tous publics
ATTACH;FMTTYPE=image/jpeg:https://www.faverges-seythenex.fr/wp-content/uploads/2025/02/2025-03-Tous-en-scene-.jpg
END:VEVENT
BEGIN:VEVENT
DTSTART;TZID=Europe/Paris:20250326T170000
DTEND;TZID=Europe/Paris:20250326T180000
DTSTAMP:20260421T174058
CREATED:20250220T080147Z
LAST-MODIFIED:20250220T080147Z
UID:32706-1743008400-1743012000@www.faverges-seythenex.fr
SUMMARY:Tous en Scène ! - au Musée Archéologique de Viuz
DESCRIPTION:Percussions\, piano\, chant\, éveil. \nGratuit. Organisé par l’école des Arts vivants.
URL:https://www.faverges-seythenex.fr/event/tous-en-scene-au-musee-archeologique-de-viuz/
LOCATION:Musée archéologique\, 855 route de Viuz\, Faverges-Seythenex\, 74210\, France
CATEGORIES:Musique,Tous publics
ATTACH;FMTTYPE=image/jpeg:https://www.faverges-seythenex.fr/wp-content/uploads/2025/02/2025-03-Tous-en-scene-.jpg
END:VEVENT
BEGIN:VEVENT
DTSTART;TZID=Europe/Paris:20250328T143000
DTEND;TZID=Europe/Paris:20250328T160000
DTSTAMP:20260421T174058
CREATED:20250103T095233Z
LAST-MODIFIED:20250122T102142Z
UID:32076-1743172200-1743177600@www.faverges-seythenex.fr
SUMMARY:Vos rencontres de la forme "Rando dynamique" - 28 mars
DESCRIPTION:Une fois par semaine\, Kelly\, Nadège et Fabien\, les éducateurs sportifs municipaux\, vous invitent à partager un moment d’activités physiques cool et convivial. \nSans inscription\, venez directement sur place\, en fonction de vos envies\, de vos disponibilités… \nGratuit\, ouvert à tous.\nInfo au service des sports au 04 50 32 57 67 \nLes sorties prévues en extérieur seront annulées en cas de mauvais temps. \n 
URL:https://www.faverges-seythenex.fr/event/vos-rencontres-de-la-forme-rando-dynamique-2/
LOCATION:Parking du foyer des Combes
CATEGORIES:Sport,Tous publics
END:VEVENT
BEGIN:VEVENT
DTSTART;TZID=Europe/Paris:20250328T183000
DTEND;TZID=Europe/Paris:20250328T193000
DTSTAMP:20260421T174058
CREATED:20250220T075650Z
LAST-MODIFIED:20250220T075713Z
UID:32713-1743186600-1743190200@www.faverges-seythenex.fr
SUMMARY:Tous en Scène ! - à La Soierie
DESCRIPTION:Clarinette\, trompette\, trombone\, saxophone\, euphonium. \nGratuit. Organisé par l’école des Arts Vivants.
URL:https://www.faverges-seythenex.fr/event/tous-en-scene-instrument-a-vent/
LOCATION:Foyer municipal – La Soierie\, 141 route d'Albertville\, Faverges-Seythenex\, 74210\, France
CATEGORIES:Musique,Tous publics
ATTACH;FMTTYPE=image/jpeg:https://www.faverges-seythenex.fr/wp-content/uploads/2025/02/2025-03-Tous-en-scene-.jpg
END:VEVENT
BEGIN:VEVENT
DTSTART;TZID=Europe/Paris:20250329T110000
DTEND;TZID=Europe/Paris:20250329T120000
DTSTAMP:20260421T174059
CREATED:20250220T080415Z
LAST-MODIFIED:20250220T080415Z
UID:32718-1743246000-1743249600@www.faverges-seythenex.fr
SUMMARY:Tous en Scène ! - à la médiathèque
DESCRIPTION:Guitare. \nGratuit. Organisé par l’école des Arts Vivants.
URL:https://www.faverges-seythenex.fr/event/tous-en-scene-a-la-mediatheque/
LOCATION:Médiathèque de Faverges\, Rue Tissot-Dupont\, FAVERGES\, 74210
CATEGORIES:Musique,Tous publics
ATTACH;FMTTYPE=image/jpeg:https://www.faverges-seythenex.fr/wp-content/uploads/2025/02/2025-03-Tous-en-scene-.jpg
END:VEVENT
END:VCALENDAR