BEGIN:VCALENDAR
VERSION:2.0
PRODID:-//Faverges-Seythenex - ECPv6.15.18//NONSGML v1.0//EN
CALSCALE:GREGORIAN
METHOD:PUBLISH
X-WR-CALNAME:Faverges-Seythenex
X-ORIGINAL-URL:https://www.faverges-seythenex.fr
X-WR-CALDESC:Évènements pour Faverges-Seythenex
REFRESH-INTERVAL;VALUE=DURATION:PT1H
X-Robots-Tag:noindex
X-PUBLISHED-TTL:PT1H
BEGIN:VTIMEZONE
TZID:Europe/Paris
BEGIN:DAYLIGHT
TZOFFSETFROM:+0100
TZOFFSETTO:+0200
TZNAME:CEST
DTSTART:20240331T010000
END:DAYLIGHT
BEGIN:STANDARD
TZOFFSETFROM:+0200
TZOFFSETTO:+0100
TZNAME:CET
DTSTART:20241027T010000
END:STANDARD
BEGIN:DAYLIGHT
TZOFFSETFROM:+0100
TZOFFSETTO:+0200
TZNAME:CEST
DTSTART:20250330T010000
END:DAYLIGHT
BEGIN:STANDARD
TZOFFSETFROM:+0200
TZOFFSETTO:+0100
TZNAME:CET
DTSTART:20251026T010000
END:STANDARD
BEGIN:DAYLIGHT
TZOFFSETFROM:+0100
TZOFFSETTO:+0200
TZNAME:CEST
DTSTART:20260329T010000
END:DAYLIGHT
BEGIN:STANDARD
TZOFFSETFROM:+0200
TZOFFSETTO:+0100
TZNAME:CET
DTSTART:20261025T010000
END:STANDARD
END:VTIMEZONE
BEGIN:VEVENT
DTSTART;TZID=Europe/Paris:20250201T090000
DTEND;TZID=Europe/Paris:20250201T120000
DTSTAMP:20260421T191700
CREATED:20250127T152429Z
LAST-MODIFIED:20250127T152429Z
UID:32406-1738400400-1738411200@www.faverges-seythenex.fr
SUMMARY:Repair’Café – 01/02
DESCRIPTION:Les bénévoles du Repair Café proposent de vous aider à donner une seconde vie à vos objets défectueux : grille-pain\, chaise cassée\, lampe\, vélo…\nEntrée libre.
URL:https://www.faverges-seythenex.fr/event/repaircafe-01-02/
LOCATION:Foyer municipal – La Soierie\, 141 route d'Albertville\, Faverges-Seythenex\, 74210\, France
CATEGORIES:Tous publics
ATTACH;FMTTYPE=image/jpeg:https://www.faverges-seythenex.fr/wp-content/uploads/2023/04/REPAIR-CAFe.jpg
END:VEVENT
BEGIN:VEVENT
DTSTART;TZID=Europe/Paris:20250203T103000
DTEND;TZID=Europe/Paris:20250203T113000
DTSTAMP:20260421T191700
CREATED:20250103T094426Z
LAST-MODIFIED:20250103T094426Z
UID:32066-1738578600-1738582200@www.faverges-seythenex.fr
SUMMARY:Vos rencontres de la forme "Eco-marche" - 3 février
DESCRIPTION:Une fois par semaine\, Kelly\, Nadège et Fabien\, les éducateurs sportifs municipaux\, vous invitent à partager un moment d’activités physiques cool et convivial. \nSans inscription\, venez directement sur place\, en fonction de vos envies\, de vos disponibilités… \nGratuit\, ouvert à tous.\nInfo au service des sports au 04 50 32 57 67 \nLes sorties prévues en extérieur seront annulées en cas de mauvais temps.
URL:https://www.faverges-seythenex.fr/event/vos-rencontres-de-la-forme-eco-marche-3-fevrier/
LOCATION:Boulodrome
CATEGORIES:Sport,Tous publics
END:VEVENT
BEGIN:VEVENT
DTSTART;TZID=Europe/Paris:20250204T080000
DTEND;TZID=Europe/Paris:20250228T170000
DTSTAMP:20260421T191700
CREATED:20250122T092439Z
LAST-MODIFIED:20250122T092439Z
UID:32322-1738656000-1740762000@www.faverges-seythenex.fr
SUMMARY:Expo dessins de Georges Gonzales
DESCRIPTION:Georges Gonzales pratique le dessin depuis de nombreuses années et a découvert auprès du Koala Bleu différentes techniques qu’il applique à ses propres créations pour réaliser des dessins au pastel\, sa technique préférée\, à l’encre de chine\, au Gesso\, à l’acrylique ou à l’aquarelle. \nÀ travers l’exposition accueillie à la médiathèque de Faverges-Seythenex en février\, c’est sa passion pour cet art qu’il souhaite partager. \nEntrée libre aux horaires d’ouverture de la médiathèque\nInfo au 04 50 32 51 01
URL:https://www.faverges-seythenex.fr/event/expo-dessins-de-georges-gonzales/
LOCATION:Médiathèque de Faverges\, Rue Tissot-Dupont\, FAVERGES\, 74210
CATEGORIES:Exposition,Tous publics
ATTACH;FMTTYPE=image/png:https://www.faverges-seythenex.fr/wp-content/uploads/2025/01/Capture-decran-2025-01-22-a-10.23.56.png
END:VEVENT
BEGIN:VEVENT
DTSTART;TZID=Europe/Paris:20250207T160000
DTEND;TZID=Europe/Paris:20250207T200000
DTSTAMP:20260421T191700
CREATED:20250130T081657Z
LAST-MODIFIED:20250204T154052Z
UID:32471-1738944000-1738958400@www.faverges-seythenex.fr
SUMMARY:Portes ouvertes au LPP La Fontaine - 07/02
DESCRIPTION:Pus d’info sur le site du lycée privé professionnel.
URL:https://www.faverges-seythenex.fr/event/portes-ouvertes-au-lpp-la-fontaine-06-02/
LOCATION:LPP La Fontaine\, Chemin des Prés d'Enfer\, Faverges-Seythenex\, 74210\, France
CATEGORIES:Tous publics
END:VEVENT
BEGIN:VEVENT
DTSTART;TZID=Europe/Paris:20250207T190000
DTEND;TZID=Europe/Paris:20250207T230000
DTSTAMP:20260421T191700
CREATED:20250127T154825Z
LAST-MODIFIED:20250127T154825Z
UID:32418-1738954800-1738969200@www.faverges-seythenex.fr
SUMMARY:Soirée jeux famille - 07/02
DESCRIPTION:Soirée jeux pour petits et grands ! Repas partagé\, apportez ce qui vous fait envie !\nGratuit\, sans inscription.
URL:https://www.faverges-seythenex.fr/event/soiree-jeux-famille-07-02/
LOCATION:Foyer municipal – La Soierie\, 141 route d'Albertville\, Faverges-Seythenex\, 74210\, France
CATEGORIES:Tous publics
END:VEVENT
BEGIN:VEVENT
DTSTART;TZID=Europe/Paris:20250208T090000
DTEND;TZID=Europe/Paris:20250208T130000
DTSTAMP:20260421T191700
CREATED:20250130T081915Z
LAST-MODIFIED:20250204T154021Z
UID:32474-1739005200-1739019600@www.faverges-seythenex.fr
SUMMARY:Portes ouvertes au LPP La Fontaine - 08/02
DESCRIPTION:Plus d’info sur le site du Lycée Privé Professionnel.
URL:https://www.faverges-seythenex.fr/event/portes-ouvertes-au-lpp-la-fontaine-08-02/
LOCATION:LPP La Fontaine\, Chemin des Prés d'Enfer\, Faverges-Seythenex\, 74210\, France
CATEGORIES:Tous publics
ATTACH;FMTTYPE=image/jpeg:https://www.faverges-seythenex.fr/wp-content/uploads/2025/01/PO-LEPP.jpg
END:VEVENT
BEGIN:VEVENT
DTSTART;TZID=Europe/Paris:20250208T173000
DTEND;TZID=Europe/Paris:20250208T233000
DTSTAMP:20260421T191700
CREATED:20250127T155021Z
LAST-MODIFIED:20250127T155021Z
UID:32420-1739035800-1739057400@www.faverges-seythenex.fr
SUMMARY:Loto du sou des écoles de Faverges
DESCRIPTION:Fermeture des portes à 18h30\, début des parties à 20h.\nRéservation au 07 72 11 86 77
URL:https://www.faverges-seythenex.fr/event/loto-du-sou-des-ecoles-de-faverges-3/
LOCATION:Salle polyvalente
CATEGORIES:Tous publics
END:VEVENT
BEGIN:VEVENT
DTSTART;TZID=Europe/Paris:20250212T133000
DTEND;TZID=Europe/Paris:20250212T173000
DTSTAMP:20260421T191700
CREATED:20250122T093215Z
LAST-MODIFIED:20250122T093215Z
UID:32332-1739367000-1739381400@www.faverges-seythenex.fr
SUMMARY:Forum de l'emploi et formation des Sources du Lac d'Annecy
DESCRIPTION:Découvrez en direct les opportunités professionnelles des Sources du lac d’Annecy : \n• Les entreprises qui recrutent vous présentent les postes à pouvoir\, \n• Les partenaires et acteurs liés à l’emploi vous orientent dans votre recherche\, \n• Les organismes de formation vous aident à construire votre projet de formation ou de reconversion professionnelle. \nPour plus d’infos\, contactez l’Espace Emploi Formation au 04 50 44 50 44 ou par mail : eef@cc-sources-lac-annecy.com
URL:https://www.faverges-seythenex.fr/event/forum-de-lemploi-et-formation-des-sources-du-lac-dannecy-2/
LOCATION:Salle polyvalente
CATEGORIES:Tous publics
ATTACH;FMTTYPE=image/jpeg:https://www.faverges-seythenex.fr/wp-content/uploads/2025/01/473727889_1016647203841136_8445754119931044133_n.jpg
ORGANIZER;CN="Espace Emploi formation - Communaut%C3%A9 de Communes des Sources du Lac d'Annecy":MAILTO:eef@cc-sources-lac-annecy.com
END:VEVENT
BEGIN:VEVENT
DTSTART;TZID=Europe/Paris:20250213T150000
DTEND;TZID=Europe/Paris:20250213T160000
DTSTAMP:20260421T191700
CREATED:20250103T094527Z
LAST-MODIFIED:20250103T094527Z
UID:32068-1739458800-1739462400@www.faverges-seythenex.fr
SUMMARY:Vos rencontres de la forme "Gym douce" - 13 février
DESCRIPTION:Une fois par semaine\, Kelly\, Nadège et Fabien\, les éducateurs sportifs municipaux\, vous invitent à partager un moment d’activités physiques cool et convivial. \nSans inscription\, venez directement sur place\, en fonction de vos envies\, de vos disponibilités… \nGratuit\, ouvert à tous.\nInfo au service des sports au 04 50 32 57 67 \n 
URL:https://www.faverges-seythenex.fr/event/vos-rencontres-de-la-forme-gym-douce-13-fevrier/
LOCATION:Dojo
CATEGORIES:Sport,Tous publics
END:VEVENT
BEGIN:VEVENT
DTSTART;TZID=Europe/Paris:20250218T200000
DTEND;TZID=Europe/Paris:20250218T213000
DTSTAMP:20260421T191700
CREATED:20250122T094359Z
LAST-MODIFIED:20250122T094408Z
UID:32342-1739908800-1739914200@www.faverges-seythenex.fr
SUMMARY:Diaporama du groupe nature - 18 février
DESCRIPTION:« Vos observations et photos 2024 »\nPrésenté par Claudie Desjacquot.\nEntrée libre\, ouvert à tous.
URL:https://www.faverges-seythenex.fr/event/diaporama-du-groupe-nature-18-fevrier/
LOCATION:Maison des associations\, Place des Anciens d'AFN\, Faverges\, 74210\, France
CATEGORIES:Tous publics
END:VEVENT
BEGIN:VEVENT
DTSTART;TZID=Europe/Paris:20250219T143000
DTEND;TZID=Europe/Paris:20250219T153000
DTSTAMP:20260421T191700
CREATED:20250103T094632Z
LAST-MODIFIED:20250128T131931Z
UID:32070-1739975400-1739979000@www.faverges-seythenex.fr
SUMMARY:Vos rencontres de la forme "Forme et arts martiaux"
DESCRIPTION:Une fois par semaine\, Kelly\, Nadège et Fabien\, les éducateurs sportifs municipaux\, vous invitent à partager un moment d’activités physiques cool et convivial. \nSans inscription\, venez directement sur place\, en fonction de vos envies\, de vos disponibilités… \nGratuit\, ouvert à tous.\nInfo au service des sports au 04 50 32 57 67 \n 
URL:https://www.faverges-seythenex.fr/event/vos-rencontres-de-la-forme-forme-et-arts-martiaux-2/
LOCATION:Salle omnisports\, 895 route d'Albertville\, Faverges-Seythenex\, 74210\, France
CATEGORIES:Sport,Tous publics
END:VEVENT
END:VCALENDAR