BEGIN:VCALENDAR
VERSION:2.0
PRODID:-//Faverges-Seythenex - ECPv6.15.18//NONSGML v1.0//EN
CALSCALE:GREGORIAN
METHOD:PUBLISH
X-ORIGINAL-URL:https://www.faverges-seythenex.fr
X-WR-CALDESC:Évènements pour Faverges-Seythenex
REFRESH-INTERVAL;VALUE=DURATION:PT1H
X-Robots-Tag:noindex
X-PUBLISHED-TTL:PT1H
BEGIN:VTIMEZONE
TZID:Europe/Paris
BEGIN:DAYLIGHT
TZOFFSETFROM:+0100
TZOFFSETTO:+0200
TZNAME:CEST
DTSTART:20220327T010000
END:DAYLIGHT
BEGIN:STANDARD
TZOFFSETFROM:+0200
TZOFFSETTO:+0100
TZNAME:CET
DTSTART:20221030T010000
END:STANDARD
BEGIN:DAYLIGHT
TZOFFSETFROM:+0100
TZOFFSETTO:+0200
TZNAME:CEST
DTSTART:20230326T010000
END:DAYLIGHT
BEGIN:STANDARD
TZOFFSETFROM:+0200
TZOFFSETTO:+0100
TZNAME:CET
DTSTART:20231029T010000
END:STANDARD
BEGIN:DAYLIGHT
TZOFFSETFROM:+0100
TZOFFSETTO:+0200
TZNAME:CEST
DTSTART:20240331T010000
END:DAYLIGHT
BEGIN:STANDARD
TZOFFSETFROM:+0200
TZOFFSETTO:+0100
TZNAME:CET
DTSTART:20241027T010000
END:STANDARD
END:VTIMEZONE
BEGIN:VEVENT
DTSTART;TZID=Europe/Paris:20230302T180000
DTEND;TZID=Europe/Paris:20230302T200000
DTSTAMP:20260424T114348
CREATED:20230302T100758Z
LAST-MODIFIED:20230302T100758Z
UID:22886-1677780000-1677787200@www.faverges-seythenex.fr
SUMMARY:Scène ouverte
DESCRIPTION:[Dans le cadre du printemps des Poètes] \nThématique de l’édition 2023 : « Frontières » \nA l’occasion du Printemps des poètes\, la commune de Faverges-Seythenex vous invite à un moment convivial et créatif. A partir de textes de votre propre création ou déjà rédigés\, prenez le micro et exprimez-vous en lecture\, ou en chanson ! En compagnie de musiciens et danseurs\, la soirée promet d’être rythmée ! N’hésitez pas à venir avec vos textes ! \n  \n 
URL:https://www.faverges-seythenex.fr/event/scene-ouverte/
LOCATION:La Halle\, Place Carnot\, Faverges-Seythenex\, 74210\, France
CATEGORIES:Poésie,Tous publics
END:VEVENT
END:VCALENDAR