BEGIN:VCALENDAR
VERSION:2.0
PRODID:-//Faverges-Seythenex - ECPv6.15.18//NONSGML v1.0//EN
CALSCALE:GREGORIAN
METHOD:PUBLISH
X-WR-CALNAME:Faverges-Seythenex
X-ORIGINAL-URL:https://www.faverges-seythenex.fr
X-WR-CALDESC:Évènements pour Faverges-Seythenex
REFRESH-INTERVAL;VALUE=DURATION:PT1H
X-Robots-Tag:noindex
X-PUBLISHED-TTL:PT1H
BEGIN:VTIMEZONE
TZID:Europe/Paris
BEGIN:DAYLIGHT
TZOFFSETFROM:+0100
TZOFFSETTO:+0200
TZNAME:CEST
DTSTART:20240331T010000
END:DAYLIGHT
BEGIN:STANDARD
TZOFFSETFROM:+0200
TZOFFSETTO:+0100
TZNAME:CET
DTSTART:20241027T010000
END:STANDARD
BEGIN:DAYLIGHT
TZOFFSETFROM:+0100
TZOFFSETTO:+0200
TZNAME:CEST
DTSTART:20250330T010000
END:DAYLIGHT
BEGIN:STANDARD
TZOFFSETFROM:+0200
TZOFFSETTO:+0100
TZNAME:CET
DTSTART:20251026T010000
END:STANDARD
BEGIN:DAYLIGHT
TZOFFSETFROM:+0100
TZOFFSETTO:+0200
TZNAME:CEST
DTSTART:20260329T010000
END:DAYLIGHT
BEGIN:STANDARD
TZOFFSETFROM:+0200
TZOFFSETTO:+0100
TZNAME:CET
DTSTART:20261025T010000
END:STANDARD
END:VTIMEZONE
BEGIN:VEVENT
DTSTART;TZID=Europe/Paris:20251209T170000
DTEND;TZID=Europe/Paris:20251209T190000
DTSTAMP:20260425T155539
CREATED:20251001T145221Z
LAST-MODIFIED:20251020T064721Z
UID:36188-1765299600-1765306800@www.faverges-seythenex.fr
SUMMARY:Micro-Folie - Conte musical en compagnie de l'école des arts vivants
DESCRIPTION:Les membres de l’École des Arts Vivants vous invitent à un moment de découverte et d’évasion. Embarquez pour un voyage musical où les mots ne sont jamais bien loin ! Après la séance\, vous pourrez profiter d’un petit goûter afin de prolonger ce beau moment… \nDès 7 ans.\nGratuit\, sur réservation au 06 60 16 93 28 ou par mail microfolie@faverges.fr
URL:https://www.faverges-seythenex.fr/event/micro-folie-conte-musical-en-compagnie-de-lecole-des-arts-vivants/
CATEGORIES:Micro-Folie
ATTACH;FMTTYPE=image/jpeg:https://www.faverges-seythenex.fr/wp-content/uploads/2023/07/Micro-Folie-8.jpg
END:VEVENT
BEGIN:VEVENT
DTSTART;TZID=Europe/Paris:20251213T093000
DTEND;TZID=Europe/Paris:20251213T103000
DTSTAMP:20260425T155539
CREATED:20251201T100210Z
LAST-MODIFIED:20251201T102819Z
UID:37420-1765618200-1765621800@www.faverges-seythenex.fr
SUMMARY:Projection "Vive le vent d'hiver" - 13 décembre
DESCRIPTION:Deux créneaux disponibles : 9h30 ou 10h30 \nLe vent souffle\, les premières neiges font leur apparition et chacun se prépare à accueillir l’hiver. Des rencontres inattendues et des amitiés extraordinaires auront lieu tout au long de cette saison… \n(dès 3 ans\, durée 35 min) \nGratuit\, sur inscription au 06 60 16 93 28
URL:https://www.faverges-seythenex.fr/event/projection-vive-le-vent-dhiver-13-decembre/
LOCATION:Micro-Folie\, Place des Anciens d'AFN\, Faverges-Seythenex\, 74210
CATEGORIES:Jeune public,Micro-Folie
END:VEVENT
BEGIN:VEVENT
DTSTART;TZID=Europe/Paris:20251214T093000
DTEND;TZID=Europe/Paris:20251214T101000
DTSTAMP:20260425T155539
CREATED:20251201T103058Z
LAST-MODIFIED:20251201T103257Z
UID:37443-1765704600-1765707000@www.faverges-seythenex.fr
SUMMARY:Projection "Petits contes sous la neige" - 14 décembre
DESCRIPTION:L’entraide et la créativité sont au rendez-vous dans ce programme de sept courts métrages à destination des plus petits. D’une montagne enneigée en passant par une mer étoilée\, d’une ville tranquille à un océan agité\, les héros de ces films vous transportent dans leurs histoires joyeuses et poétiques\, pour la plupart empreintes d’une magie toute hivernale. \n(dès 3 ans\, durée 40 min) \nGratuit\, sur inscription au 06 60 16 93 28
URL:https://www.faverges-seythenex.fr/event/projection-petits-contes-sous-la-neige-14-decembre/
LOCATION:Micro-Folie\, Place des Anciens d'AFN\, Faverges-Seythenex\, 74210
CATEGORIES:Jeune public,Micro-Folie
ATTACH;FMTTYPE=image/webp:https://www.faverges-seythenex.fr/wp-content/uploads/2025/12/VISUEL_PETITSCONTESOUSLANEIGE.webp
END:VEVENT
BEGIN:VEVENT
DTSTART;TZID=Europe/Paris:20251217T150000
DTEND;TZID=Europe/Paris:20251217T190000
DTSTAMP:20260425T155539
CREATED:20251001T144620Z
LAST-MODIFIED:20251027T091629Z
UID:36183-1765983600-1765998000@www.faverges-seythenex.fr
SUMMARY:Micro-Folie - Atelier FabLab "La scie à chantourner"
DESCRIPTION:Grâce à cette machine facile à prendre en main\, viens profiter d’un moment entre ami(e)s pour créer formes et objets selon tes inspirations !  \nUne planche de bois\, un peu d’imagination et une bonne dose de dextérité puis le tour est joué !  \nÀ partir de 12 ans. Gratuit\, accès libre.
URL:https://www.faverges-seythenex.fr/event/micro-folie-atelier-fablab-la-scie-a-chantourner/
CATEGORIES:Micro-Folie,Tous publics
END:VEVENT
END:VCALENDAR