BEGIN:VCALENDAR
VERSION:2.0
PRODID:-//Faverges-Seythenex - ECPv6.15.18//NONSGML v1.0//EN
CALSCALE:GREGORIAN
METHOD:PUBLISH
X-WR-CALNAME:Faverges-Seythenex
X-ORIGINAL-URL:https://www.faverges-seythenex.fr
X-WR-CALDESC:Évènements pour Faverges-Seythenex
REFRESH-INTERVAL;VALUE=DURATION:PT1H
X-Robots-Tag:noindex
X-PUBLISHED-TTL:PT1H
BEGIN:VTIMEZONE
TZID:Europe/Paris
BEGIN:DAYLIGHT
TZOFFSETFROM:+0100
TZOFFSETTO:+0200
TZNAME:CEST
DTSTART:20240331T010000
END:DAYLIGHT
BEGIN:STANDARD
TZOFFSETFROM:+0200
TZOFFSETTO:+0100
TZNAME:CET
DTSTART:20241027T010000
END:STANDARD
BEGIN:DAYLIGHT
TZOFFSETFROM:+0100
TZOFFSETTO:+0200
TZNAME:CEST
DTSTART:20250330T010000
END:DAYLIGHT
BEGIN:STANDARD
TZOFFSETFROM:+0200
TZOFFSETTO:+0100
TZNAME:CET
DTSTART:20251026T010000
END:STANDARD
BEGIN:DAYLIGHT
TZOFFSETFROM:+0100
TZOFFSETTO:+0200
TZNAME:CEST
DTSTART:20260329T010000
END:DAYLIGHT
BEGIN:STANDARD
TZOFFSETFROM:+0200
TZOFFSETTO:+0100
TZNAME:CET
DTSTART:20261025T010000
END:STANDARD
END:VTIMEZONE
BEGIN:VEVENT
DTSTART;TZID=Europe/Paris:20251108T093000
DTEND;TZID=Europe/Paris:20251108T110000
DTSTAMP:20260425T173855
CREATED:20251001T144935Z
LAST-MODIFIED:20251001T145035Z
UID:36185-1762594200-1762599600@www.faverges-seythenex.fr
SUMMARY:Micro-Folie - Initiation au monde des arts pour les tout-petits
DESCRIPTION:Deux séances proposées : de 9h30 à 10h et de 10h30 à 11h \nProfitez d’un moment de partage et de découverte avec votre tout-petit ! \nAu sein de la Micro-Folie\, nous vous invitons à un voyage à travers le monde des Arts. L’occasion de solliciter les sens\, mais aussi d’éveiller la curiosité ! \nDe 2 à 3 ans.\nGratuit\, sur réservation au 06 60 16 93 28 ou par mail microfolie@faverges.fr
URL:https://www.faverges-seythenex.fr/event/micro-folie-initiation-au-monde-des-arts-pour-les-tout-petits/
CATEGORIES:Jeune public,Micro-Folie
END:VEVENT
BEGIN:VEVENT
DTSTART;TZID=Europe/Paris:20251126T150000
DTEND;TZID=Europe/Paris:20251126T190000
DTSTAMP:20260425T173855
CREATED:20251001T144358Z
LAST-MODIFIED:20251020T064819Z
UID:36181-1764169200-1764183600@www.faverges-seythenex.fr
SUMMARY:Micro-Folie - Concours jeux-vidéos
DESCRIPTION:Pendant quatre heures\, la Micro-Folie se transforme en arène de jeu… Mario Kart\, Fifa\, Minecraft\, il y en aura pour tout le monde ! Alors\, viens avec tes ami(e)s et affrontez-vous sur un écran géant. \nÀ partir de 12 ans. Gratuit\, accès libre.
URL:https://www.faverges-seythenex.fr/event/micro-folie-concours-jeux-videos/
CATEGORIES:Micro-Folie,Tous publics
ATTACH;FMTTYPE=image/jpeg:https://www.faverges-seythenex.fr/wp-content/uploads/2023/06/visuel-micro-folie.jpg
END:VEVENT
END:VCALENDAR