BEGIN:VCALENDAR
VERSION:2.0
PRODID:-//Faverges-Seythenex - ECPv6.15.18//NONSGML v1.0//EN
CALSCALE:GREGORIAN
METHOD:PUBLISH
X-WR-CALNAME:Faverges-Seythenex
X-ORIGINAL-URL:https://www.faverges-seythenex.fr
X-WR-CALDESC:Évènements pour Faverges-Seythenex
REFRESH-INTERVAL;VALUE=DURATION:PT1H
X-Robots-Tag:noindex
X-PUBLISHED-TTL:PT1H
BEGIN:VTIMEZONE
TZID:Europe/Paris
BEGIN:DAYLIGHT
TZOFFSETFROM:+0100
TZOFFSETTO:+0200
TZNAME:CEST
DTSTART:20240331T010000
END:DAYLIGHT
BEGIN:STANDARD
TZOFFSETFROM:+0200
TZOFFSETTO:+0100
TZNAME:CET
DTSTART:20241027T010000
END:STANDARD
BEGIN:DAYLIGHT
TZOFFSETFROM:+0100
TZOFFSETTO:+0200
TZNAME:CEST
DTSTART:20250330T010000
END:DAYLIGHT
BEGIN:STANDARD
TZOFFSETFROM:+0200
TZOFFSETTO:+0100
TZNAME:CET
DTSTART:20251026T010000
END:STANDARD
BEGIN:DAYLIGHT
TZOFFSETFROM:+0100
TZOFFSETTO:+0200
TZNAME:CEST
DTSTART:20260329T010000
END:DAYLIGHT
BEGIN:STANDARD
TZOFFSETFROM:+0200
TZOFFSETTO:+0100
TZNAME:CET
DTSTART:20261025T010000
END:STANDARD
END:VTIMEZONE
BEGIN:VEVENT
DTSTART;TZID=Europe/Paris:20251027T143000
DTEND;TZID=Europe/Paris:20251027T160000
DTSTAMP:20260425T192054
CREATED:20251001T143705Z
LAST-MODIFIED:20251013T134735Z
UID:36171-1761575400-1761580800@www.faverges-seythenex.fr
SUMMARY:Micro-Folie - Atelier artistique "Esprit es-tu là"
DESCRIPTION:En cette période d’Halloween\, la Micro-Folie vous invite à venir créer votre propre sorcière ! Après avoir découvert quelques œuvres d’art où la sorcière tient une place importante\, il sera temps de créer la vôtre… Laissant libre cours à votre inspiration du moment. \n À partir de 7 ans.\nGratuit\, sur réservation au 06 60 16 93 28 ou par mail microfolie@faverges.fr
URL:https://www.faverges-seythenex.fr/event/micro-folie-atelier-artistique-esprit-et-tu-la/
CATEGORIES:Micro-Folie
ATTACH;FMTTYPE=image/tiff:https://www.faverges-seythenex.fr/wp-content/uploads/2025/10/forest-8765686_1280.tif
END:VEVENT
BEGIN:VEVENT
DTSTART;TZID=Europe/Paris:20251028T143000
DTEND;TZID=Europe/Paris:20251028T160000
DTSTAMP:20260425T192054
CREATED:20251001T143925Z
LAST-MODIFIED:20251013T134720Z
UID:36174-1761661800-1761667200@www.faverges-seythenex.fr
SUMMARY:Atelier - Bulle de folie "Alors\, on danse?"
DESCRIPTION:Profitez de cet après-midi pour vous familiariser avec l’univers de la danse et plus précisément du ballet classique ! Après avoir découvert plusieurs types de danse\, vous découvrirez le ballet classique\, notamment à travers le célèbre Lac des cygnes ! Après avoir vu que les gestes des danseurs racontent une histoire et ont une signification particulière\, vous serez invité(e) à chorégraphier votre propre histoire avec vos mains. \nÀ partir de 7 ans.\nGratuit\, sur réservation au 06 60 16 93 28 ou par mail microfolie@faverges.fr
URL:https://www.faverges-seythenex.fr/event/atelier-bulle-de-folie-alors-on-danse/
CATEGORIES:Micro-Folie
ATTACH;FMTTYPE=image/jpeg:https://www.faverges-seythenex.fr/wp-content/uploads/2025/10/Conception_interactive_Bulles_de_Folie.jpg
END:VEVENT
BEGIN:VEVENT
DTSTART;TZID=Europe/Paris:20251029T150000
DTEND;TZID=Europe/Paris:20251029T190000
DTSTAMP:20260425T192054
CREATED:20251001T144120Z
LAST-MODIFIED:20251001T144213Z
UID:36178-1761750000-1761764400@www.faverges-seythenex.fr
SUMMARY:Musée numérique collection "Bretagne" et casque de réalité virtuelle
DESCRIPTION:La Bretagne\, son histoire\, ses légendes\, ses côtes maritimes\, sa musique… C’est tout cela que vous pourrez découvrir dans cette nouvelle collection du Musée numérique ! Un espace créatif pour les plus jeunes sera accessible tout au long de l’après-midi… Il y en aura pour tous les goûts et tous les âges ! \nÀ partir de 6 ans. Gratuit\, accès libre.
URL:https://www.faverges-seythenex.fr/event/musee-numerique-collection-bretagne-et-casque-de-realite-virtuelle/
CATEGORIES:Micro-Folie,Tous publics
ATTACH;FMTTYPE=image/jpeg:https://www.faverges-seythenex.fr/wp-content/uploads/2025/10/TABLEAU-BRETAGNE.jpg
END:VEVENT
END:VCALENDAR