BEGIN:VCALENDAR
VERSION:2.0
PRODID:-//Faverges-Seythenex - ECPv6.15.18//NONSGML v1.0//EN
CALSCALE:GREGORIAN
METHOD:PUBLISH
X-WR-CALNAME:Faverges-Seythenex
X-ORIGINAL-URL:https://www.faverges-seythenex.fr
X-WR-CALDESC:Évènements pour Faverges-Seythenex
REFRESH-INTERVAL;VALUE=DURATION:PT1H
X-Robots-Tag:noindex
X-PUBLISHED-TTL:PT1H
BEGIN:VTIMEZONE
TZID:Europe/Paris
BEGIN:DAYLIGHT
TZOFFSETFROM:+0100
TZOFFSETTO:+0200
TZNAME:CEST
DTSTART:20240331T010000
END:DAYLIGHT
BEGIN:STANDARD
TZOFFSETFROM:+0200
TZOFFSETTO:+0100
TZNAME:CET
DTSTART:20241027T010000
END:STANDARD
BEGIN:DAYLIGHT
TZOFFSETFROM:+0100
TZOFFSETTO:+0200
TZNAME:CEST
DTSTART:20250330T010000
END:DAYLIGHT
BEGIN:STANDARD
TZOFFSETFROM:+0200
TZOFFSETTO:+0100
TZNAME:CET
DTSTART:20251026T010000
END:STANDARD
BEGIN:DAYLIGHT
TZOFFSETFROM:+0100
TZOFFSETTO:+0200
TZNAME:CEST
DTSTART:20260329T010000
END:DAYLIGHT
BEGIN:STANDARD
TZOFFSETFROM:+0200
TZOFFSETTO:+0100
TZNAME:CET
DTSTART:20261025T010000
END:STANDARD
END:VTIMEZONE
BEGIN:VEVENT
DTSTART;TZID=Europe/Paris:20250721T143000
DTEND;TZID=Europe/Paris:20250721T163000
DTSTAMP:20260426T003408
CREATED:20250625T114032Z
LAST-MODIFIED:20250625T114032Z
UID:34754-1753108200-1753115400@www.faverges-seythenex.fr
SUMMARY:Micro-Folie : Après-midi jeux et loisirs créatifs - 21 juillet
DESCRIPTION:Autour d’une thématique définie avec l’ensemble des participant(e)s\, préparez-vous pour un moment d’apprentissage\, de jeux et de création !   \nÀ partir de 6 ans\, places limitées sur inscription au 06 60 16 93 28 ou par mail : microfolie@faverges.fr\nGRATUIT.
URL:https://www.faverges-seythenex.fr/event/micro-folie-apres-midi-jeux-et-loisirs-creatifs-21-juillet/
CATEGORIES:Micro-Folie
ATTACH;FMTTYPE=image/jpeg:https://www.faverges-seythenex.fr/wp-content/uploads/2025/06/APREMJEUXLOISIRSCREA.jpg
END:VEVENT
BEGIN:VEVENT
DTSTART;TZID=Europe/Paris:20250722T140000
DTEND;TZID=Europe/Paris:20250722T170000
DTSTAMP:20260426T003408
CREATED:20250625T115150Z
LAST-MODIFIED:20250625T115906Z
UID:34760-1753192800-1753203600@www.faverges-seythenex.fr
SUMMARY:Micro-Folie : Musée numérique et casque virtuelle - 22 juillet
DESCRIPTION:Embarquez pour un voyage artistique et culturel à la découverte de la restauration de la Cathédrale Notre-Dame de Paris ! Pour les plus jeunes\, un espace créatif est à votre disposition. Un moment de partage pour toute la famille !   \nÀ partir de 6 ans\, en Accès libre\, info au 06 60 16 93 28 ou par mail : microfolie@faverges.fr\nGRATUIT. \n© Coll. musée d’Orsay\, Paris / © Bridgeman Images
URL:https://www.faverges-seythenex.fr/event/micro-folie-musee-numerique-et-casques-de-realite-virtuelle-22-juillet/
CATEGORIES:Micro-Folie
ATTACH;FMTTYPE=image/jpeg:https://www.faverges-seythenex.fr/wp-content/uploads/2025/06/MUSEENUMNOTREDAME.jpg
END:VEVENT
BEGIN:VEVENT
DTSTART;TZID=Europe/Paris:20250723T160000
DTEND;TZID=Europe/Paris:20250723T180000
DTSTAMP:20260426T003408
CREATED:20250625T120649Z
LAST-MODIFIED:20250625T120755Z
UID:34772-1753286400-1753293600@www.faverges-seythenex.fr
SUMMARY:Micro-Folie : Atelier artistique "clair-obscur"
DESCRIPTION:Avec le Koala bleu\nVenu de la Renaissance\, le clair-obscur n’a cessé\, du Caravage à Rembrandt\, de fasciner par ses jeux de lumière. Découvrez la technique du crayon pastel sur feuille noire et initiez-vous au clair-obscur en réalisant un dessin en compagnie de Christophe Novel\, artiste et professeur au Koala Bleu. \nÀ partir de 10 ans\, places limitées sur inscription au 06 60 16 93 28 ou par mail : microfolie@faverges.fr\nGRATUIT.
URL:https://www.faverges-seythenex.fr/event/micro-folie-atelier-artistique-clair-obscur/
CATEGORIES:Art,Micro-Folie
ATTACH;FMTTYPE=image/jpeg:https://www.faverges-seythenex.fr/wp-content/uploads/2025/06/KOALABLEU.jpg
END:VEVENT
BEGIN:VEVENT
DTSTART;TZID=Europe/Paris:20250728T143000
DTEND;TZID=Europe/Paris:20250728T160000
DTSTAMP:20260426T003408
CREATED:20250625T121006Z
LAST-MODIFIED:20250625T121006Z
UID:34775-1753713000-1753718400@www.faverges-seythenex.fr
SUMMARY:Micro-Folie : L'atelier du petit peintre - 28 juillet
DESCRIPTION:Après avoir découvert quelques œuvres emblématiques à l’aide de petits quizz\, place à la pratique. Une toile\, quelques couleurs sur une palette et c’est parti pour un moment de détente et de création en famille ! \nÀ partir de 8 ans\, places limitées sur inscription au 06 60 16 93 28 ou par mail : microfolie@faverges.fr\nGRATUIT.
URL:https://www.faverges-seythenex.fr/event/micro-folie-latelier-du-petit-peintre-28-juillet/
CATEGORIES:Art,Micro-Folie
ATTACH;FMTTYPE=image/jpeg:https://www.faverges-seythenex.fr/wp-content/uploads/2025/06/ATELIERARTISTIQUE.jpg
END:VEVENT
BEGIN:VEVENT
DTSTART;TZID=Europe/Paris:20250729T140000
DTEND;TZID=Europe/Paris:20250729T170000
DTSTAMP:20260426T003408
CREATED:20250625T115541Z
LAST-MODIFIED:20250625T115541Z
UID:34765-1753797600-1753808400@www.faverges-seythenex.fr
SUMMARY:Micro-Folie : Musée numérique et casques de réalité virtuelle - 29 juillet
DESCRIPTION:Embarquez pour un voyage artistique et culturel à la découverte de la restauration de la Cathédrale Notre-Dame de Paris ! Pour les plus jeunes\, un espace créatif est à votre disposition. Un moment de partage pour toute la famille ! \nÀ partir de 6 ans\, en Accès libre\, info au 06 60 16 93 28 ou par mail : microfolie@faverges.fr\nGRATUIT. \n© Musée de la Tapisserie de Bayeux
URL:https://www.faverges-seythenex.fr/event/micro-folie-musee-numerique-et-casques-de-realite-virtuelle-29-juillet/
CATEGORIES:Micro-Folie
ATTACH;FMTTYPE=image/jpeg:https://www.faverges-seythenex.fr/wp-content/uploads/2025/06/MUSEENUMNORMANDIE.jpg
END:VEVENT
BEGIN:VEVENT
DTSTART;TZID=Europe/Paris:20250730T160000
DTEND;TZID=Europe/Paris:20250730T180000
DTSTAMP:20260426T003408
CREATED:20250625T122319Z
LAST-MODIFIED:20250625T122319Z
UID:34780-1753891200-1753898400@www.faverges-seythenex.fr
SUMMARY:Micro-Folie : atelier initiation à la gravure
DESCRIPTION:Avec Patrice Federgrün \nMariage heureux entre artisanat et art graphique\, la gravure offre un très large champ d’expérimentation et de découverte autour de la création d’images multiples imprimées sous presse (estampes). Après un franc succès lors de son premier passage\, Patrice Federgrün nous fait le plaisir de proposer un nouvel atelier au sein de la Micro-Folie ! Alors\, n’hésitez plus et réservez vite ! \nÀ partir de 8 ans\, places limitées sur inscription au 06 60 16 93 28 ou par mail : microfolie@faverges.fr\nGRATUIT.
URL:https://www.faverges-seythenex.fr/event/micro-folie-atelier-initiation-a-la-gravure/
CATEGORIES:Art,Micro-Folie
ATTACH;FMTTYPE=image/jpeg:https://www.faverges-seythenex.fr/wp-content/uploads/2025/06/ATELIERGRAVURE.jpg
END:VEVENT
END:VCALENDAR