BEGIN:VCALENDAR
VERSION:2.0
PRODID:-//Faverges-Seythenex - ECPv6.15.18//NONSGML v1.0//EN
CALSCALE:GREGORIAN
METHOD:PUBLISH
X-WR-CALNAME:Faverges-Seythenex
X-ORIGINAL-URL:https://www.faverges-seythenex.fr
X-WR-CALDESC:Évènements pour Faverges-Seythenex
REFRESH-INTERVAL;VALUE=DURATION:PT1H
X-Robots-Tag:noindex
X-PUBLISHED-TTL:PT1H
BEGIN:VTIMEZONE
TZID:Europe/Paris
BEGIN:DAYLIGHT
TZOFFSETFROM:+0100
TZOFFSETTO:+0200
TZNAME:CEST
DTSTART:20250330T010000
END:DAYLIGHT
BEGIN:STANDARD
TZOFFSETFROM:+0200
TZOFFSETTO:+0100
TZNAME:CET
DTSTART:20251026T010000
END:STANDARD
BEGIN:DAYLIGHT
TZOFFSETFROM:+0100
TZOFFSETTO:+0200
TZNAME:CEST
DTSTART:20260329T010000
END:DAYLIGHT
BEGIN:STANDARD
TZOFFSETFROM:+0200
TZOFFSETTO:+0100
TZNAME:CET
DTSTART:20261025T010000
END:STANDARD
BEGIN:DAYLIGHT
TZOFFSETFROM:+0100
TZOFFSETTO:+0200
TZNAME:CEST
DTSTART:20270328T010000
END:DAYLIGHT
BEGIN:STANDARD
TZOFFSETFROM:+0200
TZOFFSETTO:+0100
TZNAME:CET
DTSTART:20271031T010000
END:STANDARD
END:VTIMEZONE
BEGIN:VEVENT
DTSTART;TZID=Europe/Paris:20260207T100000
DTEND;TZID=Europe/Paris:20260207T110000
DTSTAMP:20260421T012218
CREATED:20260128T150737Z
LAST-MODIFIED:20260203T093218Z
UID:38085-1770458400-1770462000@www.faverges-seythenex.fr
SUMMARY:Heure du conte "L'amour"
DESCRIPTION:Cupidon prépare ses flèches et vous enchantera de ses « Histoires de cœur ». \nDe 18 mois à 6 ans.\nGratuit\, sur inscription au 04 50 32 51 01
URL:https://www.faverges-seythenex.fr/event/heure-du-conte-lamour-7-fevrier/
LOCATION:Médiathèque de Faverges\, Rue Tissot-Dupont\, FAVERGES\, 74210
CATEGORIES:Jeune public
ATTACH;FMTTYPE=image/jpeg:https://www.faverges-seythenex.fr/wp-content/uploads/2026/01/AFFICHE-AMOUR-1.jpg
END:VEVENT
BEGIN:VEVENT
DTSTART;TZID=Europe/Paris:20260211T170000
DTEND;TZID=Europe/Paris:20260211T180000
DTSTAMP:20260421T012218
CREATED:20260128T152134Z
LAST-MODIFIED:20260203T093157Z
UID:38095-1770829200-1770832800@www.faverges-seythenex.fr
SUMMARY:Théâtre d'objets "Mes nouvelles chaussures"
DESCRIPTION:[ORGANISÉ PAR LA SOIERIE] \nGrandir\, c’est toute une aventure ! Dans Mes Nouvelles Chaussures\, un petit garçon découvre le monde… une paire de chaussures après l’autre. À chaque pas\, chaque saison et chaque boîte à chaussures\, son regard s’ouvre un peu plus. Un spectacle multi primé à l’international et qui est dédié “à nos parents qui nous ont aidé à grandir\, et à nos enfants qui grandissent à leur tour”. On y parle curiosité\, temps qui passe\, premières fois\, et ce chemin intime que chacun fait à son rythme. Un moment de partage intergénérationnel à vivre en famille à partir de 3 ans.  \nJeune public\, dès 3 ans\, durée : env. 30 min\nTarifs : 8€ (adhérent/-25 ans) / 12€\, réservation sur le site de La Soierie ou directement à l’accueil
URL:https://www.faverges-seythenex.fr/event/theatre-dobjets-mes-nouvelles-chaussures-11-fevrier/
LOCATION:Foyer municipal – La Soierie\, 141 route d'Albertville\, Faverges-Seythenex\, 74210\, France
CATEGORIES:Jeune public
ATTACH;FMTTYPE=image/jpeg:https://www.faverges-seythenex.fr/wp-content/uploads/2026/01/Mes-nouvelles-chaussures-scaled.jpg
END:VEVENT
BEGIN:VEVENT
DTSTART;TZID=Europe/Paris:20260214T100000
DTEND;TZID=Europe/Paris:20260214T110000
DTSTAMP:20260421T012218
CREATED:20260128T152349Z
LAST-MODIFIED:20260203T093141Z
UID:38098-1771063200-1771066800@www.faverges-seythenex.fr
SUMMARY:Musique au berceau
DESCRIPTION:[ORGANISÉE PAR L’ÉCOLE DES ARTS VIVANTS] \nChanter\, écouter\, improviser\, danser\, mimer… Accompagnez vos tout-petits (de 0 à 3 ans) pour un voyage sensoriel à travers les sons\, avec Clara.\nTarifs : 1 séance 12 €\, carte 5 séances 45 € (+ 20 € adhésion). Inscription au 06 63 87 98 55 ou par mail : accueil@artsvivants.fr
URL:https://www.faverges-seythenex.fr/event/musique-au-berceau-14-fevrier/
LOCATION:Ecole des Arts Vivants\, Place de Bühlertal\, Faverges-Seythenex\, 74210
CATEGORIES:Jeune public,Musique
ATTACH;FMTTYPE=image/png:https://www.faverges-seythenex.fr/wp-content/uploads/2026/01/25_10_visuel_generique_mq_au_berceau.png
END:VEVENT
END:VCALENDAR