BEGIN:VCALENDAR
VERSION:2.0
PRODID:-//Faverges-Seythenex - ECPv6.15.18//NONSGML v1.0//EN
CALSCALE:GREGORIAN
METHOD:PUBLISH
X-WR-CALNAME:Faverges-Seythenex
X-ORIGINAL-URL:https://www.faverges-seythenex.fr
X-WR-CALDESC:Évènements pour Faverges-Seythenex
REFRESH-INTERVAL;VALUE=DURATION:PT1H
X-Robots-Tag:noindex
X-PUBLISHED-TTL:PT1H
BEGIN:VTIMEZONE
TZID:Europe/Paris
BEGIN:DAYLIGHT
TZOFFSETFROM:+0100
TZOFFSETTO:+0200
TZNAME:CEST
DTSTART:20250330T010000
END:DAYLIGHT
BEGIN:STANDARD
TZOFFSETFROM:+0200
TZOFFSETTO:+0100
TZNAME:CET
DTSTART:20251026T010000
END:STANDARD
BEGIN:DAYLIGHT
TZOFFSETFROM:+0100
TZOFFSETTO:+0200
TZNAME:CEST
DTSTART:20260329T010000
END:DAYLIGHT
BEGIN:STANDARD
TZOFFSETFROM:+0200
TZOFFSETTO:+0100
TZNAME:CET
DTSTART:20261025T010000
END:STANDARD
BEGIN:DAYLIGHT
TZOFFSETFROM:+0100
TZOFFSETTO:+0200
TZNAME:CEST
DTSTART:20270328T010000
END:DAYLIGHT
BEGIN:STANDARD
TZOFFSETFROM:+0200
TZOFFSETTO:+0100
TZNAME:CET
DTSTART:20271031T010000
END:STANDARD
END:VTIMEZONE
BEGIN:VEVENT
DTSTART;TZID=Europe/Paris:20260110T100000
DTEND;TZID=Europe/Paris:20260110T110000
DTSTAMP:20260421T030436
CREATED:20251231T083338Z
LAST-MODIFIED:20251231T083338Z
UID:37772-1768039200-1768042800@www.faverges-seythenex.fr
SUMMARY:Musique au berceau - 10 janvier
DESCRIPTION:Chanter\, écouter\, improviser\, danser\, mimer… Accompagnez vos tout-petits (de 0 à 3 ans). \nInscription au 06 63 87 98 55\nOrganisée par l’École des Arts Vivants \n 
URL:https://www.faverges-seythenex.fr/event/musique-au-berceau-10-janvier/
LOCATION:Ecole des Arts Vivants\, Place de Bühlertal\, Faverges-Seythenex\, 74210
CATEGORIES:Jeune public,Musique
ATTACH;FMTTYPE=image/png:https://www.faverges-seythenex.fr/wp-content/uploads/2025/12/25_10_visuel_generique_mq_au_berceau.png
END:VEVENT
BEGIN:VEVENT
DTSTART;TZID=Europe/Paris:20260117T100000
DTEND;TZID=Europe/Paris:20260117T110000
DTSTAMP:20260421T030436
CREATED:20251229T082915Z
LAST-MODIFIED:20251229T082915Z
UID:37715-1768644000-1768647600@www.faverges-seythenex.fr
SUMMARY:Heure du conte "Les contes de la chaumière" - 17 janvier
DESCRIPTION:Heure du Conte « Les contes de la chaumière » \nPour les enfants de 18 mois à 6 ans. Sur inscription auprès de la médiathèque au 04 50 32 51 01.
URL:https://www.faverges-seythenex.fr/event/heure-du-conte-les-contes-de-la-chaumiere-17-janvier/
LOCATION:Médiathèque de Faverges\, Rue Tissot-Dupont\, FAVERGES\, 74210
CATEGORIES:Jeune public
END:VEVENT
END:VCALENDAR