BEGIN:VCALENDAR
VERSION:2.0
PRODID:-//Faverges-Seythenex - ECPv6.15.18//NONSGML v1.0//EN
CALSCALE:GREGORIAN
METHOD:PUBLISH
X-WR-CALNAME:Faverges-Seythenex
X-ORIGINAL-URL:https://www.faverges-seythenex.fr
X-WR-CALDESC:Évènements pour Faverges-Seythenex
REFRESH-INTERVAL;VALUE=DURATION:PT1H
X-Robots-Tag:noindex
X-PUBLISHED-TTL:PT1H
BEGIN:VTIMEZONE
TZID:Europe/Paris
BEGIN:DAYLIGHT
TZOFFSETFROM:+0100
TZOFFSETTO:+0200
TZNAME:CEST
DTSTART:20190331T010000
END:DAYLIGHT
BEGIN:STANDARD
TZOFFSETFROM:+0200
TZOFFSETTO:+0100
TZNAME:CET
DTSTART:20191027T010000
END:STANDARD
BEGIN:DAYLIGHT
TZOFFSETFROM:+0100
TZOFFSETTO:+0200
TZNAME:CEST
DTSTART:20200329T010000
END:DAYLIGHT
BEGIN:STANDARD
TZOFFSETFROM:+0200
TZOFFSETTO:+0100
TZNAME:CET
DTSTART:20201025T010000
END:STANDARD
BEGIN:DAYLIGHT
TZOFFSETFROM:+0100
TZOFFSETTO:+0200
TZNAME:CEST
DTSTART:20210328T010000
END:DAYLIGHT
BEGIN:STANDARD
TZOFFSETFROM:+0200
TZOFFSETTO:+0100
TZNAME:CET
DTSTART:20211031T010000
END:STANDARD
END:VTIMEZONE
BEGIN:VEVENT
DTSTART;TZID=Europe/Paris:20200814T193000
DTEND;TZID=Europe/Paris:20200814T210000
DTSTAMP:20260420T073020
CREATED:20200702T150125Z
LAST-MODIFIED:20200702T150125Z
UID:13746-1597433400-1597438800@www.faverges-seythenex.fr
SUMMARY:Cirque - John et les nonnes
DESCRIPTION:Spectacle de cirque musical et burlesque : John et les nonnes.\nCie un de ces 4 \nLe couvent Sainte-Marjolaine vous invite à son concert de charité ! Mère supérieure et Sœur Marie-Bergamote sont propulsées sur le devant de la scène pour rassembler les fonds nécessaires à la restauration de la statue\, en piteux état\, de leur couvent.\nVos bas de laine risquent d’en prendre un coup tant elles vont donner de leur personne durant leur quête ! \nPour les aider dans leur mission\, les Nonnes seront accompagnées de Père-Jean. Il se pourrait que celui-ci prenne beaucoup plus de place que prévu et entraîne les religieuses dans un registre qu’elles n’auraient pas envisagé…\nLaissez ce trio de choc vous entraîner dans leur show caritatif avec prouesses de cirque\, chant et humour ! \nTout public à partir de 5 ans.\nGRATUIT.
URL:https://www.faverges-seythenex.fr/event/cirque-john-et-les-nonnes/
LOCATION:Parc Simon Berger
CATEGORIES:Cirque,Musique
ATTACH;FMTTYPE=image/jpeg:https://www.faverges-seythenex.fr/wp-content/uploads/2020/07/20.08.14-CIE-UN-DE-CES-4.jpg
END:VEVENT
END:VCALENDAR