BEGIN:VCALENDAR
VERSION:2.0
PRODID:-//Faverges-Seythenex - ECPv6.15.18//NONSGML v1.0//EN
CALSCALE:GREGORIAN
METHOD:PUBLISH
X-ORIGINAL-URL:https://www.faverges-seythenex.fr
X-WR-CALDESC:Évènements pour Faverges-Seythenex
REFRESH-INTERVAL;VALUE=DURATION:PT1H
X-Robots-Tag:noindex
X-PUBLISHED-TTL:PT1H
BEGIN:VTIMEZONE
TZID:Europe/Paris
BEGIN:DAYLIGHT
TZOFFSETFROM:+0100
TZOFFSETTO:+0200
TZNAME:CEST
DTSTART:20190331T010000
END:DAYLIGHT
BEGIN:STANDARD
TZOFFSETFROM:+0200
TZOFFSETTO:+0100
TZNAME:CET
DTSTART:20191027T010000
END:STANDARD
BEGIN:DAYLIGHT
TZOFFSETFROM:+0100
TZOFFSETTO:+0200
TZNAME:CEST
DTSTART:20200329T010000
END:DAYLIGHT
BEGIN:STANDARD
TZOFFSETFROM:+0200
TZOFFSETTO:+0100
TZNAME:CET
DTSTART:20201025T010000
END:STANDARD
BEGIN:DAYLIGHT
TZOFFSETFROM:+0100
TZOFFSETTO:+0200
TZNAME:CEST
DTSTART:20210328T010000
END:DAYLIGHT
BEGIN:STANDARD
TZOFFSETFROM:+0200
TZOFFSETTO:+0100
TZNAME:CET
DTSTART:20211031T010000
END:STANDARD
END:VTIMEZONE
BEGIN:VEVENT
DTSTART;TZID=Europe/Paris:20200725T163000
DTEND;TZID=Europe/Paris:20200725T173000
DTSTAMP:20260420T071841
CREATED:20200702T152933Z
LAST-MODIFIED:20200723T160330Z
UID:13718-1595694600-1595698200@www.faverges-seythenex.fr
SUMMARY:Cirque - Ploie sous mon poids
DESCRIPTION:CIRQUE\nCompagnie Mauvais Coton \nMontrer sa capacité à négocier. Pour ne pas tomber. Se mettre en jeu. Pour ne pas tomber. Et donner à voir. Être au présent. Être présent. Pour ne pas tomber. Garantir la fraîcheur du moment et sa félinité acrobatique. Montrer l’instinct acrobatique.\nÊtre à l‘affut. Vif. Et tomber.\nAux yeux de tous. Accepter de partager le défi ; l’aventure. D’en faire tout ou partie. D’être au monde. D’être le monde. Sans prétention. \nLieu de repli en cas d’intempéries : la salle polyvalente de Faverges.\nCompagnie en résidence de création 22 au 25 juillet.\nGRATUIT.
URL:https://www.faverges-seythenex.fr/event/cirque-ploie-sous-mon-poids/
LOCATION:Salle polyvalente
CATEGORIES:Cirque
ATTACH;FMTTYPE=image/jpeg:https://www.faverges-seythenex.fr/wp-content/uploads/2020/07/ploie-1-Nicolas-Gauduchon-Photographie-233.jpg
END:VEVENT
END:VCALENDAR