BEGIN:VCALENDAR
VERSION:2.0
PRODID:-//Faverges-Seythenex - ECPv6.15.18//NONSGML v1.0//EN
CALSCALE:GREGORIAN
METHOD:PUBLISH
X-ORIGINAL-URL:https://www.faverges-seythenex.fr
X-WR-CALDESC:Évènements pour Faverges-Seythenex
REFRESH-INTERVAL;VALUE=DURATION:PT1H
X-Robots-Tag:noindex
X-PUBLISHED-TTL:PT1H
BEGIN:VTIMEZONE
TZID:Europe/Paris
BEGIN:DAYLIGHT
TZOFFSETFROM:+0100
TZOFFSETTO:+0200
TZNAME:CEST
DTSTART:20190331T010000
END:DAYLIGHT
BEGIN:STANDARD
TZOFFSETFROM:+0200
TZOFFSETTO:+0100
TZNAME:CET
DTSTART:20191027T010000
END:STANDARD
BEGIN:DAYLIGHT
TZOFFSETFROM:+0100
TZOFFSETTO:+0200
TZNAME:CEST
DTSTART:20200329T010000
END:DAYLIGHT
BEGIN:STANDARD
TZOFFSETFROM:+0200
TZOFFSETTO:+0100
TZNAME:CET
DTSTART:20201025T010000
END:STANDARD
BEGIN:DAYLIGHT
TZOFFSETFROM:+0100
TZOFFSETTO:+0200
TZNAME:CEST
DTSTART:20210328T010000
END:DAYLIGHT
BEGIN:STANDARD
TZOFFSETFROM:+0200
TZOFFSETTO:+0100
TZNAME:CET
DTSTART:20211031T010000
END:STANDARD
END:VTIMEZONE
BEGIN:VEVENT
DTSTART;TZID=Europe/Paris:20200314T203000
DTEND;TZID=Europe/Paris:20200314T213000
DTSTAMP:20260420T014702
CREATED:20200217T154931Z
LAST-MODIFIED:20200310T113403Z
UID:12708-1584217800-1584221400@www.faverges-seythenex.fr
SUMMARY:Mü - spectacle / cirque
DESCRIPTION:Cie La Tournoyante\n\nCIRQUE \nPar quoi sommes-nous mus ? Quand nos choix semblent de plus en plus conditionnés\, quelle part de liberté nous reste-t-il ? Ici\, les corps des artistes sont mis en jeu par le biais d’aimants puissants pour créer des situations de «gravité transformée». Dans cet étrange univers magnétique\, trois personnages sont soumis à des forces invisibles qui bouleversent les lois naturelles et les réduisent à l’état de marionnettes. Au plafond ou sur les murs surviennent alors des situations invraisemblables où chacun tente de conserver le contrôle de sa vie. Révélant l’envers du décor\, ce spectacle éclaire les mécanismes de manipulation qui nous déterminent. \nA partir de 6 ans.  \nDistribution :\nConception et mise en scène : Simon Carrot\nCo-conception et construction des dispositifs scéniques : Ulysse Lacoste\nInterprétation : Simon Nyiringabo\, Eva-Luna Frattini\, Anne-Julia Neumann\, Simon Carrot\, Mickael Jean\nTechnique : Mickael Jean\nScénographie sonore : Denis Fargeton    Création Lumière : Elsa Revol \n  \nAides à la production / / Quelques p’Arts… – Centre National des Arts de la Rue et de l’Espace Public – Scène Rhône-Alpes à Boulieu-lès-Annonay / La Cascade – Pôle National des Arts du Cirque à Bourg-Saint-Andéol / La Fondation Seguin à Annonay / Le Festival des 7 collines à Saint-Etienne / La Rotonde – Centre Culturel Scientifique Technique et Industriel à Saint Etienne / L’Hexagone – Scène Nationale Arts-Sciences de Meylan / La commune de Faverges-Seythenex.\nCe spectacle est coproduit dans le cadre du dispositif Ardèche Art-Science 2018 et 2019 du Conseil Général de l’Ardèche\, qui associe l’Arche des Métiers – Centre Culturel Scientifique Technique et Industriel au Cheylard\, la Fondation Seguin à Annonay\, le Théâtre des Quinconces à Vals-lès-Bains\, et Nouvelle Donne.\nPartenaires / / Latitude 50 – Pôle des Arts du Cirque et de la Rue à Marchin (BE) / Le Château de Monthelon / Annonay Rhône-Agglo / La Rampe-La Ponatière\, scène conventionnée-Échirolles\nCe spectacle est soutenu dans le cadre du Groupe des 20 – Scènes publiques en Auvergne-Rhône-Alpes et a été présenté à la Route des 20 – ARA – 2019.\nAvec l’Aide à la recherche de la Région Auvergne-Rhône-Alpes\, l’Aide à la création du Conseil Général d’Ardèche.\nLa Tournoyante est une compagnie associée à Quelques p’Arts… – Centre National des Arts de la Rue et de l’Espace Public – Scène Auvergne-Rhône-Alpes. \n\nLe spectacle a lieu à La Forge – 130 rue Maurice Bourgeois. \nRÉSA EN LIGNE : 10\,80 € plein tarif\, 8\,80 € tarif réduit\nRéservation en ligne ici\nTARIFS SUR PLACE : 12 € plein tarif\, 10 € tarif réduit. \n 
URL:https://www.faverges-seythenex.fr/event/mu-spectacle-cirque/
CATEGORIES:Cirque
ATTACH;FMTTYPE=image/jpeg:https://www.faverges-seythenex.fr/wp-content/uploads/2020/02/Mü2.jpg
END:VEVENT
END:VCALENDAR