BEGIN:VCALENDAR
VERSION:2.0
PRODID:-//Faverges-Seythenex - ECPv6.15.18//NONSGML v1.0//EN
CALSCALE:GREGORIAN
METHOD:PUBLISH
X-WR-CALNAME:Faverges-Seythenex
X-ORIGINAL-URL:https://www.faverges-seythenex.fr
X-WR-CALDESC:Évènements pour Faverges-Seythenex
REFRESH-INTERVAL;VALUE=DURATION:PT1H
X-Robots-Tag:noindex
X-PUBLISHED-TTL:PT1H
BEGIN:VTIMEZONE
TZID:Europe/Paris
BEGIN:DAYLIGHT
TZOFFSETFROM:+0100
TZOFFSETTO:+0200
TZNAME:CEST
DTSTART:20250330T010000
END:DAYLIGHT
BEGIN:STANDARD
TZOFFSETFROM:+0200
TZOFFSETTO:+0100
TZNAME:CET
DTSTART:20251026T010000
END:STANDARD
BEGIN:DAYLIGHT
TZOFFSETFROM:+0100
TZOFFSETTO:+0200
TZNAME:CEST
DTSTART:20260329T010000
END:DAYLIGHT
BEGIN:STANDARD
TZOFFSETFROM:+0200
TZOFFSETTO:+0100
TZNAME:CET
DTSTART:20261025T010000
END:STANDARD
BEGIN:DAYLIGHT
TZOFFSETFROM:+0100
TZOFFSETTO:+0200
TZNAME:CEST
DTSTART:20270328T010000
END:DAYLIGHT
BEGIN:STANDARD
TZOFFSETFROM:+0200
TZOFFSETTO:+0100
TZNAME:CET
DTSTART:20271031T010000
END:STANDARD
END:VTIMEZONE
BEGIN:VEVENT
DTSTART;VALUE=DATE:20260401
DTEND;VALUE=DATE:20260504
DTSTAMP:20260426T015226
CREATED:20260327T131626Z
LAST-MODIFIED:20260327T132707Z
UID:39190-1775001600-1777852799@www.faverges-seythenex.fr
SUMMARY:Coin lecture Petit Patapon
DESCRIPTION:[Dans le cadre du Festival de la petite enfance « Petit Patapon »] \nL’espace Patapon s’installe à nouveau dans la médiathèque. Venez découvrir la sélection de livres autour du thème de cette édition 2026. \nDe 18 mois à 6 ans\nAccès libre aux heures d’ouverture de la médiathèque
URL:https://www.faverges-seythenex.fr/event/coin-lecture-petit-patapon/
LOCATION:Médiathèque de Faverges\, Rue Tissot-Dupont\, FAVERGES\, 74210
CATEGORIES:Jeune public
END:VEVENT
BEGIN:VEVENT
DTSTART;TZID=Europe/Paris:20260426T090000
DTEND;TZID=Europe/Paris:20260426T130000
DTSTAMP:20260426T015226
CREATED:20260330T092901Z
LAST-MODIFIED:20260330T092901Z
UID:39396-1777194000-1777208400@www.faverges-seythenex.fr
SUMMARY:Baby troc - 26 avril
DESCRIPTION:Troc : dimanche 26 avril de 9h à 13h au sous-sol de la Soierie\nDépôt : Pour les dons\, vous pourrez les déposer selon vos disponibilités du 20 au 24 avril entre 9h et 12h et 14h et 19h. \nVidez les armoires de vos enfants en leur offrant une nouvelle vie et prenez-en de nouveaux gratuitement ! Sont acceptés : vêtements\, jeux\, puériculture\, maternité\, livres. \nVous n’avez rien à échanger ? Vous êtes les bienvenus pour dénicher tout ce dont vos petits ont besoin. Vous n’avez rien à échanger ? Vous êtes les bienvenus pour dénicher tout ce dont vos petits ont besoin.
URL:https://www.faverges-seythenex.fr/event/baby-troc-26-avril/
LOCATION:Foyer municipal – La Soierie\, 141 route d'Albertville\, Faverges-Seythenex\, 74210\, France
ATTACH;FMTTYPE=image/jpeg:https://www.faverges-seythenex.fr/wp-content/uploads/2025/12/vue-du-haut-du-panier-post-partum-nature-morte.jpg
END:VEVENT
BEGIN:VEVENT
DTSTART;TZID=Europe/Paris:20260426T110000
DTEND;TZID=Europe/Paris:20260426T113000
DTSTAMP:20260426T015226
CREATED:20260422T081117Z
LAST-MODIFIED:20260422T081139Z
UID:39686-1777201200-1777203000@www.faverges-seythenex.fr
SUMMARY:Commémoration
DESCRIPTION:La Journée nationale du souvenir des victimes et des héros de la déportation sera célébrée ce dimanche 26 avril à 11 heures à Faverges-Seythenex. \nRendez-vous place Serand.
URL:https://www.faverges-seythenex.fr/event/commemoration-12/
ATTACH;FMTTYPE=image/jpeg:https://www.faverges-seythenex.fr/wp-content/uploads/2017/05/drapeau.jpg
END:VEVENT
END:VCALENDAR