BEGIN:VCALENDAR
VERSION:2.0
PRODID:-//Faverges-Seythenex - ECPv6.15.18//NONSGML v1.0//EN
CALSCALE:GREGORIAN
METHOD:PUBLISH
X-WR-CALNAME:Faverges-Seythenex
X-ORIGINAL-URL:https://www.faverges-seythenex.fr
X-WR-CALDESC:Évènements pour Faverges-Seythenex
REFRESH-INTERVAL;VALUE=DURATION:PT1H
X-Robots-Tag:noindex
X-PUBLISHED-TTL:PT1H
BEGIN:VTIMEZONE
TZID:Europe/Paris
BEGIN:DAYLIGHT
TZOFFSETFROM:+0100
TZOFFSETTO:+0200
TZNAME:CEST
DTSTART:20250330T010000
END:DAYLIGHT
BEGIN:STANDARD
TZOFFSETFROM:+0200
TZOFFSETTO:+0100
TZNAME:CET
DTSTART:20251026T010000
END:STANDARD
BEGIN:DAYLIGHT
TZOFFSETFROM:+0100
TZOFFSETTO:+0200
TZNAME:CEST
DTSTART:20260329T010000
END:DAYLIGHT
BEGIN:STANDARD
TZOFFSETFROM:+0200
TZOFFSETTO:+0100
TZNAME:CET
DTSTART:20261025T010000
END:STANDARD
BEGIN:DAYLIGHT
TZOFFSETFROM:+0100
TZOFFSETTO:+0200
TZNAME:CEST
DTSTART:20270328T010000
END:DAYLIGHT
BEGIN:STANDARD
TZOFFSETFROM:+0200
TZOFFSETTO:+0100
TZNAME:CET
DTSTART:20271031T010000
END:STANDARD
END:VTIMEZONE
BEGIN:VEVENT
DTSTART;VALUE=DATE:20260401
DTEND;VALUE=DATE:20260504
DTSTAMP:20260421T022349
CREATED:20260327T131626Z
LAST-MODIFIED:20260327T132707Z
UID:39190-1775001600-1777852799@www.faverges-seythenex.fr
SUMMARY:Coin lecture Petit Patapon
DESCRIPTION:[Dans le cadre du Festival de la petite enfance « Petit Patapon »] \nL’espace Patapon s’installe à nouveau dans la médiathèque. Venez découvrir la sélection de livres autour du thème de cette édition 2026. \nDe 18 mois à 6 ans\nAccès libre aux heures d’ouverture de la médiathèque
URL:https://www.faverges-seythenex.fr/event/coin-lecture-petit-patapon/
LOCATION:Médiathèque de Faverges\, Rue Tissot-Dupont\, FAVERGES\, 74210
CATEGORIES:Jeune public
END:VEVENT
BEGIN:VEVENT
DTSTART;TZID=Europe/Paris:20260421T143000
DTEND;TZID=Europe/Paris:20260421T153000
DTSTAMP:20260421T022349
CREATED:20260326T101728Z
LAST-MODIFIED:20260326T101728Z
UID:39150-1776781800-1776785400@www.faverges-seythenex.fr
SUMMARY:Vos rencontres de la formes - Gym douce - 21 avril
DESCRIPTION:Mélange d’exercices de pilates\, yoga et stretching. \nSans inscription\, venez directement sur place\, en fonction de vos envies\, de vos disponibilités… \nGratuit\, ouvert à tous.\nInfo au service des sports au 04 50 32 57 67
URL:https://www.faverges-seythenex.fr/event/vos-rencontres-de-la-formes-gym-douce-21-avril/
LOCATION:Dojo
CATEGORIES:Tous publics
END:VEVENT
BEGIN:VEVENT
DTSTART;TZID=Europe/Paris:20260421T150000
DTEND;TZID=Europe/Paris:20260421T183000
DTSTAMP:20260421T022349
CREATED:20260330T092542Z
LAST-MODIFIED:20260330T092542Z
UID:39392-1776783600-1776796200@www.faverges-seythenex.fr
SUMMARY:Don du sang - 21 avril
DESCRIPTION:www.dondesang.efs.sante.fr
URL:https://www.faverges-seythenex.fr/event/don-du-sang-21-avril/
LOCATION:Salle polyvalente
ATTACH;FMTTYPE=image/jpeg:https://www.faverges-seythenex.fr/wp-content/uploads/2017/02/logo-don-du-sang.jpg
END:VEVENT
END:VCALENDAR